{"text_format":"1","workbook":"xlsx","n_sheets":6,"sheets":["TU Calculator","2024NewCourses","Learning Paths","Wastewater Short School","Water Short School","Exam Cram"],"not_rendered":{"charts":0,"images":0,"macros":1,"external_links":0,"defined_names":9,"comments":2,"pivot_tables":0},"unopened":[],"bounds":{"document_bytes":16777216,"sheet_cells":100000,"rows_first":2000,"rows_last":500,"rows_between":2000,"halvings":0,"cell_chars":16384,"cell_head_chars":4096},"cells_cut":0,"cells_raw":0,"read":"whole","date_system":"1900"}

{"sheet":"TU Calculator","index":0,"n_rows":238,"n_cols":59,"rows_kept":238,"cut":false,"hidden":false,"merged":[[26,1,26,3],[29,1,29,5],[33,1,33,3],[16,1,16,2],[15,3,15,4],[16,3,16,4],[19,1,19,4],[21,1,21,4],[22,1,22,2],[22,3,22,4],[23,1,23,2],[23,3,23,4],[11,1,11,3],[18,1,18,4],[0,1,0,7],[4,1,4,4],[5,1,5,4],[14,1,14,4],[15,1,15,2],[7,1,7,4],[8,1,8,2],[8,3,8,4],[9,1,9,2],[9,3,9,4],[39,1,39,4],[40,1,40,2],[41,1,41,2],[35,1,35,4],[36,1,36,2],[36,3,36,4],[37,1,37,2],[37,3,37,4]]}
["My Training Plan","Colorado"]
[null,"Time, hrs","Max TUs","W","WW","I","D","C"]
["Total TUs Selected:",{"$f":"C151","v":0},{"$f":"F151","v":0},{"$f":"G151","v":0},0,0,0,0]
[]
[null,"Idaho"]
[null,"See Nevada, Wyoming, or Washington"]
[]
[null,"Indiana"]
[null,"Technical Hours",null,"General Hours"]
[null,{"$f":"N151","v":0},null,{"$f":"O151","v":0}]
[]
[null,"Maryland Hours",null,null,{"$f":"W151","v":0}]
[null,"Check Table for Process and/or Audience Type"]
[]
[null,"Nebraska"]
[null,"Municipal Hours",null,"Industrial Hours"]
[null,{"$f":"AD151","v":0},null,{"$f":"AE151","v":0}]
[]
[null,"New Mexico"]
[null,{"$f":"AG151","v":0}]
[]
[null,"Nevada"]
[null,"WW Contact Hours",null,"DW Contact Hours"]
[null,{"$f":"AI151","v":0},null,{"$f":"AK151","v":0}]
[null,"Check Table for D/S"]
[]
[null,"Ohio Contact Hours",null,null,{"$f":"AO151","v":0}]
[null,"Check Table for Audience Type"]
[]
[null,"Tennessee"]
[null,"Hours","WW","W","D","C"]
[null,{"$f":"C151","v":0},{"$f":"AR151","v":0},{"$f":"AS151","v":0},0,0]
[]
[null,"Washington State CEUs",null,null,{"$f":"AW151","v":0}]
[]
[null,"Wisconsin"]
[null,"Municipal Waterworks",null,"Wastewater"]
[null,{"$f":"AZ151","v":0},null,{"$f":"BA151","v":0}]
[]
[null,"Wyoming"]
[null,"Contact Hours",null,"Core","Rules"]
[null,{"$f":"BD151","v":0},null,{"$f":"BF151","v":0},0]
[]
["NOTE:  Select Courses on the \"On-Line Training Tab\" "]
["by using the dropdown menus in column A."]
["Courses Selected:"]
[" "," ",null,null,null,"Total Courses Selected:",{"$f":"COUNTIF('2024NewCourses'!A5:A94,\"Yes\")","v":0}]
[" "," "]
["MATH-004","Velocity and Hydraulic Detention Time"]
["LAB-010","Laboratory Testing - Biochemical Oxygen Demand"]
[" "," "]
[" "," "]
[" "," "]
[" "," "]
[" "," "]
[" "," "]
[" "," "]
[" "," "]
[" "," "]
[" "," "]
[" "," "]
[" "," "]
[" "," "]
[" "," "]
[" "," "]
[" "," "]
[" "," "]
[" "," "]
[" "," "]
[" "," "]
[" "," "]
[" "," "]
[" "," "]
[" "," "]
[" "," "]
[" "," "]
[" "," "]
[" "," "]
[" "," "]
[" "," "]
[" "," "]
[" "," "]
[" "," "]
[" "," "]
[" "," "]
[" "," "]
[" "," "]
[" "," "]
[" "," "]
[" "," "]
[" "," "]
[" "," "]
[" "," "]
[" "," "]
[" "," "]
[" "," "]
[" "," "]
[" "," "]
[" "," "]
[" "," "]
[" "," "]
[" "," "]
[" "," "]
[" "," "]
[" "," "]
[" "," "]
[" "," "]
[" "," "]
[" "," "]
[" "," "]
[" "," "]
[" "," "]
[" "," "]
[" "," "]
[" "," "]
[" "," "]
[" "," "]
[" "," "]
[" "," "]
[" "," "]
[" "," "]
[" "," "]
[" "," "]
[" "," "]
[" "," "]
[" "," "]
[" "," "]
[" "," "]
[" "," "]
[" "," "]
[" "," "]
[" "," "]
[" "," "]
[" "," "]
[]
[]
[]
[]
[]
[]
[]
[]
[]
[]
[]
[]
[]
[]
[]
[]
["Totals",{"$f":"SUM(B153:B245)","v":0},{"$f":"SUM(C153:C245)","v":0},0,0,0,0,0,0,0,0,0,0,0,0,0,0,0,0,0,0,0,0,0,0,0,0,0,0,0,0,0,0,0,0,0,0,0,0,0,0,0,0,0,0,0,0,0,0,0,0,0,0,0,0,0,0,0,0]
["Indigo Course ID","Course Title","Total Course Length with Questions, Hours","Colorado Approval No.\n2024","Colorado Approval No.\n2023","Colorado Max TUs","Colorado Water TUs","Colorado Wastewater TUs","Colorado Industrial TUs","Colorado Distribution TUs","Colorado Collection System TUs","Idaho Approvals","Indiana Approval No.","Indiana Technical Hrs","Indiana General Hrs","Kansas Approval Number","Kansas Water Hours","Kansas Wastewater Hours","Kansas Audience","Maryland Course Code","Maryland Audience","Maryland Process?","Maryland Hours","Massachusettes Approval","Massachusettes Training Contact Hours","Massachusettes Audience","Montana Water CECs","Montana Wastewater CECs","Montana Dual CECs","Nebraska Municipal Hours","Nebraska Industrial Hours","New Mexico\nTC","New Mexico Hours","Nevada Course No.","Nevada CEU Hours","Nevada Wastewater Approval","Nevada Drinking Water Hours","Ohio Approval No. \n(Pre Nov 2021)","Ohio Approval Number\n(Post Jan 2024)","Ohio Contact Hours (old)","Ohio Contact Hours (new)","Ohio Audience","Tennessee Activity Number","Tennessee Wastewater Hours","Tennessee Water Hours","Tennessee Distribution Hours","Tennessee Collection Systems Hours","Utah Approval","Washington State CEUs","Washington Approval No.","Wisconsin Approval No.","Wisconsin Municipal Waterworks","Wisconsin Wastewater","Wyoming Catalog Number","Wyoming\nArea","Wyoming\nHours","Wyoming\nCORE?","Wyoming Core Hours","Wyoming\nRules?"]
[{"$f":"IF('2024NewCourses'!$A5=\"Yes\",'2024NewCourses'!B5,\" \")","v":" "},{"$f":"IF('2024NewCourses'!$A5=\"Yes\",'2024NewCourses'!D5,\" \")","v":" "},{"$f":"IF('2024NewCourses'!$A5=\"Yes\",'2024NewCourses'!F5,\" \")","v":" "},{"$f":"IF('2024NewCourses'!$A5=\"Yes\",'2024NewCourses'!G5,\" \")","v":" "},{"$f":"IF('2024NewCourses'!$A5=\"Yes\",'2024NewCourses'!H5,\" \")","v":" "},{"$f":"IF('2024NewCourses'!$A5=\"Yes\",'2024NewCourses'!J5,\" \")","v":" "},{"$f":"IF('2024NewCourses'!$A5=\"Yes\",'2024NewCourses'!K5,\" \")","v":" "},{"$f":"IF('2024NewCourses'!$A5=\"Yes\",'2024NewCourses'!L5,\" \")","v":" "},{"$f":"IF('2024NewCourses'!$A5=\"Yes\",'2024NewCourses'!M5,\" \")","v":" "},{"$f":"IF('2024NewCourses'!$A5=\"Yes\",'2024NewCourses'!N5,\" \")","v":" "},{"$f":"IF('2024NewCourses'!$A5=\"Yes\",'2024NewCourses'!O5,\" \")","v":" "},{"$f":"IF('2024NewCourses'!$A5=\"Yes\",'2024NewCourses'!P5,\" \")","v":" "},{"$f":"IF('2024NewCourses'!$A5=\"Yes\",'2024NewCourses'!Q5,\" \")","v":" "},{"$f":"IF('2024NewCourses'!$A5=\"Yes\",'2024NewCourses'!R5,\" \")","v":" "},{"$f":"IF('2024NewCourses'!$A5=\"Yes\",'2024NewCourses'!S5,\" \")","v":" "},{"$f":"IF('2024NewCourses'!$A5=\"Yes\",'2024NewCourses'!T5,\" \")","v":" "},{"$f":"IF('2024NewCourses'!$A5=\"Yes\",'2024NewCourses'!U5,\" \")","v":" "},{"$f":"IF('2024NewCourses'!$A5=\"Yes\",'2024NewCourses'!V5,\" \")","v":" "},{"$f":"IF('2024NewCourses'!$A5=\"Yes\",'2024NewCourses'!W5,\" \")","v":" "},{"$f":"IF('2024NewCourses'!$A5=\"Yes\",'2024NewCourses'!X5,\" \")","v":" "},{"$f":"IF('2024NewCourses'!$A5=\"Yes\",'2024NewCourses'!Y5,\" \")","v":" "},{"$f":"IF('2024NewCourses'!$A5=\"Yes\",'2024NewCourses'!Z5,\" \")","v":" "},{"$f":"IF('2024NewCourses'!$A5=\"Yes\",'2024NewCourses'!AA5,\" \")","v":" "},{"$f":"IF('2024NewCourses'!$A5=\"Yes\",'2024NewCourses'!AB5,\" \")","v":" "},{"$f":"IF('2024NewCourses'!$A5=\"Yes\",'2024NewCourses'!AC5,\" \")","v":" "},{"$f":"IF('2024NewCourses'!$A5=\"Yes\",'2024NewCourses'!AD5,\" \")","v":" "},{"$f":"IF('2024NewCourses'!$A5=\"Yes\",'2024NewCourses'!AE5,\" \")","v":" "},{"$f":"IF('2024NewCourses'!$A5=\"Yes\",'2024NewCourses'!AF5,\" \")","v":" "},{"$f":"IF('2024NewCourses'!$A5=\"Yes\",'2024NewCourses'!AG5,\" \")","v":" "},{"$f":"IF('2024NewCourses'!$A5=\"Yes\",'2024NewCourses'!AH5,\" \")","v":" "},{"$f":"IF('2024NewCourses'!$A5=\"Yes\",'2024NewCourses'!AI5,\" \")","v":" "},{"$f":"IF('2024NewCourses'!$A5=\"Yes\",'2024NewCourses'!AJ5,\" \")","v":" "},{"$f":"IF('2024NewCourses'!$A5=\"Yes\",'2024NewCourses'!AK5,\" \")","v":" "},{"$f":"IF('2024NewCourses'!$A5=\"Yes\",'2024NewCourses'!AL5,\" \")","v":" "},{"$f":"IF('2024NewCourses'!$A5=\"Yes\",'2024NewCourses'!AM5,\" \")","v":" "},{"$f":"IF('2024NewCourses'!$A5=\"Yes\",'2024NewCourses'!AN5,\" \")","v":" "},{"$f":"IF('2024NewCourses'!$A5=\"Yes\",'2024NewCourses'!AO5,\" \")","v":" "},{"$f":"IF('2024NewCourses'!$A5=\"Yes\",'2024NewCourses'!AP5,\" \")","v":" "},{"$f":"IF('2024NewCourses'!$A5=\"Yes\",'2024NewCourses'!AQ5,\" \")","v":" "},{"$f":"IF('2024NewCourses'!$A5=\"Yes\",'2024NewCourses'!AR5,\" \")","v":" "},{"$f":"IF('2024NewCourses'!$A5=\"Yes\",'2024NewCourses'!AR5,\" \")","v":" "},{"$f":"IF('2024NewCourses'!$A5=\"Yes\",'2024NewCourses'!AS5,\" \")","v":" "},{"$f":"IF('2024NewCourses'!$A5=\"Yes\",'2024NewCourses'!AT5,\" \")","v":" "},{"$f":"IF('2024NewCourses'!$A5=\"Yes\",'2024NewCourses'!AU5,\" \")","v":" "},{"$f":"IF('2024NewCourses'!$A5=\"Yes\",'2024NewCourses'!AV5,\" \")","v":" "},{"$f":"IF('2024NewCourses'!$A5=\"Yes\",'2024NewCourses'!AW5,\" \")","v":" "},{"$f":"IF('2024NewCourses'!$A5=\"Yes\",'2024NewCourses'!AX5,\" \")","v":" "},{"$f":"IF('2024NewCourses'!$A5=\"Yes\",'2024NewCourses'!AY5,\" \")","v":" "},{"$f":"IF('2024NewCourses'!$A5=\"Yes\",'2024NewCourses'!AZ5,\" \")","v":" "},{"$f":"IF('2024NewCourses'!$A5=\"Yes\",'2024NewCourses'!BA5,\" \")","v":" "},{"$f":"IF('2024NewCourses'!$A5=\"Yes\",'2024NewCourses'!BB5,\" \")","v":" "},{"$f":"IF('2024NewCourses'!$A5=\"Yes\",'2024NewCourses'!BC5,\" \")","v":" "},{"$f":"IF('2024NewCourses'!$A5=\"Yes\",'2024NewCourses'!BD5,\" \")","v":" "},{"$f":"IF('2024NewCourses'!$A5=\"Yes\",'2024NewCourses'!BE5,\" \")","v":" "},{"$f":"IF('2024NewCourses'!$A5=\"Yes\",'2024NewCourses'!BF5,\" \")","v":" "},{"$f":"IF('2024NewCourses'!$A5=\"Yes\",'2024NewCourses'!BG5,\" \")","v":" "},{"$f":"IF('2024NewCourses'!$A5=\"Yes\",'2024NewCourses'!BH5,\" \")","v":" "},{"$f":"IF('2024NewCourses'!$A5=\"Yes\",'2024NewCourses'!BI5,\" \")","v":" "},{"$f":"IF('2024NewCourses'!$A5=\"Yes\",'2024NewCourses'!BJ5,\" \")","v":" "}]
[{"$f":"IF('2024NewCourses'!$A6=\"Yes\",'2024NewCourses'!B6,\" \")","v":" "},{"$f":"IF('2024NewCourses'!$A6=\"Yes\",'2024NewCourses'!D6,\" \")","v":" "},{"$f":"IF('2024NewCourses'!$A6=\"Yes\",'2024NewCourses'!F6,\" \")","v":" "},{"$f":"IF('2024NewCourses'!$A6=\"Yes\",'2024NewCourses'!G6,\" \")","v":" "},{"$f":"IF('2024NewCourses'!$A6=\"Yes\",'2024NewCourses'!H6,\" \")","v":" "},{"$f":"IF('2024NewCourses'!$A6=\"Yes\",'2024NewCourses'!J6,\" \")","v":" "},{"$f":"IF('2024NewCourses'!$A6=\"Yes\",'2024NewCourses'!K6,\" \")","v":" "},{"$f":"IF('2024NewCourses'!$A6=\"Yes\",'2024NewCourses'!L6,\" \")","v":" "},{"$f":"IF('2024NewCourses'!$A6=\"Yes\",'2024NewCourses'!M6,\" \")","v":" "},{"$f":"IF('2024NewCourses'!$A6=\"Yes\",'2024NewCourses'!N6,\" \")","v":" "},{"$f":"IF('2024NewCourses'!$A6=\"Yes\",'2024NewCourses'!O6,\" \")","v":" "},{"$f":"IF('2024NewCourses'!$A6=\"Yes\",'2024NewCourses'!P6,\" \")","v":" "},{"$f":"IF('2024NewCourses'!$A6=\"Yes\",'2024NewCourses'!Q6,\" \")","v":" "},{"$f":"IF('2024NewCourses'!$A6=\"Yes\",'2024NewCourses'!R6,\" \")","v":" "},{"$f":"IF('2024NewCourses'!$A6=\"Yes\",'2024NewCourses'!S6,\" \")","v":" "},{"$f":"IF('2024NewCourses'!$A6=\"Yes\",'2024NewCourses'!T6,\" \")","v":" "},{"$f":"IF('2024NewCourses'!$A6=\"Yes\",'2024NewCourses'!U6,\" \")","v":" "},{"$f":"IF('2024NewCourses'!$A6=\"Yes\",'2024NewCourses'!V6,\" \")","v":" "},{"$f":"IF('2024NewCourses'!$A6=\"Yes\",'2024NewCourses'!W6,\" \")","v":" "},{"$f":"IF('2024NewCourses'!$A6=\"Yes\",'2024NewCourses'!X6,\" \")","v":" "},{"$f":"IF('2024NewCourses'!$A6=\"Yes\",'2024NewCourses'!Y6,\" \")","v":" "},{"$f":"IF('2024NewCourses'!$A6=\"Yes\",'2024NewCourses'!Z6,\" \")","v":" "},{"$f":"IF('2024NewCourses'!$A6=\"Yes\",'2024NewCourses'!AA6,\" \")","v":" "},{"$f":"IF('2024NewCourses'!$A6=\"Yes\",'2024NewCourses'!AB6,\" \")","v":" "},{"$f":"IF('2024NewCourses'!$A6=\"Yes\",'2024NewCourses'!AC6,\" \")","v":" "},{"$f":"IF('2024NewCourses'!$A6=\"Yes\",'2024NewCourses'!AD6,\" \")","v":" "},{"$f":"IF('2024NewCourses'!$A6=\"Yes\",'2024NewCourses'!AE6,\" \")","v":" "},{"$f":"IF('2024NewCourses'!$A6=\"Yes\",'2024NewCourses'!AF6,\" \")","v":" "},{"$f":"IF('2024NewCourses'!$A6=\"Yes\",'2024NewCourses'!AG6,\" \")","v":" "},{"$f":"IF('2024NewCourses'!$A6=\"Yes\",'2024NewCourses'!AH6,\" \")","v":" "},{"$f":"IF('2024NewCourses'!$A6=\"Yes\",'2024NewCourses'!AI6,\" \")","v":" "},{"$f":"IF('2024NewCourses'!$A6=\"Yes\",'2024NewCourses'!AJ6,\" \")","v":" "},{"$f":"IF('2024NewCourses'!$A6=\"Yes\",'2024NewCourses'!AK6,\" \")","v":" "},{"$f":"IF('2024NewCourses'!$A6=\"Yes\",'2024NewCourses'!AL6,\" \")","v":" "},{"$f":"IF('2024NewCourses'!$A6=\"Yes\",'2024NewCourses'!AM6,\" \")","v":" "},{"$f":"IF('2024NewCourses'!$A6=\"Yes\",'2024NewCourses'!AN6,\" \")","v":" "},{"$f":"IF('2024NewCourses'!$A6=\"Yes\",'2024NewCourses'!AO6,\" \")","v":" "},{"$f":"IF('2024NewCourses'!$A6=\"Yes\",'2024NewCourses'!AP6,\" \")","v":" "},{"$f":"IF('2024NewCourses'!$A6=\"Yes\",'2024NewCourses'!AQ6,\" \")","v":" "},{"$f":"IF('2024NewCourses'!$A6=\"Yes\",'2024NewCourses'!AR6,\" \")","v":" "},{"$f":"IF('2024NewCourses'!$A6=\"Yes\",'2024NewCourses'!AR6,\" \")","v":" "},{"$f":"IF('2024NewCourses'!$A6=\"Yes\",'2024NewCourses'!AS6,\" \")","v":" "},{"$f":"IF('2024NewCourses'!$A6=\"Yes\",'2024NewCourses'!AT6,\" \")","v":" "},{"$f":"IF('2024NewCourses'!$A6=\"Yes\",'2024NewCourses'!AU6,\" \")","v":" "},{"$f":"IF('2024NewCourses'!$A6=\"Yes\",'2024NewCourses'!AV6,\" \")","v":" "},{"$f":"IF('2024NewCourses'!$A6=\"Yes\",'2024NewCourses'!AW6,\" \")","v":" "},{"$f":"IF('2024NewCourses'!$A6=\"Yes\",'2024NewCourses'!AX6,\" \")","v":" "},{"$f":"IF('2024NewCourses'!$A6=\"Yes\",'2024NewCourses'!AY6,\" \")","v":" "},{"$f":"IF('2024NewCourses'!$A6=\"Yes\",'2024NewCourses'!AZ6,\" \")","v":" "},{"$f":"IF('2024NewCourses'!$A6=\"Yes\",'2024NewCourses'!BA6,\" \")","v":" "},{"$f":"IF('2024NewCourses'!$A6=\"Yes\",'2024NewCourses'!BB6,\" \")","v":" "},{"$f":"IF('2024NewCourses'!$A6=\"Yes\",'2024NewCourses'!BC6,\" \")","v":" "},{"$f":"IF('2024NewCourses'!$A6=\"Yes\",'2024NewCourses'!BD6,\" \")","v":" "},{"$f":"IF('2024NewCourses'!$A6=\"Yes\",'2024NewCourses'!BE6,\" \")","v":" "},{"$f":"IF('2024NewCourses'!$A6=\"Yes\",'2024NewCourses'!BF6,\" \")","v":" "},{"$f":"IF('2024NewCourses'!$A6=\"Yes\",'2024NewCourses'!BG6,\" \")","v":" "},{"$f":"IF('2024NewCourses'!$A6=\"Yes\",'2024NewCourses'!BH6,\" \")","v":" "},{"$f":"IF('2024NewCourses'!$A6=\"Yes\",'2024NewCourses'!BI6,\" \")","v":" "},{"$f":"IF('2024NewCourses'!$A6=\"Yes\",'2024NewCourses'!BJ6,\" \")","v":" "}]
[{"$f":"IF('2024NewCourses'!$A7=\"Yes\",'2024NewCourses'!B7,\" \")","v":" "},{"$f":"IF('2024NewCourses'!$A7=\"Yes\",'2024NewCourses'!D7,\" \")","v":" "},{"$f":"IF('2024NewCourses'!$A7=\"Yes\",'2024NewCourses'!F7,\" \")","v":" "},{"$f":"IF('2024NewCourses'!$A7=\"Yes\",'2024NewCourses'!G7,\" \")","v":" "},{"$f":"IF('2024NewCourses'!$A7=\"Yes\",'2024NewCourses'!H7,\" \")","v":" "},{"$f":"IF('2024NewCourses'!$A7=\"Yes\",'2024NewCourses'!J7,\" \")","v":" "},{"$f":"IF('2024NewCourses'!$A7=\"Yes\",'2024NewCourses'!K7,\" \")","v":" "},{"$f":"IF('2024NewCourses'!$A7=\"Yes\",'2024NewCourses'!L7,\" \")","v":" "},{"$f":"IF('2024NewCourses'!$A7=\"Yes\",'2024NewCourses'!M7,\" \")","v":" "},{"$f":"IF('2024NewCourses'!$A7=\"Yes\",'2024NewCourses'!N7,\" \")","v":" "},{"$f":"IF('2024NewCourses'!$A7=\"Yes\",'2024NewCourses'!O7,\" \")","v":" "},{"$f":"IF('2024NewCourses'!$A7=\"Yes\",'2024NewCourses'!P7,\" \")","v":" "},{"$f":"IF('2024NewCourses'!$A7=\"Yes\",'2024NewCourses'!Q7,\" \")","v":" "},{"$f":"IF('2024NewCourses'!$A7=\"Yes\",'2024NewCourses'!R7,\" \")","v":" "},{"$f":"IF('2024NewCourses'!$A7=\"Yes\",'2024NewCourses'!S7,\" \")","v":" "},{"$f":"IF('2024NewCourses'!$A7=\"Yes\",'2024NewCourses'!T7,\" \")","v":" "},{"$f":"IF('2024NewCourses'!$A7=\"Yes\",'2024NewCourses'!U7,\" \")","v":" "},{"$f":"IF('2024NewCourses'!$A7=\"Yes\",'2024NewCourses'!V7,\" \")","v":" "},{"$f":"IF('2024NewCourses'!$A7=\"Yes\",'2024NewCourses'!W7,\" \")","v":" "},{"$f":"IF('2024NewCourses'!$A7=\"Yes\",'2024NewCourses'!X7,\" \")","v":" "},{"$f":"IF('2024NewCourses'!$A7=\"Yes\",'2024NewCourses'!Y7,\" \")","v":" "},{"$f":"IF('2024NewCourses'!$A7=\"Yes\",'2024NewCourses'!Z7,\" \")","v":" "},{"$f":"IF('2024NewCourses'!$A7=\"Yes\",'2024NewCourses'!AA7,\" \")","v":" "},{"$f":"IF('2024NewCourses'!$A7=\"Yes\",'2024NewCourses'!AB7,\" \")","v":" "},{"$f":"IF('2024NewCourses'!$A7=\"Yes\",'2024NewCourses'!AC7,\" \")","v":" "},{"$f":"IF('2024NewCourses'!$A7=\"Yes\",'2024NewCourses'!AD7,\" \")","v":" "},{"$f":"IF('2024NewCourses'!$A7=\"Yes\",'2024NewCourses'!AE7,\" \")","v":" "},{"$f":"IF('2024NewCourses'!$A7=\"Yes\",'2024NewCourses'!AF7,\" \")","v":" "},{"$f":"IF('2024NewCourses'!$A7=\"Yes\",'2024NewCourses'!AG7,\" \")","v":" "},{"$f":"IF('2024NewCourses'!$A7=\"Yes\",'2024NewCourses'!AH7,\" \")","v":" "},{"$f":"IF('2024NewCourses'!$A7=\"Yes\",'2024NewCourses'!AI7,\" \")","v":" "},{"$f":"IF('2024NewCourses'!$A7=\"Yes\",'2024NewCourses'!AJ7,\" \")","v":" "},{"$f":"IF('2024NewCourses'!$A7=\"Yes\",'2024NewCourses'!AK7,\" \")","v":" "},{"$f":"IF('2024NewCourses'!$A7=\"Yes\",'2024NewCourses'!AL7,\" \")","v":" "},{"$f":"IF('2024NewCourses'!$A7=\"Yes\",'2024NewCourses'!AM7,\" \")","v":" "},{"$f":"IF('2024NewCourses'!$A7=\"Yes\",'2024NewCourses'!AN7,\" \")","v":" "},{"$f":"IF('2024NewCourses'!$A7=\"Yes\",'2024NewCourses'!AO7,\" \")","v":" "},{"$f":"IF('2024NewCourses'!$A7=\"Yes\",'2024NewCourses'!AP7,\" \")","v":" "},{"$f":"IF('2024NewCourses'!$A7=\"Yes\",'2024NewCourses'!AQ7,\" \")","v":" "},{"$f":"IF('2024NewCourses'!$A7=\"Yes\",'2024NewCourses'!AR7,\" \")","v":" "},{"$f":"IF('2024NewCourses'!$A7=\"Yes\",'2024NewCourses'!AR7,\" \")","v":" "},{"$f":"IF('2024NewCourses'!$A7=\"Yes\",'2024NewCourses'!AS7,\" \")","v":" "},{"$f":"IF('2024NewCourses'!$A7=\"Yes\",'2024NewCourses'!AT7,\" \")","v":" "},{"$f":"IF('2024NewCourses'!$A7=\"Yes\",'2024NewCourses'!AU7,\" \")","v":" "},{"$f":"IF('2024NewCourses'!$A7=\"Yes\",'2024NewCourses'!AV7,\" \")","v":" "},{"$f":"IF('2024NewCourses'!$A7=\"Yes\",'2024NewCourses'!AW7,\" \")","v":" "},{"$f":"IF('2024NewCourses'!$A7=\"Yes\",'2024NewCourses'!AX7,\" \")","v":" "},{"$f":"IF('2024NewCourses'!$A7=\"Yes\",'2024NewCourses'!AY7,\" \")","v":" "},{"$f":"IF('2024NewCourses'!$A7=\"Yes\",'2024NewCourses'!AZ7,\" \")","v":" "},{"$f":"IF('2024NewCourses'!$A7=\"Yes\",'2024NewCourses'!BA7,\" \")","v":" "},{"$f":"IF('2024NewCourses'!$A7=\"Yes\",'2024NewCourses'!BB7,\" \")","v":" "},{"$f":"IF('2024NewCourses'!$A7=\"Yes\",'2024NewCourses'!BC7,\" \")","v":" "},{"$f":"IF('2024NewCourses'!$A7=\"Yes\",'2024NewCourses'!BD7,\" \")","v":" "},{"$f":"IF('2024NewCourses'!$A7=\"Yes\",'2024NewCourses'!BE7,\" \")","v":" "},{"$f":"IF('2024NewCourses'!$A7=\"Yes\",'2024NewCourses'!BF7,\" \")","v":" "},{"$f":"IF('2024NewCourses'!$A7=\"Yes\",'2024NewCourses'!BG7,\" \")","v":" "},{"$f":"IF('2024NewCourses'!$A7=\"Yes\",'2024NewCourses'!BH7,\" \")","v":" "},{"$f":"IF('2024NewCourses'!$A7=\"Yes\",'2024NewCourses'!BI7,\" \")","v":" "},{"$f":"IF('2024NewCourses'!$A7=\"Yes\",'2024NewCourses'!BJ7,\" \")","v":" "}]
[{"$f":"IF('2024NewCourses'!$A8=\"Yes\",'2024NewCourses'!B8,\" \")","v":" "},{"$f":"IF('2024NewCourses'!$A8=\"Yes\",'2024NewCourses'!D8,\" \")","v":" "},{"$f":"IF('2024NewCourses'!$A8=\"Yes\",'2024NewCourses'!F8,\" \")","v":" "},{"$f":"IF('2024NewCourses'!$A8=\"Yes\",'2024NewCourses'!G8,\" \")","v":" "},{"$f":"IF('2024NewCourses'!$A8=\"Yes\",'2024NewCourses'!H8,\" \")","v":" "},{"$f":"IF('2024NewCourses'!$A8=\"Yes\",'2024NewCourses'!J8,\" \")","v":" "},{"$f":"IF('2024NewCourses'!$A8=\"Yes\",'2024NewCourses'!K8,\" \")","v":" "},{"$f":"IF('2024NewCourses'!$A8=\"Yes\",'2024NewCourses'!L8,\" \")","v":" "},{"$f":"IF('2024NewCourses'!$A8=\"Yes\",'2024NewCourses'!M8,\" \")","v":" "},{"$f":"IF('2024NewCourses'!$A8=\"Yes\",'2024NewCourses'!N8,\" \")","v":" "},{"$f":"IF('2024NewCourses'!$A8=\"Yes\",'2024NewCourses'!O8,\" \")","v":" "},{"$f":"IF('2024NewCourses'!$A8=\"Yes\",'2024NewCourses'!P8,\" \")","v":" "},{"$f":"IF('2024NewCourses'!$A8=\"Yes\",'2024NewCourses'!Q8,\" \")","v":" "},{"$f":"IF('2024NewCourses'!$A8=\"Yes\",'2024NewCourses'!R8,\" \")","v":" "},{"$f":"IF('2024NewCourses'!$A8=\"Yes\",'2024NewCourses'!S8,\" \")","v":" "},{"$f":"IF('2024NewCourses'!$A8=\"Yes\",'2024NewCourses'!T8,\" \")","v":" "},{"$f":"IF('2024NewCourses'!$A8=\"Yes\",'2024NewCourses'!U8,\" \")","v":" "},{"$f":"IF('2024NewCourses'!$A8=\"Yes\",'2024NewCourses'!V8,\" \")","v":" "},{"$f":"IF('2024NewCourses'!$A8=\"Yes\",'2024NewCourses'!W8,\" \")","v":" "},{"$f":"IF('2024NewCourses'!$A8=\"Yes\",'2024NewCourses'!X8,\" \")","v":" "},{"$f":"IF('2024NewCourses'!$A8=\"Yes\",'2024NewCourses'!Y8,\" \")","v":" "},{"$f":"IF('2024NewCourses'!$A8=\"Yes\",'2024NewCourses'!Z8,\" \")","v":" "},{"$f":"IF('2024NewCourses'!$A8=\"Yes\",'2024NewCourses'!AA8,\" \")","v":" "},{"$f":"IF('2024NewCourses'!$A8=\"Yes\",'2024NewCourses'!AB8,\" \")","v":" "},{"$f":"IF('2024NewCourses'!$A8=\"Yes\",'2024NewCourses'!AC8,\" \")","v":" "},{"$f":"IF('2024NewCourses'!$A8=\"Yes\",'2024NewCourses'!AD8,\" \")","v":" "},{"$f":"IF('2024NewCourses'!$A8=\"Yes\",'2024NewCourses'!AE8,\" \")","v":" "},{"$f":"IF('2024NewCourses'!$A8=\"Yes\",'2024NewCourses'!AF8,\" \")","v":" "},{"$f":"IF('2024NewCourses'!$A8=\"Yes\",'2024NewCourses'!AG8,\" \")","v":" "},{"$f":"IF('2024NewCourses'!$A8=\"Yes\",'2024NewCourses'!AH8,\" \")","v":" "},{"$f":"IF('2024NewCourses'!$A8=\"Yes\",'2024NewCourses'!AI8,\" \")","v":" "},{"$f":"IF('2024NewCourses'!$A8=\"Yes\",'2024NewCourses'!AJ8,\" \")","v":" "},{"$f":"IF('2024NewCourses'!$A8=\"Yes\",'2024NewCourses'!AK8,\" \")","v":" "},{"$f":"IF('2024NewCourses'!$A8=\"Yes\",'2024NewCourses'!AL8,\" \")","v":" "},{"$f":"IF('2024NewCourses'!$A8=\"Yes\",'2024NewCourses'!AM8,\" \")","v":" "},{"$f":"IF('2024NewCourses'!$A8=\"Yes\",'2024NewCourses'!AN8,\" \")","v":" "},{"$f":"IF('2024NewCourses'!$A8=\"Yes\",'2024NewCourses'!AO8,\" \")","v":" "},{"$f":"IF('2024NewCourses'!$A8=\"Yes\",'2024NewCourses'!AP8,\" \")","v":" "},{"$f":"IF('2024NewCourses'!$A8=\"Yes\",'2024NewCourses'!AQ8,\" \")","v":" "},{"$f":"IF('2024NewCourses'!$A8=\"Yes\",'2024NewCourses'!AR8,\" \")","v":" "},{"$f":"IF('2024NewCourses'!$A8=\"Yes\",'2024NewCourses'!AR8,\" \")","v":" "},{"$f":"IF('2024NewCourses'!$A8=\"Yes\",'2024NewCourses'!AS8,\" \")","v":" "},{"$f":"IF('2024NewCourses'!$A8=\"Yes\",'2024NewCourses'!AT8,\" \")","v":" "},{"$f":"IF('2024NewCourses'!$A8=\"Yes\",'2024NewCourses'!AU8,\" \")","v":" "},{"$f":"IF('2024NewCourses'!$A8=\"Yes\",'2024NewCourses'!AV8,\" \")","v":" "},{"$f":"IF('2024NewCourses'!$A8=\"Yes\",'2024NewCourses'!AW8,\" \")","v":" "},{"$f":"IF('2024NewCourses'!$A8=\"Yes\",'2024NewCourses'!AX8,\" \")","v":" "},{"$f":"IF('2024NewCourses'!$A8=\"Yes\",'2024NewCourses'!AY8,\" \")","v":" "},{"$f":"IF('2024NewCourses'!$A8=\"Yes\",'2024NewCourses'!AZ8,\" \")","v":" "},{"$f":"IF('2024NewCourses'!$A8=\"Yes\",'2024NewCourses'!BA8,\" \")","v":" "},{"$f":"IF('2024NewCourses'!$A8=\"Yes\",'2024NewCourses'!BB8,\" \")","v":" "},{"$f":"IF('2024NewCourses'!$A8=\"Yes\",'2024NewCourses'!BC8,\" \")","v":" "},{"$f":"IF('2024NewCourses'!$A8=\"Yes\",'2024NewCourses'!BD8,\" \")","v":" "},{"$f":"IF('2024NewCourses'!$A8=\"Yes\",'2024NewCourses'!BE8,\" \")","v":" "},{"$f":"IF('2024NewCourses'!$A8=\"Yes\",'2024NewCourses'!BF8,\" \")","v":" "},{"$f":"IF('2024NewCourses'!$A8=\"Yes\",'2024NewCourses'!BG8,\" \")","v":" "},{"$f":"IF('2024NewCourses'!$A8=\"Yes\",'2024NewCourses'!BH8,\" \")","v":" "},{"$f":"IF('2024NewCourses'!$A8=\"Yes\",'2024NewCourses'!BI8,\" \")","v":" "},{"$f":"IF('2024NewCourses'!$A8=\"Yes\",'2024NewCourses'!BJ8,\" \")","v":" "}]
[{"$f":"IF('2024NewCourses'!$A9=\"Yes\",'2024NewCourses'!B9,\" \")","v":" "},{"$f":"IF('2024NewCourses'!$A9=\"Yes\",'2024NewCourses'!D9,\" \")","v":" "},{"$f":"IF('2024NewCourses'!$A9=\"Yes\",'2024NewCourses'!F9,\" \")","v":" "},{"$f":"IF('2024NewCourses'!$A9=\"Yes\",'2024NewCourses'!G9,\" \")","v":" "},{"$f":"IF('2024NewCourses'!$A9=\"Yes\",'2024NewCourses'!H9,\" \")","v":" "},{"$f":"IF('2024NewCourses'!$A9=\"Yes\",'2024NewCourses'!J9,\" \")","v":" "},{"$f":"IF('2024NewCourses'!$A9=\"Yes\",'2024NewCourses'!K9,\" \")","v":" "},{"$f":"IF('2024NewCourses'!$A9=\"Yes\",'2024NewCourses'!L9,\" \")","v":" "},{"$f":"IF('2024NewCourses'!$A9=\"Yes\",'2024NewCourses'!M9,\" \")","v":" "},{"$f":"IF('2024NewCourses'!$A9=\"Yes\",'2024NewCourses'!N9,\" \")","v":" "},{"$f":"IF('2024NewCourses'!$A9=\"Yes\",'2024NewCourses'!O9,\" \")","v":" "},{"$f":"IF('2024NewCourses'!$A9=\"Yes\",'2024NewCourses'!P9,\" \")","v":" "},{"$f":"IF('2024NewCourses'!$A9=\"Yes\",'2024NewCourses'!Q9,\" \")","v":" "},{"$f":"IF('2024NewCourses'!$A9=\"Yes\",'2024NewCourses'!R9,\" \")","v":" "},{"$f":"IF('2024NewCourses'!$A9=\"Yes\",'2024NewCourses'!S9,\" \")","v":" "},{"$f":"IF('2024NewCourses'!$A9=\"Yes\",'2024NewCourses'!T9,\" \")","v":" "},{"$f":"IF('2024NewCourses'!$A9=\"Yes\",'2024NewCourses'!U9,\" \")","v":" "},{"$f":"IF('2024NewCourses'!$A9=\"Yes\",'2024NewCourses'!V9,\" \")","v":" "},{"$f":"IF('2024NewCourses'!$A9=\"Yes\",'2024NewCourses'!W9,\" \")","v":" "},{"$f":"IF('2024NewCourses'!$A9=\"Yes\",'2024NewCourses'!X9,\" \")","v":" "},{"$f":"IF('2024NewCourses'!$A9=\"Yes\",'2024NewCourses'!Y9,\" \")","v":" "},{"$f":"IF('2024NewCourses'!$A9=\"Yes\",'2024NewCourses'!Z9,\" \")","v":" "},{"$f":"IF('2024NewCourses'!$A9=\"Yes\",'2024NewCourses'!AA9,\" \")","v":" "},{"$f":"IF('2024NewCourses'!$A9=\"Yes\",'2024NewCourses'!AB9,\" \")","v":" "},{"$f":"IF('2024NewCourses'!$A9=\"Yes\",'2024NewCourses'!AC9,\" \")","v":" "},{"$f":"IF('2024NewCourses'!$A9=\"Yes\",'2024NewCourses'!AD9,\" \")","v":" "},{"$f":"IF('2024NewCourses'!$A9=\"Yes\",'2024NewCourses'!AE9,\" \")","v":" "},{"$f":"IF('2024NewCourses'!$A9=\"Yes\",'2024NewCourses'!AF9,\" \")","v":" "},{"$f":"IF('2024NewCourses'!$A9=\"Yes\",'2024NewCourses'!AG9,\" \")","v":" "},{"$f":"IF('2024NewCourses'!$A9=\"Yes\",'2024NewCourses'!AH9,\" \")","v":" "},{"$f":"IF('2024NewCourses'!$A9=\"Yes\",'2024NewCourses'!AI9,\" \")","v":" "},{"$f":"IF('2024NewCourses'!$A9=\"Yes\",'2024NewCourses'!AJ9,\" \")","v":" "},{"$f":"IF('2024NewCourses'!$A9=\"Yes\",'2024NewCourses'!AK9,\" \")","v":" "},{"$f":"IF('2024NewCourses'!$A9=\"Yes\",'2024NewCourses'!AL9,\" \")","v":" "},{"$f":"IF('2024NewCourses'!$A9=\"Yes\",'2024NewCourses'!AM9,\" \")","v":" "},{"$f":"IF('2024NewCourses'!$A9=\"Yes\",'2024NewCourses'!AN9,\" \")","v":" "},{"$f":"IF('2024NewCourses'!$A9=\"Yes\",'2024NewCourses'!AO9,\" \")","v":" "},{"$f":"IF('2024NewCourses'!$A9=\"Yes\",'2024NewCourses'!AP9,\" \")","v":" "},{"$f":"IF('2024NewCourses'!$A9=\"Yes\",'2024NewCourses'!AQ9,\" \")","v":" "},{"$f":"IF('2024NewCourses'!$A9=\"Yes\",'2024NewCourses'!AR9,\" \")","v":" "},{"$f":"IF('2024NewCourses'!$A9=\"Yes\",'2024NewCourses'!AR9,\" \")","v":" "},{"$f":"IF('2024NewCourses'!$A9=\"Yes\",'2024NewCourses'!AS9,\" \")","v":" "},{"$f":"IF('2024NewCourses'!$A9=\"Yes\",'2024NewCourses'!AT9,\" \")","v":" "},{"$f":"IF('2024NewCourses'!$A9=\"Yes\",'2024NewCourses'!AU9,\" \")","v":" "},{"$f":"IF('2024NewCourses'!$A9=\"Yes\",'2024NewCourses'!AV9,\" \")","v":" "},{"$f":"IF('2024NewCourses'!$A9=\"Yes\",'2024NewCourses'!AW9,\" \")","v":" "},{"$f":"IF('2024NewCourses'!$A9=\"Yes\",'2024NewCourses'!AX9,\" \")","v":" "},{"$f":"IF('2024NewCourses'!$A9=\"Yes\",'2024NewCourses'!AY9,\" \")","v":" "},{"$f":"IF('2024NewCourses'!$A9=\"Yes\",'2024NewCourses'!AZ9,\" \")","v":" "},{"$f":"IF('2024NewCourses'!$A9=\"Yes\",'2024NewCourses'!BA9,\" \")","v":" "},{"$f":"IF('2024NewCourses'!$A9=\"Yes\",'2024NewCourses'!BB9,\" \")","v":" "},{"$f":"IF('2024NewCourses'!$A9=\"Yes\",'2024NewCourses'!BC9,\" \")","v":" "},{"$f":"IF('2024NewCourses'!$A9=\"Yes\",'2024NewCourses'!BD9,\" \")","v":" "},{"$f":"IF('2024NewCourses'!$A9=\"Yes\",'2024NewCourses'!BE9,\" \")","v":" "},{"$f":"IF('2024NewCourses'!$A9=\"Yes\",'2024NewCourses'!BF9,\" \")","v":" "},{"$f":"IF('2024NewCourses'!$A9=\"Yes\",'2024NewCourses'!BG9,\" \")","v":" "},{"$f":"IF('2024NewCourses'!$A9=\"Yes\",'2024NewCourses'!BH9,\" \")","v":" "},{"$f":"IF('2024NewCourses'!$A9=\"Yes\",'2024NewCourses'!BI9,\" \")","v":" "},{"$f":"IF('2024NewCourses'!$A9=\"Yes\",'2024NewCourses'!BJ9,\" \")","v":" "}]
[{"$f":"IF('2024NewCourses'!$A10=\"Yes\",'2024NewCourses'!B10,\" \")","v":" "},{"$f":"IF('2024NewCourses'!$A10=\"Yes\",'2024NewCourses'!D10,\" \")","v":" "},{"$f":"IF('2024NewCourses'!$A10=\"Yes\",'2024NewCourses'!F10,\" \")","v":" "},{"$f":"IF('2024NewCourses'!$A10=\"Yes\",'2024NewCourses'!G10,\" \")","v":" "},{"$f":"IF('2024NewCourses'!$A10=\"Yes\",'2024NewCourses'!H10,\" \")","v":" "},{"$f":"IF('2024NewCourses'!$A10=\"Yes\",'2024NewCourses'!J10,\" \")","v":" "},{"$f":"IF('2024NewCourses'!$A10=\"Yes\",'2024NewCourses'!K10,\" \")","v":" "},{"$f":"IF('2024NewCourses'!$A10=\"Yes\",'2024NewCourses'!L10,\" \")","v":" "},{"$f":"IF('2024NewCourses'!$A10=\"Yes\",'2024NewCourses'!M10,\" \")","v":" "},{"$f":"IF('2024NewCourses'!$A10=\"Yes\",'2024NewCourses'!N10,\" \")","v":" "},{"$f":"IF('2024NewCourses'!$A10=\"Yes\",'2024NewCourses'!O10,\" \")","v":" "},{"$f":"IF('2024NewCourses'!$A10=\"Yes\",'2024NewCourses'!P10,\" \")","v":" "},{"$f":"IF('2024NewCourses'!$A10=\"Yes\",'2024NewCourses'!Q10,\" \")","v":" "},{"$f":"IF('2024NewCourses'!$A10=\"Yes\",'2024NewCourses'!R10,\" \")","v":" "},{"$f":"IF('2024NewCourses'!$A10=\"Yes\",'2024NewCourses'!S10,\" \")","v":" "},{"$f":"IF('2024NewCourses'!$A10=\"Yes\",'2024NewCourses'!T10,\" \")","v":" "},{"$f":"IF('2024NewCourses'!$A10=\"Yes\",'2024NewCourses'!U10,\" \")","v":" "},{"$f":"IF('2024NewCourses'!$A10=\"Yes\",'2024NewCourses'!V10,\" \")","v":" "},{"$f":"IF('2024NewCourses'!$A10=\"Yes\",'2024NewCourses'!W10,\" \")","v":" "},{"$f":"IF('2024NewCourses'!$A10=\"Yes\",'2024NewCourses'!X10,\" \")","v":" "},{"$f":"IF('2024NewCourses'!$A10=\"Yes\",'2024NewCourses'!Y10,\" \")","v":" "},{"$f":"IF('2024NewCourses'!$A10=\"Yes\",'2024NewCourses'!Z10,\" \")","v":" "},{"$f":"IF('2024NewCourses'!$A10=\"Yes\",'2024NewCourses'!AA10,\" \")","v":" "},{"$f":"IF('2024NewCourses'!$A10=\"Yes\",'2024NewCourses'!AB10,\" \")","v":" "},{"$f":"IF('2024NewCourses'!$A10=\"Yes\",'2024NewCourses'!AC10,\" \")","v":" "},{"$f":"IF('2024NewCourses'!$A10=\"Yes\",'2024NewCourses'!AD10,\" \")","v":" "},{"$f":"IF('2024NewCourses'!$A10=\"Yes\",'2024NewCourses'!AE10,\" \")","v":" "},{"$f":"IF('2024NewCourses'!$A10=\"Yes\",'2024NewCourses'!AF10,\" \")","v":" "},{"$f":"IF('2024NewCourses'!$A10=\"Yes\",'2024NewCourses'!AG10,\" \")","v":" "},{"$f":"IF('2024NewCourses'!$A10=\"Yes\",'2024NewCourses'!AH10,\" \")","v":" "},{"$f":"IF('2024NewCourses'!$A10=\"Yes\",'2024NewCourses'!AI10,\" \")","v":" "},{"$f":"IF('2024NewCourses'!$A10=\"Yes\",'2024NewCourses'!AJ10,\" \")","v":" "},{"$f":"IF('2024NewCourses'!$A10=\"Yes\",'2024NewCourses'!AK10,\" \")","v":" "},{"$f":"IF('2024NewCourses'!$A10=\"Yes\",'2024NewCourses'!AL10,\" \")","v":" "},{"$f":"IF('2024NewCourses'!$A10=\"Yes\",'2024NewCourses'!AM10,\" \")","v":" "},{"$f":"IF('2024NewCourses'!$A10=\"Yes\",'2024NewCourses'!AN10,\" \")","v":" "},{"$f":"IF('2024NewCourses'!$A10=\"Yes\",'2024NewCourses'!AO10,\" \")","v":" "},{"$f":"IF('2024NewCourses'!$A10=\"Yes\",'2024NewCourses'!AP10,\" \")","v":" "},{"$f":"IF('2024NewCourses'!$A10=\"Yes\",'2024NewCourses'!AQ10,\" \")","v":" "},{"$f":"IF('2024NewCourses'!$A10=\"Yes\",'2024NewCourses'!AR10,\" \")","v":" "},{"$f":"IF('2024NewCourses'!$A10=\"Yes\",'2024NewCourses'!AR10,\" \")","v":" "},{"$f":"IF('2024NewCourses'!$A10=\"Yes\",'2024NewCourses'!AS10,\" \")","v":" "},{"$f":"IF('2024NewCourses'!$A10=\"Yes\",'2024NewCourses'!AT10,\" \")","v":" "},{"$f":"IF('2024NewCourses'!$A10=\"Yes\",'2024NewCourses'!AU10,\" \")","v":" "},{"$f":"IF('2024NewCourses'!$A10=\"Yes\",'2024NewCourses'!AV10,\" \")","v":" "},{"$f":"IF('2024NewCourses'!$A10=\"Yes\",'2024NewCourses'!AW10,\" \")","v":" "},{"$f":"IF('2024NewCourses'!$A10=\"Yes\",'2024NewCourses'!AX10,\" \")","v":" "},{"$f":"IF('2024NewCourses'!$A10=\"Yes\",'2024NewCourses'!AY10,\" \")","v":" "},{"$f":"IF('2024NewCourses'!$A10=\"Yes\",'2024NewCourses'!AZ10,\" \")","v":" "},{"$f":"IF('2024NewCourses'!$A10=\"Yes\",'2024NewCourses'!BA10,\" \")","v":" "},{"$f":"IF('2024NewCourses'!$A10=\"Yes\",'2024NewCourses'!BB10,\" \")","v":" "},{"$f":"IF('2024NewCourses'!$A10=\"Yes\",'2024NewCourses'!BC10,\" \")","v":" "},{"$f":"IF('2024NewCourses'!$A10=\"Yes\",'2024NewCourses'!BD10,\" \")","v":" "},{"$f":"IF('2024NewCourses'!$A10=\"Yes\",'2024NewCourses'!BE10,\" \")","v":" "},{"$f":"IF('2024NewCourses'!$A10=\"Yes\",'2024NewCourses'!BF10,\" \")","v":" "},{"$f":"IF('2024NewCourses'!$A10=\"Yes\",'2024NewCourses'!BG10,\" \")","v":" "},{"$f":"IF('2024NewCourses'!$A10=\"Yes\",'2024NewCourses'!BH10,\" \")","v":" "},{"$f":"IF('2024NewCourses'!$A10=\"Yes\",'2024NewCourses'!BI10,\" \")","v":" "},{"$f":"IF('2024NewCourses'!$A10=\"Yes\",'2024NewCourses'!BJ10,\" \")","v":" "}]
[{"$f":"IF('2024NewCourses'!$A11=\"Yes\",'2024NewCourses'!B11,\" \")","v":" "},{"$f":"IF('2024NewCourses'!$A11=\"Yes\",'2024NewCourses'!D11,\" \")","v":" "},{"$f":"IF('2024NewCourses'!$A11=\"Yes\",'2024NewCourses'!F11,\" \")","v":" "},{"$f":"IF('2024NewCourses'!$A11=\"Yes\",'2024NewCourses'!G11,\" \")","v":" "},{"$f":"IF('2024NewCourses'!$A11=\"Yes\",'2024NewCourses'!H11,\" \")","v":" "},{"$f":"IF('2024NewCourses'!$A11=\"Yes\",'2024NewCourses'!J11,\" \")","v":" "},{"$f":"IF('2024NewCourses'!$A11=\"Yes\",'2024NewCourses'!K11,\" \")","v":" "},{"$f":"IF('2024NewCourses'!$A11=\"Yes\",'2024NewCourses'!L11,\" \")","v":" "},{"$f":"IF('2024NewCourses'!$A11=\"Yes\",'2024NewCourses'!M11,\" \")","v":" "},{"$f":"IF('2024NewCourses'!$A11=\"Yes\",'2024NewCourses'!N11,\" \")","v":" "},{"$f":"IF('2024NewCourses'!$A11=\"Yes\",'2024NewCourses'!O11,\" \")","v":" "},{"$f":"IF('2024NewCourses'!$A11=\"Yes\",'2024NewCourses'!P11,\" \")","v":" "},{"$f":"IF('2024NewCourses'!$A11=\"Yes\",'2024NewCourses'!Q11,\" \")","v":" "},{"$f":"IF('2024NewCourses'!$A11=\"Yes\",'2024NewCourses'!R11,\" \")","v":" "},{"$f":"IF('2024NewCourses'!$A11=\"Yes\",'2024NewCourses'!S11,\" \")","v":" "},{"$f":"IF('2024NewCourses'!$A11=\"Yes\",'2024NewCourses'!T11,\" \")","v":" "},{"$f":"IF('2024NewCourses'!$A11=\"Yes\",'2024NewCourses'!U11,\" \")","v":" "},{"$f":"IF('2024NewCourses'!$A11=\"Yes\",'2024NewCourses'!V11,\" \")","v":" "},{"$f":"IF('2024NewCourses'!$A11=\"Yes\",'2024NewCourses'!W11,\" \")","v":" "},{"$f":"IF('2024NewCourses'!$A11=\"Yes\",'2024NewCourses'!X11,\" \")","v":" "},{"$f":"IF('2024NewCourses'!$A11=\"Yes\",'2024NewCourses'!Y11,\" \")","v":" "},{"$f":"IF('2024NewCourses'!$A11=\"Yes\",'2024NewCourses'!Z11,\" \")","v":" "},{"$f":"IF('2024NewCourses'!$A11=\"Yes\",'2024NewCourses'!AA11,\" \")","v":" "},{"$f":"IF('2024NewCourses'!$A11=\"Yes\",'2024NewCourses'!AB11,\" \")","v":" "},{"$f":"IF('2024NewCourses'!$A11=\"Yes\",'2024NewCourses'!AC11,\" \")","v":" "},{"$f":"IF('2024NewCourses'!$A11=\"Yes\",'2024NewCourses'!AD11,\" \")","v":" "},{"$f":"IF('2024NewCourses'!$A11=\"Yes\",'2024NewCourses'!AE11,\" \")","v":" "},{"$f":"IF('2024NewCourses'!$A11=\"Yes\",'2024NewCourses'!AF11,\" \")","v":" "},{"$f":"IF('2024NewCourses'!$A11=\"Yes\",'2024NewCourses'!AG11,\" \")","v":" "},{"$f":"IF('2024NewCourses'!$A11=\"Yes\",'2024NewCourses'!AH11,\" \")","v":" "},{"$f":"IF('2024NewCourses'!$A11=\"Yes\",'2024NewCourses'!AI11,\" \")","v":" "},{"$f":"IF('2024NewCourses'!$A11=\"Yes\",'2024NewCourses'!AJ11,\" \")","v":" "},{"$f":"IF('2024NewCourses'!$A11=\"Yes\",'2024NewCourses'!AK11,\" \")","v":" "},{"$f":"IF('2024NewCourses'!$A11=\"Yes\",'2024NewCourses'!AL11,\" \")","v":" "},{"$f":"IF('2024NewCourses'!$A11=\"Yes\",'2024NewCourses'!AM11,\" \")","v":" "},{"$f":"IF('2024NewCourses'!$A11=\"Yes\",'2024NewCourses'!AN11,\" \")","v":" "},{"$f":"IF('2024NewCourses'!$A11=\"Yes\",'2024NewCourses'!AO11,\" \")","v":" "},{"$f":"IF('2024NewCourses'!$A11=\"Yes\",'2024NewCourses'!AP11,\" \")","v":" "},{"$f":"IF('2024NewCourses'!$A11=\"Yes\",'2024NewCourses'!AQ11,\" \")","v":" "},{"$f":"IF('2024NewCourses'!$A11=\"Yes\",'2024NewCourses'!AR11,\" \")","v":" "},{"$f":"IF('2024NewCourses'!$A11=\"Yes\",'2024NewCourses'!AR11,\" \")","v":" "},{"$f":"IF('2024NewCourses'!$A11=\"Yes\",'2024NewCourses'!AS11,\" \")","v":" "},{"$f":"IF('2024NewCourses'!$A11=\"Yes\",'2024NewCourses'!AT11,\" \")","v":" "},{"$f":"IF('2024NewCourses'!$A11=\"Yes\",'2024NewCourses'!AU11,\" \")","v":" "},{"$f":"IF('2024NewCourses'!$A11=\"Yes\",'2024NewCourses'!AV11,\" \")","v":" "},{"$f":"IF('2024NewCourses'!$A11=\"Yes\",'2024NewCourses'!AW11,\" \")","v":" "},{"$f":"IF('2024NewCourses'!$A11=\"Yes\",'2024NewCourses'!AX11,\" \")","v":" "},{"$f":"IF('2024NewCourses'!$A11=\"Yes\",'2024NewCourses'!AY11,\" \")","v":" "},{"$f":"IF('2024NewCourses'!$A11=\"Yes\",'2024NewCourses'!AZ11,\" \")","v":" "},{"$f":"IF('2024NewCourses'!$A11=\"Yes\",'2024NewCourses'!BA11,\" \")","v":" "},{"$f":"IF('2024NewCourses'!$A11=\"Yes\",'2024NewCourses'!BB11,\" \")","v":" "},{"$f":"IF('2024NewCourses'!$A11=\"Yes\",'2024NewCourses'!BC11,\" \")","v":" "},{"$f":"IF('2024NewCourses'!$A11=\"Yes\",'2024NewCourses'!BD11,\" \")","v":" "},{"$f":"IF('2024NewCourses'!$A11=\"Yes\",'2024NewCourses'!BE11,\" \")","v":" "},{"$f":"IF('2024NewCourses'!$A11=\"Yes\",'2024NewCourses'!BF11,\" \")","v":" "},{"$f":"IF('2024NewCourses'!$A11=\"Yes\",'2024NewCourses'!BG11,\" \")","v":" "},{"$f":"IF('2024NewCourses'!$A11=\"Yes\",'2024NewCourses'!BH11,\" \")","v":" "},{"$f":"IF('2024NewCourses'!$A11=\"Yes\",'2024NewCourses'!BI11,\" \")","v":" "},{"$f":"IF('2024NewCourses'!$A11=\"Yes\",'2024NewCourses'!BJ11,\" \")","v":" "}]
[{"$f":"IF('2024NewCourses'!$A12=\"Yes\",'2024NewCourses'!B12,\" \")","v":" "},{"$f":"IF('2024NewCourses'!$A12=\"Yes\",'2024NewCourses'!D12,\" \")","v":" "},{"$f":"IF('2024NewCourses'!$A12=\"Yes\",'2024NewCourses'!F12,\" \")","v":" "},{"$f":"IF('2024NewCourses'!$A12=\"Yes\",'2024NewCourses'!G12,\" \")","v":" "},{"$f":"IF('2024NewCourses'!$A12=\"Yes\",'2024NewCourses'!H12,\" \")","v":" "},{"$f":"IF('2024NewCourses'!$A12=\"Yes\",'2024NewCourses'!J12,\" \")","v":" "},{"$f":"IF('2024NewCourses'!$A12=\"Yes\",'2024NewCourses'!K12,\" \")","v":" "},{"$f":"IF('2024NewCourses'!$A12=\"Yes\",'2024NewCourses'!L12,\" \")","v":" "},{"$f":"IF('2024NewCourses'!$A12=\"Yes\",'2024NewCourses'!M12,\" \")","v":" "},{"$f":"IF('2024NewCourses'!$A12=\"Yes\",'2024NewCourses'!N12,\" \")","v":" "},{"$f":"IF('2024NewCourses'!$A12=\"Yes\",'2024NewCourses'!O12,\" \")","v":" "},{"$f":"IF('2024NewCourses'!$A12=\"Yes\",'2024NewCourses'!P12,\" \")","v":" "},{"$f":"IF('2024NewCourses'!$A12=\"Yes\",'2024NewCourses'!Q12,\" \")","v":" "},{"$f":"IF('2024NewCourses'!$A12=\"Yes\",'2024NewCourses'!R12,\" \")","v":" "},{"$f":"IF('2024NewCourses'!$A12=\"Yes\",'2024NewCourses'!S12,\" \")","v":" "},{"$f":"IF('2024NewCourses'!$A12=\"Yes\",'2024NewCourses'!T12,\" \")","v":" "},{"$f":"IF('2024NewCourses'!$A12=\"Yes\",'2024NewCourses'!U12,\" \")","v":" "},{"$f":"IF('2024NewCourses'!$A12=\"Yes\",'2024NewCourses'!V12,\" \")","v":" "},{"$f":"IF('2024NewCourses'!$A12=\"Yes\",'2024NewCourses'!W12,\" \")","v":" "},{"$f":"IF('2024NewCourses'!$A12=\"Yes\",'2024NewCourses'!X12,\" \")","v":" "},{"$f":"IF('2024NewCourses'!$A12=\"Yes\",'2024NewCourses'!Y12,\" \")","v":" "},{"$f":"IF('2024NewCourses'!$A12=\"Yes\",'2024NewCourses'!Z12,\" \")","v":" "},{"$f":"IF('2024NewCourses'!$A12=\"Yes\",'2024NewCourses'!AA12,\" \")","v":" "},{"$f":"IF('2024NewCourses'!$A12=\"Yes\",'2024NewCourses'!AB12,\" \")","v":" "},{"$f":"IF('2024NewCourses'!$A12=\"Yes\",'2024NewCourses'!AC12,\" \")","v":" "},{"$f":"IF('2024NewCourses'!$A12=\"Yes\",'2024NewCourses'!AD12,\" \")","v":" "},{"$f":"IF('2024NewCourses'!$A12=\"Yes\",'2024NewCourses'!AE12,\" \")","v":" "},{"$f":"IF('2024NewCourses'!$A12=\"Yes\",'2024NewCourses'!AF12,\" \")","v":" "},{"$f":"IF('2024NewCourses'!$A12=\"Yes\",'2024NewCourses'!AG12,\" \")","v":" "},{"$f":"IF('2024NewCourses'!$A12=\"Yes\",'2024NewCourses'!AH12,\" \")","v":" "},{"$f":"IF('2024NewCourses'!$A12=\"Yes\",'2024NewCourses'!AI12,\" \")","v":" "},{"$f":"IF('2024NewCourses'!$A12=\"Yes\",'2024NewCourses'!AJ12,\" \")","v":" "},{"$f":"IF('2024NewCourses'!$A12=\"Yes\",'2024NewCourses'!AK12,\" \")","v":" "},{"$f":"IF('2024NewCourses'!$A12=\"Yes\",'2024NewCourses'!AL12,\" \")","v":" "},{"$f":"IF('2024NewCourses'!$A12=\"Yes\",'2024NewCourses'!AM12,\" \")","v":" "},{"$f":"IF('2024NewCourses'!$A12=\"Yes\",'2024NewCourses'!AN12,\" \")","v":" "},{"$f":"IF('2024NewCourses'!$A12=\"Yes\",'2024NewCourses'!AO12,\" \")","v":" "},{"$f":"IF('2024NewCourses'!$A12=\"Yes\",'2024NewCourses'!AP12,\" \")","v":" "},{"$f":"IF('2024NewCourses'!$A12=\"Yes\",'2024NewCourses'!AQ12,\" \")","v":" "},{"$f":"IF('2024NewCourses'!$A12=\"Yes\",'2024NewCourses'!AR12,\" \")","v":" "},{"$f":"IF('2024NewCourses'!$A12=\"Yes\",'2024NewCourses'!AR12,\" \")","v":" "},{"$f":"IF('2024NewCourses'!$A12=\"Yes\",'2024NewCourses'!AS12,\" \")","v":" "},{"$f":"IF('2024NewCourses'!$A12=\"Yes\",'2024NewCourses'!AT12,\" \")","v":" "},{"$f":"IF('2024NewCourses'!$A12=\"Yes\",'2024NewCourses'!AU12,\" \")","v":" "},{"$f":"IF('2024NewCourses'!$A12=\"Yes\",'2024NewCourses'!AV12,\" \")","v":" "},{"$f":"IF('2024NewCourses'!$A12=\"Yes\",'2024NewCourses'!AW12,\" \")","v":" "},{"$f":"IF('2024NewCourses'!$A12=\"Yes\",'2024NewCourses'!AX12,\" \")","v":" "},{"$f":"IF('2024NewCourses'!$A12=\"Yes\",'2024NewCourses'!AY12,\" \")","v":" "},{"$f":"IF('2024NewCourses'!$A12=\"Yes\",'2024NewCourses'!AZ12,\" \")","v":" "},{"$f":"IF('2024NewCourses'!$A12=\"Yes\",'2024NewCourses'!BA12,\" \")","v":" "},{"$f":"IF('2024NewCourses'!$A12=\"Yes\",'2024NewCourses'!BB12,\" \")","v":" "},{"$f":"IF('2024NewCourses'!$A12=\"Yes\",'2024NewCourses'!BC12,\" \")","v":" "},{"$f":"IF('2024NewCourses'!$A12=\"Yes\",'2024NewCourses'!BD12,\" \")","v":" "},{"$f":"IF('2024NewCourses'!$A12=\"Yes\",'2024NewCourses'!BE12,\" \")","v":" "},{"$f":"IF('2024NewCourses'!$A12=\"Yes\",'2024NewCourses'!BF12,\" \")","v":" "},{"$f":"IF('2024NewCourses'!$A12=\"Yes\",'2024NewCourses'!BG12,\" \")","v":" "},{"$f":"IF('2024NewCourses'!$A12=\"Yes\",'2024NewCourses'!BH12,\" \")","v":" "},{"$f":"IF('2024NewCourses'!$A12=\"Yes\",'2024NewCourses'!BI12,\" \")","v":" "},{"$f":"IF('2024NewCourses'!$A12=\"Yes\",'2024NewCourses'!BJ12,\" \")","v":" "}]
[{"$f":"IF('2024NewCourses'!$A13=\"Yes\",'2024NewCourses'!B13,\" \")","v":" "},{"$f":"IF('2024NewCourses'!$A13=\"Yes\",'2024NewCourses'!D13,\" \")","v":" "},{"$f":"IF('2024NewCourses'!$A13=\"Yes\",'2024NewCourses'!F13,\" \")","v":" "},{"$f":"IF('2024NewCourses'!$A13=\"Yes\",'2024NewCourses'!G13,\" \")","v":" "},{"$f":"IF('2024NewCourses'!$A13=\"Yes\",'2024NewCourses'!H13,\" \")","v":" "},{"$f":"IF('2024NewCourses'!$A13=\"Yes\",'2024NewCourses'!J13,\" \")","v":" "},{"$f":"IF('2024NewCourses'!$A13=\"Yes\",'2024NewCourses'!K13,\" \")","v":" "},{"$f":"IF('2024NewCourses'!$A13=\"Yes\",'2024NewCourses'!L13,\" \")","v":" "},{"$f":"IF('2024NewCourses'!$A13=\"Yes\",'2024NewCourses'!M13,\" \")","v":" "},{"$f":"IF('2024NewCourses'!$A13=\"Yes\",'2024NewCourses'!N13,\" \")","v":" "},{"$f":"IF('2024NewCourses'!$A13=\"Yes\",'2024NewCourses'!O13,\" \")","v":" "},{"$f":"IF('2024NewCourses'!$A13=\"Yes\",'2024NewCourses'!P13,\" \")","v":" "},{"$f":"IF('2024NewCourses'!$A13=\"Yes\",'2024NewCourses'!Q13,\" \")","v":" "},{"$f":"IF('2024NewCourses'!$A13=\"Yes\",'2024NewCourses'!R13,\" \")","v":" "},{"$f":"IF('2024NewCourses'!$A13=\"Yes\",'2024NewCourses'!S13,\" \")","v":" "},{"$f":"IF('2024NewCourses'!$A13=\"Yes\",'2024NewCourses'!T13,\" \")","v":" "},{"$f":"IF('2024NewCourses'!$A13=\"Yes\",'2024NewCourses'!U13,\" \")","v":" "},{"$f":"IF('2024NewCourses'!$A13=\"Yes\",'2024NewCourses'!V13,\" \")","v":" "},{"$f":"IF('2024NewCourses'!$A13=\"Yes\",'2024NewCourses'!W13,\" \")","v":" "},{"$f":"IF('2024NewCourses'!$A13=\"Yes\",'2024NewCourses'!X13,\" \")","v":" "},{"$f":"IF('2024NewCourses'!$A13=\"Yes\",'2024NewCourses'!Y13,\" \")","v":" "},{"$f":"IF('2024NewCourses'!$A13=\"Yes\",'2024NewCourses'!Z13,\" \")","v":" "},{"$f":"IF('2024NewCourses'!$A13=\"Yes\",'2024NewCourses'!AA13,\" \")","v":" "},{"$f":"IF('2024NewCourses'!$A13=\"Yes\",'2024NewCourses'!AB13,\" \")","v":" "},{"$f":"IF('2024NewCourses'!$A13=\"Yes\",'2024NewCourses'!AC13,\" \")","v":" "},{"$f":"IF('2024NewCourses'!$A13=\"Yes\",'2024NewCourses'!AD13,\" \")","v":" "},{"$f":"IF('2024NewCourses'!$A13=\"Yes\",'2024NewCourses'!AE13,\" \")","v":" "},{"$f":"IF('2024NewCourses'!$A13=\"Yes\",'2024NewCourses'!AF13,\" \")","v":" "},{"$f":"IF('2024NewCourses'!$A13=\"Yes\",'2024NewCourses'!AG13,\" \")","v":" "},{"$f":"IF('2024NewCourses'!$A13=\"Yes\",'2024NewCourses'!AH13,\" \")","v":" "},{"$f":"IF('2024NewCourses'!$A13=\"Yes\",'2024NewCourses'!AI13,\" \")","v":" "},{"$f":"IF('2024NewCourses'!$A13=\"Yes\",'2024NewCourses'!AJ13,\" \")","v":" "},{"$f":"IF('2024NewCourses'!$A13=\"Yes\",'2024NewCourses'!AK13,\" \")","v":" "},{"$f":"IF('2024NewCourses'!$A13=\"Yes\",'2024NewCourses'!AL13,\" \")","v":" "},{"$f":"IF('2024NewCourses'!$A13=\"Yes\",'2024NewCourses'!AM13,\" \")","v":" "},{"$f":"IF('2024NewCourses'!$A13=\"Yes\",'2024NewCourses'!AN13,\" \")","v":" "},{"$f":"IF('2024NewCourses'!$A13=\"Yes\",'2024NewCourses'!AO13,\" \")","v":" "},{"$f":"IF('2024NewCourses'!$A13=\"Yes\",'2024NewCourses'!AP13,\" \")","v":" "},{"$f":"IF('2024NewCourses'!$A13=\"Yes\",'2024NewCourses'!AQ13,\" \")","v":" "},{"$f":"IF('2024NewCourses'!$A13=\"Yes\",'2024NewCourses'!AR13,\" \")","v":" "},{"$f":"IF('2024NewCourses'!$A13=\"Yes\",'2024NewCourses'!AR13,\" \")","v":" "},{"$f":"IF('2024NewCourses'!$A13=\"Yes\",'2024NewCourses'!AS13,\" \")","v":" "},{"$f":"IF('2024NewCourses'!$A13=\"Yes\",'2024NewCourses'!AT13,\" \")","v":" "},{"$f":"IF('2024NewCourses'!$A13=\"Yes\",'2024NewCourses'!AU13,\" \")","v":" "},{"$f":"IF('2024NewCourses'!$A13=\"Yes\",'2024NewCourses'!AV13,\" \")","v":" "},{"$f":"IF('2024NewCourses'!$A13=\"Yes\",'2024NewCourses'!AW13,\" \")","v":" "},{"$f":"IF('2024NewCourses'!$A13=\"Yes\",'2024NewCourses'!AX13,\" \")","v":" "},{"$f":"IF('2024NewCourses'!$A13=\"Yes\",'2024NewCourses'!AY13,\" \")","v":" "},{"$f":"IF('2024NewCourses'!$A13=\"Yes\",'2024NewCourses'!AZ13,\" \")","v":" "},{"$f":"IF('2024NewCourses'!$A13=\"Yes\",'2024NewCourses'!BA13,\" \")","v":" "},{"$f":"IF('2024NewCourses'!$A13=\"Yes\",'2024NewCourses'!BB13,\" \")","v":" "},{"$f":"IF('2024NewCourses'!$A13=\"Yes\",'2024NewCourses'!BC13,\" \")","v":" "},{"$f":"IF('2024NewCourses'!$A13=\"Yes\",'2024NewCourses'!BD13,\" \")","v":" "},{"$f":"IF('2024NewCourses'!$A13=\"Yes\",'2024NewCourses'!BE13,\" \")","v":" "},{"$f":"IF('2024NewCourses'!$A13=\"Yes\",'2024NewCourses'!BF13,\" \")","v":" "},{"$f":"IF('2024NewCourses'!$A13=\"Yes\",'2024NewCourses'!BG13,\" \")","v":" "},{"$f":"IF('2024NewCourses'!$A13=\"Yes\",'2024NewCourses'!BH13,\" \")","v":" "},{"$f":"IF('2024NewCourses'!$A13=\"Yes\",'2024NewCourses'!BI13,\" \")","v":" "},{"$f":"IF('2024NewCourses'!$A13=\"Yes\",'2024NewCourses'!BJ13,\" \")","v":" "}]
[{"$f":"IF('2024NewCourses'!$A14=\"Yes\",'2024NewCourses'!B14,\" \")","v":" "},{"$f":"IF('2024NewCourses'!$A14=\"Yes\",'2024NewCourses'!D14,\" \")","v":" "},{"$f":"IF('2024NewCourses'!$A14=\"Yes\",'2024NewCourses'!F14,\" \")","v":" "},{"$f":"IF('2024NewCourses'!$A14=\"Yes\",'2024NewCourses'!G14,\" \")","v":" "},{"$f":"IF('2024NewCourses'!$A14=\"Yes\",'2024NewCourses'!H14,\" \")","v":" "},{"$f":"IF('2024NewCourses'!$A14=\"Yes\",'2024NewCourses'!J14,\" \")","v":" "},{"$f":"IF('2024NewCourses'!$A14=\"Yes\",'2024NewCourses'!K14,\" \")","v":" "},{"$f":"IF('2024NewCourses'!$A14=\"Yes\",'2024NewCourses'!L14,\" \")","v":" "},{"$f":"IF('2024NewCourses'!$A14=\"Yes\",'2024NewCourses'!M14,\" \")","v":" "},{"$f":"IF('2024NewCourses'!$A14=\"Yes\",'2024NewCourses'!N14,\" \")","v":" "},{"$f":"IF('2024NewCourses'!$A14=\"Yes\",'2024NewCourses'!O14,\" \")","v":" "},{"$f":"IF('2024NewCourses'!$A14=\"Yes\",'2024NewCourses'!P14,\" \")","v":" "},{"$f":"IF('2024NewCourses'!$A14=\"Yes\",'2024NewCourses'!Q14,\" \")","v":" "},{"$f":"IF('2024NewCourses'!$A14=\"Yes\",'2024NewCourses'!R14,\" \")","v":" "},{"$f":"IF('2024NewCourses'!$A14=\"Yes\",'2024NewCourses'!S14,\" \")","v":" "},{"$f":"IF('2024NewCourses'!$A14=\"Yes\",'2024NewCourses'!T14,\" \")","v":" "},{"$f":"IF('2024NewCourses'!$A14=\"Yes\",'2024NewCourses'!U14,\" \")","v":" "},{"$f":"IF('2024NewCourses'!$A14=\"Yes\",'2024NewCourses'!V14,\" \")","v":" "},{"$f":"IF('2024NewCourses'!$A14=\"Yes\",'2024NewCourses'!W14,\" \")","v":" "},{"$f":"IF('2024NewCourses'!$A14=\"Yes\",'2024NewCourses'!X14,\" \")","v":" "},{"$f":"IF('2024NewCourses'!$A14=\"Yes\",'2024NewCourses'!Y14,\" \")","v":" "},{"$f":"IF('2024NewCourses'!$A14=\"Yes\",'2024NewCourses'!Z14,\" \")","v":" "},{"$f":"IF('2024NewCourses'!$A14=\"Yes\",'2024NewCourses'!AA14,\" \")","v":" "},{"$f":"IF('2024NewCourses'!$A14=\"Yes\",'2024NewCourses'!AB14,\" \")","v":" "},{"$f":"IF('2024NewCourses'!$A14=\"Yes\",'2024NewCourses'!AC14,\" \")","v":" "},{"$f":"IF('2024NewCourses'!$A14=\"Yes\",'2024NewCourses'!AD14,\" \")","v":" "},{"$f":"IF('2024NewCourses'!$A14=\"Yes\",'2024NewCourses'!AE14,\" \")","v":" "},{"$f":"IF('2024NewCourses'!$A14=\"Yes\",'2024NewCourses'!AF14,\" \")","v":" "},{"$f":"IF('2024NewCourses'!$A14=\"Yes\",'2024NewCourses'!AG14,\" \")","v":" "},{"$f":"IF('2024NewCourses'!$A14=\"Yes\",'2024NewCourses'!AH14,\" \")","v":" "},{"$f":"IF('2024NewCourses'!$A14=\"Yes\",'2024NewCourses'!AI14,\" \")","v":" "},{"$f":"IF('2024NewCourses'!$A14=\"Yes\",'2024NewCourses'!AJ14,\" \")","v":" "},{"$f":"IF('2024NewCourses'!$A14=\"Yes\",'2024NewCourses'!AK14,\" \")","v":" "},{"$f":"IF('2024NewCourses'!$A14=\"Yes\",'2024NewCourses'!AL14,\" \")","v":" "},{"$f":"IF('2024NewCourses'!$A14=\"Yes\",'2024NewCourses'!AM14,\" \")","v":" "},{"$f":"IF('2024NewCourses'!$A14=\"Yes\",'2024NewCourses'!AN14,\" \")","v":" "},{"$f":"IF('2024NewCourses'!$A14=\"Yes\",'2024NewCourses'!AO14,\" \")","v":" "},{"$f":"IF('2024NewCourses'!$A14=\"Yes\",'2024NewCourses'!AP14,\" \")","v":" "},{"$f":"IF('2024NewCourses'!$A14=\"Yes\",'2024NewCourses'!AQ14,\" \")","v":" "},{"$f":"IF('2024NewCourses'!$A14=\"Yes\",'2024NewCourses'!AR14,\" \")","v":" "},{"$f":"IF('2024NewCourses'!$A14=\"Yes\",'2024NewCourses'!AR14,\" \")","v":" "},{"$f":"IF('2024NewCourses'!$A14=\"Yes\",'2024NewCourses'!AS14,\" \")","v":" "},{"$f":"IF('2024NewCourses'!$A14=\"Yes\",'2024NewCourses'!AT14,\" \")","v":" "},{"$f":"IF('2024NewCourses'!$A14=\"Yes\",'2024NewCourses'!AU14,\" \")","v":" "},{"$f":"IF('2024NewCourses'!$A14=\"Yes\",'2024NewCourses'!AV14,\" \")","v":" "},{"$f":"IF('2024NewCourses'!$A14=\"Yes\",'2024NewCourses'!AW14,\" \")","v":" "},{"$f":"IF('2024NewCourses'!$A14=\"Yes\",'2024NewCourses'!AX14,\" \")","v":" "},{"$f":"IF('2024NewCourses'!$A14=\"Yes\",'2024NewCourses'!AY14,\" \")","v":" "},{"$f":"IF('2024NewCourses'!$A14=\"Yes\",'2024NewCourses'!AZ14,\" \")","v":" "},{"$f":"IF('2024NewCourses'!$A14=\"Yes\",'2024NewCourses'!BA14,\" \")","v":" "},{"$f":"IF('2024NewCourses'!$A14=\"Yes\",'2024NewCourses'!BB14,\" \")","v":" "},{"$f":"IF('2024NewCourses'!$A14=\"Yes\",'2024NewCourses'!BC14,\" \")","v":" "},{"$f":"IF('2024NewCourses'!$A14=\"Yes\",'2024NewCourses'!BD14,\" \")","v":" "},{"$f":"IF('2024NewCourses'!$A14=\"Yes\",'2024NewCourses'!BE14,\" \")","v":" "},{"$f":"IF('2024NewCourses'!$A14=\"Yes\",'2024NewCourses'!BF14,\" \")","v":" "},{"$f":"IF('2024NewCourses'!$A14=\"Yes\",'2024NewCourses'!BG14,\" \")","v":" "},{"$f":"IF('2024NewCourses'!$A14=\"Yes\",'2024NewCourses'!BH14,\" \")","v":" "},{"$f":"IF('2024NewCourses'!$A14=\"Yes\",'2024NewCourses'!BI14,\" \")","v":" "},{"$f":"IF('2024NewCourses'!$A14=\"Yes\",'2024NewCourses'!BJ14,\" \")","v":" "}]
[{"$f":"IF('2024NewCourses'!$A16=\"Yes\",'2024NewCourses'!B16,\" \")","v":" "},{"$f":"IF('2024NewCourses'!$A16=\"Yes\",'2024NewCourses'!D16,\" \")","v":" "},{"$f":"IF('2024NewCourses'!$A16=\"Yes\",'2024NewCourses'!F16,\" \")","v":" "},{"$f":"IF('2024NewCourses'!$A16=\"Yes\",'2024NewCourses'!G16,\" \")","v":" "},{"$f":"IF('2024NewCourses'!$A16=\"Yes\",'2024NewCourses'!H16,\" \")","v":" "},{"$f":"IF('2024NewCourses'!$A16=\"Yes\",'2024NewCourses'!J16,\" \")","v":" "},{"$f":"IF('2024NewCourses'!$A16=\"Yes\",'2024NewCourses'!K16,\" \")","v":" "},{"$f":"IF('2024NewCourses'!$A16=\"Yes\",'2024NewCourses'!L16,\" \")","v":" "},{"$f":"IF('2024NewCourses'!$A16=\"Yes\",'2024NewCourses'!M16,\" \")","v":" "},{"$f":"IF('2024NewCourses'!$A16=\"Yes\",'2024NewCourses'!N16,\" \")","v":" "},{"$f":"IF('2024NewCourses'!$A16=\"Yes\",'2024NewCourses'!O16,\" \")","v":" "},{"$f":"IF('2024NewCourses'!$A16=\"Yes\",'2024NewCourses'!P16,\" \")","v":" "},{"$f":"IF('2024NewCourses'!$A16=\"Yes\",'2024NewCourses'!Q16,\" \")","v":" "},{"$f":"IF('2024NewCourses'!$A16=\"Yes\",'2024NewCourses'!R16,\" \")","v":" "},{"$f":"IF('2024NewCourses'!$A16=\"Yes\",'2024NewCourses'!S16,\" \")","v":" "},{"$f":"IF('2024NewCourses'!$A16=\"Yes\",'2024NewCourses'!T16,\" \")","v":" "},{"$f":"IF('2024NewCourses'!$A16=\"Yes\",'2024NewCourses'!U16,\" \")","v":" "},{"$f":"IF('2024NewCourses'!$A16=\"Yes\",'2024NewCourses'!V16,\" \")","v":" "},{"$f":"IF('2024NewCourses'!$A16=\"Yes\",'2024NewCourses'!W16,\" \")","v":" "},{"$f":"IF('2024NewCourses'!$A16=\"Yes\",'2024NewCourses'!X16,\" \")","v":" "},{"$f":"IF('2024NewCourses'!$A16=\"Yes\",'2024NewCourses'!Y16,\" \")","v":" "},{"$f":"IF('2024NewCourses'!$A16=\"Yes\",'2024NewCourses'!Z16,\" \")","v":" "},{"$f":"IF('2024NewCourses'!$A16=\"Yes\",'2024NewCourses'!AA16,\" \")","v":" "},{"$f":"IF('2024NewCourses'!$A16=\"Yes\",'2024NewCourses'!AB16,\" \")","v":" "},{"$f":"IF('2024NewCourses'!$A16=\"Yes\",'2024NewCourses'!AC16,\" \")","v":" "},{"$f":"IF('2024NewCourses'!$A16=\"Yes\",'2024NewCourses'!AD16,\" \")","v":" "},{"$f":"IF('2024NewCourses'!$A16=\"Yes\",'2024NewCourses'!AE16,\" \")","v":" "},{"$f":"IF('2024NewCourses'!$A16=\"Yes\",'2024NewCourses'!AF16,\" \")","v":" "},{"$f":"IF('2024NewCourses'!$A16=\"Yes\",'2024NewCourses'!AG16,\" \")","v":" "},{"$f":"IF('2024NewCourses'!$A16=\"Yes\",'2024NewCourses'!AH16,\" \")","v":" "},{"$f":"IF('2024NewCourses'!$A16=\"Yes\",'2024NewCourses'!AI16,\" \")","v":" "},{"$f":"IF('2024NewCourses'!$A16=\"Yes\",'2024NewCourses'!AJ16,\" \")","v":" "},{"$f":"IF('2024NewCourses'!$A16=\"Yes\",'2024NewCourses'!AK16,\" \")","v":" "},{"$f":"IF('2024NewCourses'!$A16=\"Yes\",'2024NewCourses'!AL16,\" \")","v":" "},{"$f":"IF('2024NewCourses'!$A16=\"Yes\",'2024NewCourses'!AM16,\" \")","v":" "},{"$f":"IF('2024NewCourses'!$A16=\"Yes\",'2024NewCourses'!AN16,\" \")","v":" "},{"$f":"IF('2024NewCourses'!$A16=\"Yes\",'2024NewCourses'!AO16,\" \")","v":" "},{"$f":"IF('2024NewCourses'!$A16=\"Yes\",'2024NewCourses'!AP16,\" \")","v":" "},{"$f":"IF('2024NewCourses'!$A16=\"Yes\",'2024NewCourses'!AQ16,\" \")","v":" "},{"$f":"IF('2024NewCourses'!$A16=\"Yes\",'2024NewCourses'!AR16,\" \")","v":" "},{"$f":"IF('2024NewCourses'!$A16=\"Yes\",'2024NewCourses'!AR16,\" \")","v":" "},{"$f":"IF('2024NewCourses'!$A16=\"Yes\",'2024NewCourses'!AS16,\" \")","v":" "},{"$f":"IF('2024NewCourses'!$A16=\"Yes\",'2024NewCourses'!AT16,\" \")","v":" "},{"$f":"IF('2024NewCourses'!$A16=\"Yes\",'2024NewCourses'!AU16,\" \")","v":" "},{"$f":"IF('2024NewCourses'!$A16=\"Yes\",'2024NewCourses'!AV16,\" \")","v":" "},{"$f":"IF('2024NewCourses'!$A16=\"Yes\",'2024NewCourses'!AW16,\" \")","v":" "},{"$f":"IF('2024NewCourses'!$A16=\"Yes\",'2024NewCourses'!AX16,\" \")","v":" "},{"$f":"IF('2024NewCourses'!$A16=\"Yes\",'2024NewCourses'!AY16,\" \")","v":" "},{"$f":"IF('2024NewCourses'!$A16=\"Yes\",'2024NewCourses'!AZ16,\" \")","v":" "},{"$f":"IF('2024NewCourses'!$A16=\"Yes\",'2024NewCourses'!BA16,\" \")","v":" "},{"$f":"IF('2024NewCourses'!$A16=\"Yes\",'2024NewCourses'!BB16,\" \")","v":" "},{"$f":"IF('2024NewCourses'!$A16=\"Yes\",'2024NewCourses'!BC16,\" \")","v":" "},{"$f":"IF('2024NewCourses'!$A16=\"Yes\",'2024NewCourses'!BD16,\" \")","v":" "},{"$f":"IF('2024NewCourses'!$A16=\"Yes\",'2024NewCourses'!BE16,\" \")","v":" "},{"$f":"IF('2024NewCourses'!$A16=\"Yes\",'2024NewCourses'!BF16,\" \")","v":" "},{"$f":"IF('2024NewCourses'!$A16=\"Yes\",'2024NewCourses'!BG16,\" \")","v":" "},{"$f":"IF('2024NewCourses'!$A16=\"Yes\",'2024NewCourses'!BH16,\" \")","v":" "},{"$f":"IF('2024NewCourses'!$A16=\"Yes\",'2024NewCourses'!BI16,\" \")","v":" "},{"$f":"IF('2024NewCourses'!$A16=\"Yes\",'2024NewCourses'!BJ16,\" \")","v":" "}]
[{"$f":"IF('2024NewCourses'!$A17=\"Yes\",'2024NewCourses'!B17,\" \")","v":" "},{"$f":"IF('2024NewCourses'!$A17=\"Yes\",'2024NewCourses'!D17,\" \")","v":" "},{"$f":"IF('2024NewCourses'!$A17=\"Yes\",'2024NewCourses'!F17,\" \")","v":" "},{"$f":"IF('2024NewCourses'!$A17=\"Yes\",'2024NewCourses'!G17,\" \")","v":" "},{"$f":"IF('2024NewCourses'!$A17=\"Yes\",'2024NewCourses'!H17,\" \")","v":" "},{"$f":"IF('2024NewCourses'!$A17=\"Yes\",'2024NewCourses'!J17,\" \")","v":" "},{"$f":"IF('2024NewCourses'!$A17=\"Yes\",'2024NewCourses'!K17,\" \")","v":" "},{"$f":"IF('2024NewCourses'!$A17=\"Yes\",'2024NewCourses'!L17,\" \")","v":" "},{"$f":"IF('2024NewCourses'!$A17=\"Yes\",'2024NewCourses'!M17,\" \")","v":" "},{"$f":"IF('2024NewCourses'!$A17=\"Yes\",'2024NewCourses'!N17,\" \")","v":" "},{"$f":"IF('2024NewCourses'!$A17=\"Yes\",'2024NewCourses'!O17,\" \")","v":" "},{"$f":"IF('2024NewCourses'!$A17=\"Yes\",'2024NewCourses'!P17,\" \")","v":" "},{"$f":"IF('2024NewCourses'!$A17=\"Yes\",'2024NewCourses'!Q17,\" \")","v":" "},{"$f":"IF('2024NewCourses'!$A17=\"Yes\",'2024NewCourses'!R17,\" \")","v":" "},{"$f":"IF('2024NewCourses'!$A17=\"Yes\",'2024NewCourses'!S17,\" \")","v":" "},{"$f":"IF('2024NewCourses'!$A17=\"Yes\",'2024NewCourses'!T17,\" \")","v":" "},{"$f":"IF('2024NewCourses'!$A17=\"Yes\",'2024NewCourses'!U17,\" \")","v":" "},{"$f":"IF('2024NewCourses'!$A17=\"Yes\",'2024NewCourses'!V17,\" \")","v":" "},{"$f":"IF('2024NewCourses'!$A17=\"Yes\",'2024NewCourses'!W17,\" \")","v":" "},{"$f":"IF('2024NewCourses'!$A17=\"Yes\",'2024NewCourses'!X17,\" \")","v":" "},{"$f":"IF('2024NewCourses'!$A17=\"Yes\",'2024NewCourses'!Y17,\" \")","v":" "},{"$f":"IF('2024NewCourses'!$A17=\"Yes\",'2024NewCourses'!Z17,\" \")","v":" "},{"$f":"IF('2024NewCourses'!$A17=\"Yes\",'2024NewCourses'!AA17,\" \")","v":" "},{"$f":"IF('2024NewCourses'!$A17=\"Yes\",'2024NewCourses'!AB17,\" \")","v":" "},{"$f":"IF('2024NewCourses'!$A17=\"Yes\",'2024NewCourses'!AC17,\" \")","v":" "},{"$f":"IF('2024NewCourses'!$A17=\"Yes\",'2024NewCourses'!AD17,\" \")","v":" "},{"$f":"IF('2024NewCourses'!$A17=\"Yes\",'2024NewCourses'!AE17,\" \")","v":" "},{"$f":"IF('2024NewCourses'!$A17=\"Yes\",'2024NewCourses'!AF17,\" \")","v":" "},{"$f":"IF('2024NewCourses'!$A17=\"Yes\",'2024NewCourses'!AG17,\" \")","v":" "},{"$f":"IF('2024NewCourses'!$A17=\"Yes\",'2024NewCourses'!AH17,\" \")","v":" "},{"$f":"IF('2024NewCourses'!$A17=\"Yes\",'2024NewCourses'!AI17,\" \")","v":" "},{"$f":"IF('2024NewCourses'!$A17=\"Yes\",'2024NewCourses'!AJ17,\" \")","v":" "},{"$f":"IF('2024NewCourses'!$A17=\"Yes\",'2024NewCourses'!AK17,\" \")","v":" "},{"$f":"IF('2024NewCourses'!$A17=\"Yes\",'2024NewCourses'!AL17,\" \")","v":" "},{"$f":"IF('2024NewCourses'!$A17=\"Yes\",'2024NewCourses'!AM17,\" \")","v":" "},{"$f":"IF('2024NewCourses'!$A17=\"Yes\",'2024NewCourses'!AN17,\" \")","v":" "},{"$f":"IF('2024NewCourses'!$A17=\"Yes\",'2024NewCourses'!AO17,\" \")","v":" "},{"$f":"IF('2024NewCourses'!$A17=\"Yes\",'2024NewCourses'!AP17,\" \")","v":" "},{"$f":"IF('2024NewCourses'!$A17=\"Yes\",'2024NewCourses'!AQ17,\" \")","v":" "},{"$f":"IF('2024NewCourses'!$A17=\"Yes\",'2024NewCourses'!AR17,\" \")","v":" "},{"$f":"IF('2024NewCourses'!$A17=\"Yes\",'2024NewCourses'!AR17,\" \")","v":" "},{"$f":"IF('2024NewCourses'!$A17=\"Yes\",'2024NewCourses'!AS17,\" \")","v":" "},{"$f":"IF('2024NewCourses'!$A17=\"Yes\",'2024NewCourses'!AT17,\" \")","v":" "},{"$f":"IF('2024NewCourses'!$A17=\"Yes\",'2024NewCourses'!AU17,\" \")","v":" "},{"$f":"IF('2024NewCourses'!$A17=\"Yes\",'2024NewCourses'!AV17,\" \")","v":" "},{"$f":"IF('2024NewCourses'!$A17=\"Yes\",'2024NewCourses'!AW17,\" \")","v":" "},{"$f":"IF('2024NewCourses'!$A17=\"Yes\",'2024NewCourses'!AX17,\" \")","v":" "},{"$f":"IF('2024NewCourses'!$A17=\"Yes\",'2024NewCourses'!AY17,\" \")","v":" "},{"$f":"IF('2024NewCourses'!$A17=\"Yes\",'2024NewCourses'!AZ17,\" \")","v":" "},{"$f":"IF('2024NewCourses'!$A17=\"Yes\",'2024NewCourses'!BA17,\" \")","v":" "},{"$f":"IF('2024NewCourses'!$A17=\"Yes\",'2024NewCourses'!BB17,\" \")","v":" "},{"$f":"IF('2024NewCourses'!$A17=\"Yes\",'2024NewCourses'!BC17,\" \")","v":" "},{"$f":"IF('2024NewCourses'!$A17=\"Yes\",'2024NewCourses'!BD17,\" \")","v":" "},{"$f":"IF('2024NewCourses'!$A17=\"Yes\",'2024NewCourses'!BE17,\" \")","v":" "},{"$f":"IF('2024NewCourses'!$A17=\"Yes\",'2024NewCourses'!BF17,\" \")","v":" "},{"$f":"IF('2024NewCourses'!$A17=\"Yes\",'2024NewCourses'!BG17,\" \")","v":" "},{"$f":"IF('2024NewCourses'!$A17=\"Yes\",'2024NewCourses'!BH17,\" \")","v":" "},{"$f":"IF('2024NewCourses'!$A17=\"Yes\",'2024NewCourses'!BI17,\" \")","v":" "},{"$f":"IF('2024NewCourses'!$A17=\"Yes\",'2024NewCourses'!BJ17,\" \")","v":" "}]
[{"$f":"IF('2024NewCourses'!$A18=\"Yes\",'2024NewCourses'!B18,\" \")","v":" "},{"$f":"IF('2024NewCourses'!$A18=\"Yes\",'2024NewCourses'!D18,\" \")","v":" "},{"$f":"IF('2024NewCourses'!$A18=\"Yes\",'2024NewCourses'!F18,\" \")","v":" "},{"$f":"IF('2024NewCourses'!$A18=\"Yes\",'2024NewCourses'!G18,\" \")","v":" "},{"$f":"IF('2024NewCourses'!$A18=\"Yes\",'2024NewCourses'!H18,\" \")","v":" "},{"$f":"IF('2024NewCourses'!$A18=\"Yes\",'2024NewCourses'!J18,\" \")","v":" "},{"$f":"IF('2024NewCourses'!$A18=\"Yes\",'2024NewCourses'!K18,\" \")","v":" "},{"$f":"IF('2024NewCourses'!$A18=\"Yes\",'2024NewCourses'!L18,\" \")","v":" "},{"$f":"IF('2024NewCourses'!$A18=\"Yes\",'2024NewCourses'!M18,\" \")","v":" "},{"$f":"IF('2024NewCourses'!$A18=\"Yes\",'2024NewCourses'!N18,\" \")","v":" "},{"$f":"IF('2024NewCourses'!$A18=\"Yes\",'2024NewCourses'!O18,\" \")","v":" "},{"$f":"IF('2024NewCourses'!$A18=\"Yes\",'2024NewCourses'!P18,\" \")","v":" "},{"$f":"IF('2024NewCourses'!$A18=\"Yes\",'2024NewCourses'!Q18,\" \")","v":" "},{"$f":"IF('2024NewCourses'!$A18=\"Yes\",'2024NewCourses'!R18,\" \")","v":" "},{"$f":"IF('2024NewCourses'!$A18=\"Yes\",'2024NewCourses'!S18,\" \")","v":" "},{"$f":"IF('2024NewCourses'!$A18=\"Yes\",'2024NewCourses'!T18,\" \")","v":" "},{"$f":"IF('2024NewCourses'!$A18=\"Yes\",'2024NewCourses'!U18,\" \")","v":" "},{"$f":"IF('2024NewCourses'!$A18=\"Yes\",'2024NewCourses'!V18,\" \")","v":" "},{"$f":"IF('2024NewCourses'!$A18=\"Yes\",'2024NewCourses'!W18,\" \")","v":" "},{"$f":"IF('2024NewCourses'!$A18=\"Yes\",'2024NewCourses'!X18,\" \")","v":" "},{"$f":"IF('2024NewCourses'!$A18=\"Yes\",'2024NewCourses'!Y18,\" \")","v":" "},{"$f":"IF('2024NewCourses'!$A18=\"Yes\",'2024NewCourses'!Z18,\" \")","v":" "},{"$f":"IF('2024NewCourses'!$A18=\"Yes\",'2024NewCourses'!AA18,\" \")","v":" "},{"$f":"IF('2024NewCourses'!$A18=\"Yes\",'2024NewCourses'!AB18,\" \")","v":" "},{"$f":"IF('2024NewCourses'!$A18=\"Yes\",'2024NewCourses'!AC18,\" \")","v":" "},{"$f":"IF('2024NewCourses'!$A18=\"Yes\",'2024NewCourses'!AD18,\" \")","v":" "},{"$f":"IF('2024NewCourses'!$A18=\"Yes\",'2024NewCourses'!AE18,\" \")","v":" "},{"$f":"IF('2024NewCourses'!$A18=\"Yes\",'2024NewCourses'!AF18,\" \")","v":" "},{"$f":"IF('2024NewCourses'!$A18=\"Yes\",'2024NewCourses'!AG18,\" \")","v":" "},{"$f":"IF('2024NewCourses'!$A18=\"Yes\",'2024NewCourses'!AH18,\" \")","v":" "},{"$f":"IF('2024NewCourses'!$A18=\"Yes\",'2024NewCourses'!AI18,\" \")","v":" "},{"$f":"IF('2024NewCourses'!$A18=\"Yes\",'2024NewCourses'!AJ18,\" \")","v":" "},{"$f":"IF('2024NewCourses'!$A18=\"Yes\",'2024NewCourses'!AK18,\" \")","v":" "},{"$f":"IF('2024NewCourses'!$A18=\"Yes\",'2024NewCourses'!AL18,\" \")","v":" "},{"$f":"IF('2024NewCourses'!$A18=\"Yes\",'2024NewCourses'!AM18,\" \")","v":" "},{"$f":"IF('2024NewCourses'!$A18=\"Yes\",'2024NewCourses'!AN18,\" \")","v":" "},{"$f":"IF('2024NewCourses'!$A18=\"Yes\",'2024NewCourses'!AO18,\" \")","v":" "},{"$f":"IF('2024NewCourses'!$A18=\"Yes\",'2024NewCourses'!AP18,\" \")","v":" "},{"$f":"IF('2024NewCourses'!$A18=\"Yes\",'2024NewCourses'!AQ18,\" \")","v":" "},{"$f":"IF('2024NewCourses'!$A18=\"Yes\",'2024NewCourses'!AR18,\" \")","v":" "},{"$f":"IF('2024NewCourses'!$A18=\"Yes\",'2024NewCourses'!AR18,\" \")","v":" "},{"$f":"IF('2024NewCourses'!$A18=\"Yes\",'2024NewCourses'!AS18,\" \")","v":" "},{"$f":"IF('2024NewCourses'!$A18=\"Yes\",'2024NewCourses'!AT18,\" \")","v":" "},{"$f":"IF('2024NewCourses'!$A18=\"Yes\",'2024NewCourses'!AU18,\" \")","v":" "},{"$f":"IF('2024NewCourses'!$A18=\"Yes\",'2024NewCourses'!AV18,\" \")","v":" "},{"$f":"IF('2024NewCourses'!$A18=\"Yes\",'2024NewCourses'!AW18,\" \")","v":" "},{"$f":"IF('2024NewCourses'!$A18=\"Yes\",'2024NewCourses'!AX18,\" \")","v":" "},{"$f":"IF('2024NewCourses'!$A18=\"Yes\",'2024NewCourses'!AY18,\" \")","v":" "},{"$f":"IF('2024NewCourses'!$A18=\"Yes\",'2024NewCourses'!AZ18,\" \")","v":" "},{"$f":"IF('2024NewCourses'!$A18=\"Yes\",'2024NewCourses'!BA18,\" \")","v":" "},{"$f":"IF('2024NewCourses'!$A18=\"Yes\",'2024NewCourses'!BB18,\" \")","v":" "},{"$f":"IF('2024NewCourses'!$A18=\"Yes\",'2024NewCourses'!BC18,\" \")","v":" "},{"$f":"IF('2024NewCourses'!$A18=\"Yes\",'2024NewCourses'!BD18,\" \")","v":" "},{"$f":"IF('2024NewCourses'!$A18=\"Yes\",'2024NewCourses'!BE18,\" \")","v":" "},{"$f":"IF('2024NewCourses'!$A18=\"Yes\",'2024NewCourses'!BF18,\" \")","v":" "},{"$f":"IF('2024NewCourses'!$A18=\"Yes\",'2024NewCourses'!BG18,\" \")","v":" "},{"$f":"IF('2024NewCourses'!$A18=\"Yes\",'2024NewCourses'!BH18,\" \")","v":" "},{"$f":"IF('2024NewCourses'!$A18=\"Yes\",'2024NewCourses'!BI18,\" \")","v":" "},{"$f":"IF('2024NewCourses'!$A18=\"Yes\",'2024NewCourses'!BJ18,\" \")","v":" "}]
[{"$f":"IF('2024NewCourses'!$A19=\"Yes\",'2024NewCourses'!B19,\" \")","v":" "},{"$f":"IF('2024NewCourses'!$A19=\"Yes\",'2024NewCourses'!D19,\" \")","v":" "},{"$f":"IF('2024NewCourses'!$A19=\"Yes\",'2024NewCourses'!F19,\" \")","v":" "},{"$f":"IF('2024NewCourses'!$A19=\"Yes\",'2024NewCourses'!G19,\" \")","v":" "},{"$f":"IF('2024NewCourses'!$A19=\"Yes\",'2024NewCourses'!H19,\" \")","v":" "},{"$f":"IF('2024NewCourses'!$A19=\"Yes\",'2024NewCourses'!J19,\" \")","v":" "},{"$f":"IF('2024NewCourses'!$A19=\"Yes\",'2024NewCourses'!K19,\" \")","v":" "},{"$f":"IF('2024NewCourses'!$A19=\"Yes\",'2024NewCourses'!L19,\" \")","v":" "},{"$f":"IF('2024NewCourses'!$A19=\"Yes\",'2024NewCourses'!M19,\" \")","v":" "},{"$f":"IF('2024NewCourses'!$A19=\"Yes\",'2024NewCourses'!N19,\" \")","v":" "},{"$f":"IF('2024NewCourses'!$A19=\"Yes\",'2024NewCourses'!O19,\" \")","v":" "},{"$f":"IF('2024NewCourses'!$A19=\"Yes\",'2024NewCourses'!P19,\" \")","v":" "},{"$f":"IF('2024NewCourses'!$A19=\"Yes\",'2024NewCourses'!Q19,\" \")","v":" "},{"$f":"IF('2024NewCourses'!$A19=\"Yes\",'2024NewCourses'!R19,\" \")","v":" "},{"$f":"IF('2024NewCourses'!$A19=\"Yes\",'2024NewCourses'!S19,\" \")","v":" "},{"$f":"IF('2024NewCourses'!$A19=\"Yes\",'2024NewCourses'!T19,\" \")","v":" "},{"$f":"IF('2024NewCourses'!$A19=\"Yes\",'2024NewCourses'!U19,\" \")","v":" "},{"$f":"IF('2024NewCourses'!$A19=\"Yes\",'2024NewCourses'!V19,\" \")","v":" "},{"$f":"IF('2024NewCourses'!$A19=\"Yes\",'2024NewCourses'!W19,\" \")","v":" "},{"$f":"IF('2024NewCourses'!$A19=\"Yes\",'2024NewCourses'!X19,\" \")","v":" "},{"$f":"IF('2024NewCourses'!$A19=\"Yes\",'2024NewCourses'!Y19,\" \")","v":" "},{"$f":"IF('2024NewCourses'!$A19=\"Yes\",'2024NewCourses'!Z19,\" \")","v":" "},{"$f":"IF('2024NewCourses'!$A19=\"Yes\",'2024NewCourses'!AA19,\" \")","v":" "},{"$f":"IF('2024NewCourses'!$A19=\"Yes\",'2024NewCourses'!AB19,\" \")","v":" "},{"$f":"IF('2024NewCourses'!$A19=\"Yes\",'2024NewCourses'!AC19,\" \")","v":" "},{"$f":"IF('2024NewCourses'!$A19=\"Yes\",'2024NewCourses'!AD19,\" \")","v":" "},{"$f":"IF('2024NewCourses'!$A19=\"Yes\",'2024NewCourses'!AE19,\" \")","v":" "},{"$f":"IF('2024NewCourses'!$A19=\"Yes\",'2024NewCourses'!AF19,\" \")","v":" "},{"$f":"IF('2024NewCourses'!$A19=\"Yes\",'2024NewCourses'!AG19,\" \")","v":" "},{"$f":"IF('2024NewCourses'!$A19=\"Yes\",'2024NewCourses'!AH19,\" \")","v":" "},{"$f":"IF('2024NewCourses'!$A19=\"Yes\",'2024NewCourses'!AI19,\" \")","v":" "},{"$f":"IF('2024NewCourses'!$A19=\"Yes\",'2024NewCourses'!AJ19,\" \")","v":" "},{"$f":"IF('2024NewCourses'!$A19=\"Yes\",'2024NewCourses'!AK19,\" \")","v":" "},{"$f":"IF('2024NewCourses'!$A19=\"Yes\",'2024NewCourses'!AL19,\" \")","v":" "},{"$f":"IF('2024NewCourses'!$A19=\"Yes\",'2024NewCourses'!AM19,\" \")","v":" "},{"$f":"IF('2024NewCourses'!$A19=\"Yes\",'2024NewCourses'!AN19,\" \")","v":" "},{"$f":"IF('2024NewCourses'!$A19=\"Yes\",'2024NewCourses'!AO19,\" \")","v":" "},{"$f":"IF('2024NewCourses'!$A19=\"Yes\",'2024NewCourses'!AP19,\" \")","v":" "},{"$f":"IF('2024NewCourses'!$A19=\"Yes\",'2024NewCourses'!AQ19,\" \")","v":" "},{"$f":"IF('2024NewCourses'!$A19=\"Yes\",'2024NewCourses'!AR19,\" \")","v":" "},{"$f":"IF('2024NewCourses'!$A19=\"Yes\",'2024NewCourses'!AR19,\" \")","v":" "},{"$f":"IF('2024NewCourses'!$A19=\"Yes\",'2024NewCourses'!AS19,\" \")","v":" "},{"$f":"IF('2024NewCourses'!$A19=\"Yes\",'2024NewCourses'!AT19,\" \")","v":" "},{"$f":"IF('2024NewCourses'!$A19=\"Yes\",'2024NewCourses'!AU19,\" \")","v":" "},{"$f":"IF('2024NewCourses'!$A19=\"Yes\",'2024NewCourses'!AV19,\" \")","v":" "},{"$f":"IF('2024NewCourses'!$A19=\"Yes\",'2024NewCourses'!AW19,\" \")","v":" "},{"$f":"IF('2024NewCourses'!$A19=\"Yes\",'2024NewCourses'!AX19,\" \")","v":" "},{"$f":"IF('2024NewCourses'!$A19=\"Yes\",'2024NewCourses'!AY19,\" \")","v":" "},{"$f":"IF('2024NewCourses'!$A19=\"Yes\",'2024NewCourses'!AZ19,\" \")","v":" "},{"$f":"IF('2024NewCourses'!$A19=\"Yes\",'2024NewCourses'!BA19,\" \")","v":" "},{"$f":"IF('2024NewCourses'!$A19=\"Yes\",'2024NewCourses'!BB19,\" \")","v":" "},{"$f":"IF('2024NewCourses'!$A19=\"Yes\",'2024NewCourses'!BC19,\" \")","v":" "},{"$f":"IF('2024NewCourses'!$A19=\"Yes\",'2024NewCourses'!BD19,\" \")","v":" "},{"$f":"IF('2024NewCourses'!$A19=\"Yes\",'2024NewCourses'!BE19,\" \")","v":" "},{"$f":"IF('2024NewCourses'!$A19=\"Yes\",'2024NewCourses'!BF19,\" \")","v":" "},{"$f":"IF('2024NewCourses'!$A19=\"Yes\",'2024NewCourses'!BG19,\" \")","v":" "},{"$f":"IF('2024NewCourses'!$A19=\"Yes\",'2024NewCourses'!BH19,\" \")","v":" "},{"$f":"IF('2024NewCourses'!$A19=\"Yes\",'2024NewCourses'!BI19,\" \")","v":" "},{"$f":"IF('2024NewCourses'!$A19=\"Yes\",'2024NewCourses'!BJ19,\" \")","v":" "}]
[{"$f":"IF('2024NewCourses'!$A20=\"Yes\",'2024NewCourses'!B20,\" \")","v":" "},{"$f":"IF('2024NewCourses'!$A20=\"Yes\",'2024NewCourses'!D20,\" \")","v":" "},{"$f":"IF('2024NewCourses'!$A20=\"Yes\",'2024NewCourses'!F20,\" \")","v":" "},{"$f":"IF('2024NewCourses'!$A20=\"Yes\",'2024NewCourses'!G20,\" \")","v":" "},{"$f":"IF('2024NewCourses'!$A20=\"Yes\",'2024NewCourses'!H20,\" \")","v":" "},{"$f":"IF('2024NewCourses'!$A20=\"Yes\",'2024NewCourses'!J20,\" \")","v":" "},{"$f":"IF('2024NewCourses'!$A20=\"Yes\",'2024NewCourses'!K20,\" \")","v":" "},{"$f":"IF('2024NewCourses'!$A20=\"Yes\",'2024NewCourses'!L20,\" \")","v":" "},{"$f":"IF('2024NewCourses'!$A20=\"Yes\",'2024NewCourses'!M20,\" \")","v":" "},{"$f":"IF('2024NewCourses'!$A20=\"Yes\",'2024NewCourses'!N20,\" \")","v":" "},{"$f":"IF('2024NewCourses'!$A20=\"Yes\",'2024NewCourses'!O20,\" \")","v":" "},{"$f":"IF('2024NewCourses'!$A20=\"Yes\",'2024NewCourses'!P20,\" \")","v":" "},{"$f":"IF('2024NewCourses'!$A20=\"Yes\",'2024NewCourses'!Q20,\" \")","v":" "},{"$f":"IF('2024NewCourses'!$A20=\"Yes\",'2024NewCourses'!R20,\" \")","v":" "},{"$f":"IF('2024NewCourses'!$A20=\"Yes\",'2024NewCourses'!S20,\" \")","v":" "},{"$f":"IF('2024NewCourses'!$A20=\"Yes\",'2024NewCourses'!T20,\" \")","v":" "},{"$f":"IF('2024NewCourses'!$A20=\"Yes\",'2024NewCourses'!U20,\" \")","v":" "},{"$f":"IF('2024NewCourses'!$A20=\"Yes\",'2024NewCourses'!V20,\" \")","v":" "},{"$f":"IF('2024NewCourses'!$A20=\"Yes\",'2024NewCourses'!W20,\" \")","v":" "},{"$f":"IF('2024NewCourses'!$A20=\"Yes\",'2024NewCourses'!X20,\" \")","v":" "},{"$f":"IF('2024NewCourses'!$A20=\"Yes\",'2024NewCourses'!Y20,\" \")","v":" "},{"$f":"IF('2024NewCourses'!$A20=\"Yes\",'2024NewCourses'!Z20,\" \")","v":" "},{"$f":"IF('2024NewCourses'!$A20=\"Yes\",'2024NewCourses'!AA20,\" \")","v":" "},{"$f":"IF('2024NewCourses'!$A20=\"Yes\",'2024NewCourses'!AB20,\" \")","v":" "},{"$f":"IF('2024NewCourses'!$A20=\"Yes\",'2024NewCourses'!AC20,\" \")","v":" "},{"$f":"IF('2024NewCourses'!$A20=\"Yes\",'2024NewCourses'!AD20,\" \")","v":" "},{"$f":"IF('2024NewCourses'!$A20=\"Yes\",'2024NewCourses'!AE20,\" \")","v":" "},{"$f":"IF('2024NewCourses'!$A20=\"Yes\",'2024NewCourses'!AF20,\" \")","v":" "},{"$f":"IF('2024NewCourses'!$A20=\"Yes\",'2024NewCourses'!AG20,\" \")","v":" "},{"$f":"IF('2024NewCourses'!$A20=\"Yes\",'2024NewCourses'!AH20,\" \")","v":" "},{"$f":"IF('2024NewCourses'!$A20=\"Yes\",'2024NewCourses'!AI20,\" \")","v":" "},{"$f":"IF('2024NewCourses'!$A20=\"Yes\",'2024NewCourses'!AJ20,\" \")","v":" "},{"$f":"IF('2024NewCourses'!$A20=\"Yes\",'2024NewCourses'!AK20,\" \")","v":" "},{"$f":"IF('2024NewCourses'!$A20=\"Yes\",'2024NewCourses'!AL20,\" \")","v":" "},{"$f":"IF('2024NewCourses'!$A20=\"Yes\",'2024NewCourses'!AM20,\" \")","v":" "},{"$f":"IF('2024NewCourses'!$A20=\"Yes\",'2024NewCourses'!AN20,\" \")","v":" "},{"$f":"IF('2024NewCourses'!$A20=\"Yes\",'2024NewCourses'!AO20,\" \")","v":" "},{"$f":"IF('2024NewCourses'!$A20=\"Yes\",'2024NewCourses'!AP20,\" \")","v":" "},{"$f":"IF('2024NewCourses'!$A20=\"Yes\",'2024NewCourses'!AQ20,\" \")","v":" "},{"$f":"IF('2024NewCourses'!$A20=\"Yes\",'2024NewCourses'!AR20,\" \")","v":" "},{"$f":"IF('2024NewCourses'!$A20=\"Yes\",'2024NewCourses'!AR20,\" \")","v":" "},{"$f":"IF('2024NewCourses'!$A20=\"Yes\",'2024NewCourses'!AS20,\" \")","v":" "},{"$f":"IF('2024NewCourses'!$A20=\"Yes\",'2024NewCourses'!AT20,\" \")","v":" "},{"$f":"IF('2024NewCourses'!$A20=\"Yes\",'2024NewCourses'!AU20,\" \")","v":" "},{"$f":"IF('2024NewCourses'!$A20=\"Yes\",'2024NewCourses'!AV20,\" \")","v":" "},{"$f":"IF('2024NewCourses'!$A20=\"Yes\",'2024NewCourses'!AW20,\" \")","v":" "},{"$f":"IF('2024NewCourses'!$A20=\"Yes\",'2024NewCourses'!AX20,\" \")","v":" "},{"$f":"IF('2024NewCourses'!$A20=\"Yes\",'2024NewCourses'!AY20,\" \")","v":" "},{"$f":"IF('2024NewCourses'!$A20=\"Yes\",'2024NewCourses'!AZ20,\" \")","v":" "},{"$f":"IF('2024NewCourses'!$A20=\"Yes\",'2024NewCourses'!BA20,\" \")","v":" "},{"$f":"IF('2024NewCourses'!$A20=\"Yes\",'2024NewCourses'!BB20,\" \")","v":" "},{"$f":"IF('2024NewCourses'!$A20=\"Yes\",'2024NewCourses'!BC20,\" \")","v":" "},{"$f":"IF('2024NewCourses'!$A20=\"Yes\",'2024NewCourses'!BD20,\" \")","v":" "},{"$f":"IF('2024NewCourses'!$A20=\"Yes\",'2024NewCourses'!BE20,\" \")","v":" "},{"$f":"IF('2024NewCourses'!$A20=\"Yes\",'2024NewCourses'!BF20,\" \")","v":" "},{"$f":"IF('2024NewCourses'!$A20=\"Yes\",'2024NewCourses'!BG20,\" \")","v":" "},{"$f":"IF('2024NewCourses'!$A20=\"Yes\",'2024NewCourses'!BH20,\" \")","v":" "},{"$f":"IF('2024NewCourses'!$A20=\"Yes\",'2024NewCourses'!BI20,\" \")","v":" "},{"$f":"IF('2024NewCourses'!$A20=\"Yes\",'2024NewCourses'!BJ20,\" \")","v":" "}]
[{"$f":"IF('2024NewCourses'!$A21=\"Yes\",'2024NewCourses'!B21,\" \")","v":" "},{"$f":"IF('2024NewCourses'!$A21=\"Yes\",'2024NewCourses'!D21,\" \")","v":" "},{"$f":"IF('2024NewCourses'!$A21=\"Yes\",'2024NewCourses'!F21,\" \")","v":" "},{"$f":"IF('2024NewCourses'!$A21=\"Yes\",'2024NewCourses'!G21,\" \")","v":" "},{"$f":"IF('2024NewCourses'!$A21=\"Yes\",'2024NewCourses'!H21,\" \")","v":" "},{"$f":"IF('2024NewCourses'!$A21=\"Yes\",'2024NewCourses'!J21,\" \")","v":" "},{"$f":"IF('2024NewCourses'!$A21=\"Yes\",'2024NewCourses'!K21,\" \")","v":" "},{"$f":"IF('2024NewCourses'!$A21=\"Yes\",'2024NewCourses'!L21,\" \")","v":" "},{"$f":"IF('2024NewCourses'!$A21=\"Yes\",'2024NewCourses'!M21,\" \")","v":" "},{"$f":"IF('2024NewCourses'!$A21=\"Yes\",'2024NewCourses'!N21,\" \")","v":" "},{"$f":"IF('2024NewCourses'!$A21=\"Yes\",'2024NewCourses'!O21,\" \")","v":" "},{"$f":"IF('2024NewCourses'!$A21=\"Yes\",'2024NewCourses'!P21,\" \")","v":" "},{"$f":"IF('2024NewCourses'!$A21=\"Yes\",'2024NewCourses'!Q21,\" \")","v":" "},{"$f":"IF('2024NewCourses'!$A21=\"Yes\",'2024NewCourses'!R21,\" \")","v":" "},{"$f":"IF('2024NewCourses'!$A21=\"Yes\",'2024NewCourses'!S21,\" \")","v":" "},{"$f":"IF('2024NewCourses'!$A21=\"Yes\",'2024NewCourses'!T21,\" \")","v":" "},{"$f":"IF('2024NewCourses'!$A21=\"Yes\",'2024NewCourses'!U21,\" \")","v":" "},{"$f":"IF('2024NewCourses'!$A21=\"Yes\",'2024NewCourses'!V21,\" \")","v":" "},{"$f":"IF('2024NewCourses'!$A21=\"Yes\",'2024NewCourses'!W21,\" \")","v":" "},{"$f":"IF('2024NewCourses'!$A21=\"Yes\",'2024NewCourses'!X21,\" \")","v":" "},{"$f":"IF('2024NewCourses'!$A21=\"Yes\",'2024NewCourses'!Y21,\" \")","v":" "},{"$f":"IF('2024NewCourses'!$A21=\"Yes\",'2024NewCourses'!Z21,\" \")","v":" "},{"$f":"IF('2024NewCourses'!$A21=\"Yes\",'2024NewCourses'!AA21,\" \")","v":" "},{"$f":"IF('2024NewCourses'!$A21=\"Yes\",'2024NewCourses'!AB21,\" \")","v":" "},{"$f":"IF('2024NewCourses'!$A21=\"Yes\",'2024NewCourses'!AC21,\" \")","v":" "},{"$f":"IF('2024NewCourses'!$A21=\"Yes\",'2024NewCourses'!AD21,\" \")","v":" "},{"$f":"IF('2024NewCourses'!$A21=\"Yes\",'2024NewCourses'!AE21,\" \")","v":" "},{"$f":"IF('2024NewCourses'!$A21=\"Yes\",'2024NewCourses'!AF21,\" \")","v":" "},{"$f":"IF('2024NewCourses'!$A21=\"Yes\",'2024NewCourses'!AG21,\" \")","v":" "},{"$f":"IF('2024NewCourses'!$A21=\"Yes\",'2024NewCourses'!AH21,\" \")","v":" "},{"$f":"IF('2024NewCourses'!$A21=\"Yes\",'2024NewCourses'!AI21,\" \")","v":" "},{"$f":"IF('2024NewCourses'!$A21=\"Yes\",'2024NewCourses'!AJ21,\" \")","v":" "},{"$f":"IF('2024NewCourses'!$A21=\"Yes\",'2024NewCourses'!AK21,\" \")","v":" "},{"$f":"IF('2024NewCourses'!$A21=\"Yes\",'2024NewCourses'!AL21,\" \")","v":" "},{"$f":"IF('2024NewCourses'!$A21=\"Yes\",'2024NewCourses'!AM21,\" \")","v":" "},{"$f":"IF('2024NewCourses'!$A21=\"Yes\",'2024NewCourses'!AN21,\" \")","v":" "},{"$f":"IF('2024NewCourses'!$A21=\"Yes\",'2024NewCourses'!AO21,\" \")","v":" "},{"$f":"IF('2024NewCourses'!$A21=\"Yes\",'2024NewCourses'!AP21,\" \")","v":" "},{"$f":"IF('2024NewCourses'!$A21=\"Yes\",'2024NewCourses'!AQ21,\" \")","v":" "},{"$f":"IF('2024NewCourses'!$A21=\"Yes\",'2024NewCourses'!AR21,\" \")","v":" "},{"$f":"IF('2024NewCourses'!$A21=\"Yes\",'2024NewCourses'!AR21,\" \")","v":" "},{"$f":"IF('2024NewCourses'!$A21=\"Yes\",'2024NewCourses'!AS21,\" \")","v":" "},{"$f":"IF('2024NewCourses'!$A21=\"Yes\",'2024NewCourses'!AT21,\" \")","v":" "},{"$f":"IF('2024NewCourses'!$A21=\"Yes\",'2024NewCourses'!AU21,\" \")","v":" "},{"$f":"IF('2024NewCourses'!$A21=\"Yes\",'2024NewCourses'!AV21,\" \")","v":" "},{"$f":"IF('2024NewCourses'!$A21=\"Yes\",'2024NewCourses'!AW21,\" \")","v":" "},{"$f":"IF('2024NewCourses'!$A21=\"Yes\",'2024NewCourses'!AX21,\" \")","v":" "},{"$f":"IF('2024NewCourses'!$A21=\"Yes\",'2024NewCourses'!AY21,\" \")","v":" "},{"$f":"IF('2024NewCourses'!$A21=\"Yes\",'2024NewCourses'!AZ21,\" \")","v":" "},{"$f":"IF('2024NewCourses'!$A21=\"Yes\",'2024NewCourses'!BA21,\" \")","v":" "},{"$f":"IF('2024NewCourses'!$A21=\"Yes\",'2024NewCourses'!BB21,\" \")","v":" "},{"$f":"IF('2024NewCourses'!$A21=\"Yes\",'2024NewCourses'!BC21,\" \")","v":" "},{"$f":"IF('2024NewCourses'!$A21=\"Yes\",'2024NewCourses'!BD21,\" \")","v":" "},{"$f":"IF('2024NewCourses'!$A21=\"Yes\",'2024NewCourses'!BE21,\" \")","v":" "},{"$f":"IF('2024NewCourses'!$A21=\"Yes\",'2024NewCourses'!BF21,\" \")","v":" "},{"$f":"IF('2024NewCourses'!$A21=\"Yes\",'2024NewCourses'!BG21,\" \")","v":" "},{"$f":"IF('2024NewCourses'!$A21=\"Yes\",'2024NewCourses'!BH21,\" \")","v":" "},{"$f":"IF('2024NewCourses'!$A21=\"Yes\",'2024NewCourses'!BI21,\" \")","v":" "},{"$f":"IF('2024NewCourses'!$A21=\"Yes\",'2024NewCourses'!BJ21,\" \")","v":" "}]
[{"$f":"IF('2024NewCourses'!$A22=\"Yes\",'2024NewCourses'!B22,\" \")","v":" "},{"$f":"IF('2024NewCourses'!$A22=\"Yes\",'2024NewCourses'!D22,\" \")","v":" "},{"$f":"IF('2024NewCourses'!$A22=\"Yes\",'2024NewCourses'!F22,\" \")","v":" "},{"$f":"IF('2024NewCourses'!$A22=\"Yes\",'2024NewCourses'!G22,\" \")","v":" "},{"$f":"IF('2024NewCourses'!$A22=\"Yes\",'2024NewCourses'!H22,\" \")","v":" "},{"$f":"IF('2024NewCourses'!$A22=\"Yes\",'2024NewCourses'!J22,\" \")","v":" "},{"$f":"IF('2024NewCourses'!$A22=\"Yes\",'2024NewCourses'!K22,\" \")","v":" "},{"$f":"IF('2024NewCourses'!$A22=\"Yes\",'2024NewCourses'!L22,\" \")","v":" "},{"$f":"IF('2024NewCourses'!$A22=\"Yes\",'2024NewCourses'!M22,\" \")","v":" "},{"$f":"IF('2024NewCourses'!$A22=\"Yes\",'2024NewCourses'!N22,\" \")","v":" "},{"$f":"IF('2024NewCourses'!$A22=\"Yes\",'2024NewCourses'!O22,\" \")","v":" "},{"$f":"IF('2024NewCourses'!$A22=\"Yes\",'2024NewCourses'!P22,\" \")","v":" "},{"$f":"IF('2024NewCourses'!$A22=\"Yes\",'2024NewCourses'!Q22,\" \")","v":" "},{"$f":"IF('2024NewCourses'!$A22=\"Yes\",'2024NewCourses'!R22,\" \")","v":" "},{"$f":"IF('2024NewCourses'!$A22=\"Yes\",'2024NewCourses'!S22,\" \")","v":" "},{"$f":"IF('2024NewCourses'!$A22=\"Yes\",'2024NewCourses'!T22,\" \")","v":" "},{"$f":"IF('2024NewCourses'!$A22=\"Yes\",'2024NewCourses'!U22,\" \")","v":" "},{"$f":"IF('2024NewCourses'!$A22=\"Yes\",'2024NewCourses'!V22,\" \")","v":" "},{"$f":"IF('2024NewCourses'!$A22=\"Yes\",'2024NewCourses'!W22,\" \")","v":" "},{"$f":"IF('2024NewCourses'!$A22=\"Yes\",'2024NewCourses'!X22,\" \")","v":" "},{"$f":"IF('2024NewCourses'!$A22=\"Yes\",'2024NewCourses'!Y22,\" \")","v":" "},{"$f":"IF('2024NewCourses'!$A22=\"Yes\",'2024NewCourses'!Z22,\" \")","v":" "},{"$f":"IF('2024NewCourses'!$A22=\"Yes\",'2024NewCourses'!AA22,\" \")","v":" "},{"$f":"IF('2024NewCourses'!$A22=\"Yes\",'2024NewCourses'!AB22,\" \")","v":" "},{"$f":"IF('2024NewCourses'!$A22=\"Yes\",'2024NewCourses'!AC22,\" \")","v":" "},{"$f":"IF('2024NewCourses'!$A22=\"Yes\",'2024NewCourses'!AD22,\" \")","v":" "},{"$f":"IF('2024NewCourses'!$A22=\"Yes\",'2024NewCourses'!AE22,\" \")","v":" "},{"$f":"IF('2024NewCourses'!$A22=\"Yes\",'2024NewCourses'!AF22,\" \")","v":" "},{"$f":"IF('2024NewCourses'!$A22=\"Yes\",'2024NewCourses'!AG22,\" \")","v":" "},{"$f":"IF('2024NewCourses'!$A22=\"Yes\",'2024NewCourses'!AH22,\" \")","v":" "},{"$f":"IF('2024NewCourses'!$A22=\"Yes\",'2024NewCourses'!AI22,\" \")","v":" "},{"$f":"IF('2024NewCourses'!$A22=\"Yes\",'2024NewCourses'!AJ22,\" \")","v":" "},{"$f":"IF('2024NewCourses'!$A22=\"Yes\",'2024NewCourses'!AK22,\" \")","v":" "},{"$f":"IF('2024NewCourses'!$A22=\"Yes\",'2024NewCourses'!AL22,\" \")","v":" "},{"$f":"IF('2024NewCourses'!$A22=\"Yes\",'2024NewCourses'!AM22,\" \")","v":" "},{"$f":"IF('2024NewCourses'!$A22=\"Yes\",'2024NewCourses'!AN22,\" \")","v":" "},{"$f":"IF('2024NewCourses'!$A22=\"Yes\",'2024NewCourses'!AO22,\" \")","v":" "},{"$f":"IF('2024NewCourses'!$A22=\"Yes\",'2024NewCourses'!AP22,\" \")","v":" "},{"$f":"IF('2024NewCourses'!$A22=\"Yes\",'2024NewCourses'!AQ22,\" \")","v":" "},{"$f":"IF('2024NewCourses'!$A22=\"Yes\",'2024NewCourses'!AR22,\" \")","v":" "},{"$f":"IF('2024NewCourses'!$A22=\"Yes\",'2024NewCourses'!AR22,\" \")","v":" "},{"$f":"IF('2024NewCourses'!$A22=\"Yes\",'2024NewCourses'!AS22,\" \")","v":" "},{"$f":"IF('2024NewCourses'!$A22=\"Yes\",'2024NewCourses'!AT22,\" \")","v":" "},{"$f":"IF('2024NewCourses'!$A22=\"Yes\",'2024NewCourses'!AU22,\" \")","v":" "},{"$f":"IF('2024NewCourses'!$A22=\"Yes\",'2024NewCourses'!AV22,\" \")","v":" "},{"$f":"IF('2024NewCourses'!$A22=\"Yes\",'2024NewCourses'!AW22,\" \")","v":" "},{"$f":"IF('2024NewCourses'!$A22=\"Yes\",'2024NewCourses'!AX22,\" \")","v":" "},{"$f":"IF('2024NewCourses'!$A22=\"Yes\",'2024NewCourses'!AY22,\" \")","v":" "},{"$f":"IF('2024NewCourses'!$A22=\"Yes\",'2024NewCourses'!AZ22,\" \")","v":" "},{"$f":"IF('2024NewCourses'!$A22=\"Yes\",'2024NewCourses'!BA22,\" \")","v":" "},{"$f":"IF('2024NewCourses'!$A22=\"Yes\",'2024NewCourses'!BB22,\" \")","v":" "},{"$f":"IF('2024NewCourses'!$A22=\"Yes\",'2024NewCourses'!BC22,\" \")","v":" "},{"$f":"IF('2024NewCourses'!$A22=\"Yes\",'2024NewCourses'!BD22,\" \")","v":" "},{"$f":"IF('2024NewCourses'!$A22=\"Yes\",'2024NewCourses'!BE22,\" \")","v":" "},{"$f":"IF('2024NewCourses'!$A22=\"Yes\",'2024NewCourses'!BF22,\" \")","v":" "},{"$f":"IF('2024NewCourses'!$A22=\"Yes\",'2024NewCourses'!BG22,\" \")","v":" "},{"$f":"IF('2024NewCourses'!$A22=\"Yes\",'2024NewCourses'!BH22,\" \")","v":" "},{"$f":"IF('2024NewCourses'!$A22=\"Yes\",'2024NewCourses'!BI22,\" \")","v":" "},{"$f":"IF('2024NewCourses'!$A22=\"Yes\",'2024NewCourses'!BJ22,\" \")","v":" "}]
[{"$f":"IF('2024NewCourses'!$A23=\"Yes\",'2024NewCourses'!B23,\" \")","v":" "},{"$f":"IF('2024NewCourses'!$A23=\"Yes\",'2024NewCourses'!D23,\" \")","v":" "},{"$f":"IF('2024NewCourses'!$A23=\"Yes\",'2024NewCourses'!F23,\" \")","v":" "},{"$f":"IF('2024NewCourses'!$A23=\"Yes\",'2024NewCourses'!G23,\" \")","v":" "},{"$f":"IF('2024NewCourses'!$A23=\"Yes\",'2024NewCourses'!H23,\" \")","v":" "},{"$f":"IF('2024NewCourses'!$A23=\"Yes\",'2024NewCourses'!J23,\" \")","v":" "},{"$f":"IF('2024NewCourses'!$A23=\"Yes\",'2024NewCourses'!K23,\" \")","v":" "},{"$f":"IF('2024NewCourses'!$A23=\"Yes\",'2024NewCourses'!L23,\" \")","v":" "},{"$f":"IF('2024NewCourses'!$A23=\"Yes\",'2024NewCourses'!M23,\" \")","v":" "},{"$f":"IF('2024NewCourses'!$A23=\"Yes\",'2024NewCourses'!N23,\" \")","v":" "},{"$f":"IF('2024NewCourses'!$A23=\"Yes\",'2024NewCourses'!O23,\" \")","v":" "},{"$f":"IF('2024NewCourses'!$A23=\"Yes\",'2024NewCourses'!P23,\" \")","v":" "},{"$f":"IF('2024NewCourses'!$A23=\"Yes\",'2024NewCourses'!Q23,\" \")","v":" "},{"$f":"IF('2024NewCourses'!$A23=\"Yes\",'2024NewCourses'!R23,\" \")","v":" "},{"$f":"IF('2024NewCourses'!$A23=\"Yes\",'2024NewCourses'!S23,\" \")","v":" "},{"$f":"IF('2024NewCourses'!$A23=\"Yes\",'2024NewCourses'!T23,\" \")","v":" "},{"$f":"IF('2024NewCourses'!$A23=\"Yes\",'2024NewCourses'!U23,\" \")","v":" "},{"$f":"IF('2024NewCourses'!$A23=\"Yes\",'2024NewCourses'!V23,\" \")","v":" "},{"$f":"IF('2024NewCourses'!$A23=\"Yes\",'2024NewCourses'!W23,\" \")","v":" "},{"$f":"IF('2024NewCourses'!$A23=\"Yes\",'2024NewCourses'!X23,\" \")","v":" "},{"$f":"IF('2024NewCourses'!$A23=\"Yes\",'2024NewCourses'!Y23,\" \")","v":" "},{"$f":"IF('2024NewCourses'!$A23=\"Yes\",'2024NewCourses'!Z23,\" \")","v":" "},{"$f":"IF('2024NewCourses'!$A23=\"Yes\",'2024NewCourses'!AA23,\" \")","v":" "},{"$f":"IF('2024NewCourses'!$A23=\"Yes\",'2024NewCourses'!AB23,\" \")","v":" "},{"$f":"IF('2024NewCourses'!$A23=\"Yes\",'2024NewCourses'!AC23,\" \")","v":" "},{"$f":"IF('2024NewCourses'!$A23=\"Yes\",'2024NewCourses'!AD23,\" \")","v":" "},{"$f":"IF('2024NewCourses'!$A23=\"Yes\",'2024NewCourses'!AE23,\" \")","v":" "},{"$f":"IF('2024NewCourses'!$A23=\"Yes\",'2024NewCourses'!AF23,\" \")","v":" "},{"$f":"IF('2024NewCourses'!$A23=\"Yes\",'2024NewCourses'!AG23,\" \")","v":" "},{"$f":"IF('2024NewCourses'!$A23=\"Yes\",'2024NewCourses'!AH23,\" \")","v":" "},{"$f":"IF('2024NewCourses'!$A23=\"Yes\",'2024NewCourses'!AI23,\" \")","v":" "},{"$f":"IF('2024NewCourses'!$A23=\"Yes\",'2024NewCourses'!AJ23,\" \")","v":" "},{"$f":"IF('2024NewCourses'!$A23=\"Yes\",'2024NewCourses'!AK23,\" \")","v":" "},{"$f":"IF('2024NewCourses'!$A23=\"Yes\",'2024NewCourses'!AL23,\" \")","v":" "},{"$f":"IF('2024NewCourses'!$A23=\"Yes\",'2024NewCourses'!AM23,\" \")","v":" "},{"$f":"IF('2024NewCourses'!$A23=\"Yes\",'2024NewCourses'!AN23,\" \")","v":" "},{"$f":"IF('2024NewCourses'!$A23=\"Yes\",'2024NewCourses'!AO23,\" \")","v":" "},{"$f":"IF('2024NewCourses'!$A23=\"Yes\",'2024NewCourses'!AP23,\" \")","v":" "},{"$f":"IF('2024NewCourses'!$A23=\"Yes\",'2024NewCourses'!AQ23,\" \")","v":" "},{"$f":"IF('2024NewCourses'!$A23=\"Yes\",'2024NewCourses'!AR23,\" \")","v":" "},{"$f":"IF('2024NewCourses'!$A23=\"Yes\",'2024NewCourses'!AR23,\" \")","v":" "},{"$f":"IF('2024NewCourses'!$A23=\"Yes\",'2024NewCourses'!AS23,\" \")","v":" "},{"$f":"IF('2024NewCourses'!$A23=\"Yes\",'2024NewCourses'!AT23,\" \")","v":" "},{"$f":"IF('2024NewCourses'!$A23=\"Yes\",'2024NewCourses'!AU23,\" \")","v":" "},{"$f":"IF('2024NewCourses'!$A23=\"Yes\",'2024NewCourses'!AV23,\" \")","v":" "},{"$f":"IF('2024NewCourses'!$A23=\"Yes\",'2024NewCourses'!AW23,\" \")","v":" "},{"$f":"IF('2024NewCourses'!$A23=\"Yes\",'2024NewCourses'!AX23,\" \")","v":" "},{"$f":"IF('2024NewCourses'!$A23=\"Yes\",'2024NewCourses'!AY23,\" \")","v":" "},{"$f":"IF('2024NewCourses'!$A23=\"Yes\",'2024NewCourses'!AZ23,\" \")","v":" "},{"$f":"IF('2024NewCourses'!$A23=\"Yes\",'2024NewCourses'!BA23,\" \")","v":" "},{"$f":"IF('2024NewCourses'!$A23=\"Yes\",'2024NewCourses'!BB23,\" \")","v":" "},{"$f":"IF('2024NewCourses'!$A23=\"Yes\",'2024NewCourses'!BC23,\" \")","v":" "},{"$f":"IF('2024NewCourses'!$A23=\"Yes\",'2024NewCourses'!BD23,\" \")","v":" "},{"$f":"IF('2024NewCourses'!$A23=\"Yes\",'2024NewCourses'!BE23,\" \")","v":" "},{"$f":"IF('2024NewCourses'!$A23=\"Yes\",'2024NewCourses'!BF23,\" \")","v":" "},{"$f":"IF('2024NewCourses'!$A23=\"Yes\",'2024NewCourses'!BG23,\" \")","v":" "},{"$f":"IF('2024NewCourses'!$A23=\"Yes\",'2024NewCourses'!BH23,\" \")","v":" "},{"$f":"IF('2024NewCourses'!$A23=\"Yes\",'2024NewCourses'!BI23,\" \")","v":" "},{"$f":"IF('2024NewCourses'!$A23=\"Yes\",'2024NewCourses'!BJ23,\" \")","v":" "}]
[{"$f":"IF('2024NewCourses'!$A24=\"Yes\",'2024NewCourses'!B24,\" \")","v":" "},{"$f":"IF('2024NewCourses'!$A24=\"Yes\",'2024NewCourses'!D24,\" \")","v":" "},{"$f":"IF('2024NewCourses'!$A24=\"Yes\",'2024NewCourses'!F24,\" \")","v":" "},{"$f":"IF('2024NewCourses'!$A24=\"Yes\",'2024NewCourses'!G24,\" \")","v":" "},{"$f":"IF('2024NewCourses'!$A24=\"Yes\",'2024NewCourses'!H24,\" \")","v":" "},{"$f":"IF('2024NewCourses'!$A24=\"Yes\",'2024NewCourses'!J24,\" \")","v":" "},{"$f":"IF('2024NewCourses'!$A24=\"Yes\",'2024NewCourses'!K24,\" \")","v":" "},{"$f":"IF('2024NewCourses'!$A24=\"Yes\",'2024NewCourses'!L24,\" \")","v":" "},{"$f":"IF('2024NewCourses'!$A24=\"Yes\",'2024NewCourses'!M24,\" \")","v":" "},{"$f":"IF('2024NewCourses'!$A24=\"Yes\",'2024NewCourses'!N24,\" \")","v":" "},{"$f":"IF('2024NewCourses'!$A24=\"Yes\",'2024NewCourses'!O24,\" \")","v":" "},{"$f":"IF('2024NewCourses'!$A24=\"Yes\",'2024NewCourses'!P24,\" \")","v":" "},{"$f":"IF('2024NewCourses'!$A24=\"Yes\",'2024NewCourses'!Q24,\" \")","v":" "},{"$f":"IF('2024NewCourses'!$A24=\"Yes\",'2024NewCourses'!R24,\" \")","v":" "},{"$f":"IF('2024NewCourses'!$A24=\"Yes\",'2024NewCourses'!S24,\" \")","v":" "},{"$f":"IF('2024NewCourses'!$A24=\"Yes\",'2024NewCourses'!T24,\" \")","v":" "},{"$f":"IF('2024NewCourses'!$A24=\"Yes\",'2024NewCourses'!U24,\" \")","v":" "},{"$f":"IF('2024NewCourses'!$A24=\"Yes\",'2024NewCourses'!V24,\" \")","v":" "},{"$f":"IF('2024NewCourses'!$A24=\"Yes\",'2024NewCourses'!W24,\" \")","v":" "},{"$f":"IF('2024NewCourses'!$A24=\"Yes\",'2024NewCourses'!X24,\" \")","v":" "},{"$f":"IF('2024NewCourses'!$A24=\"Yes\",'2024NewCourses'!Y24,\" \")","v":" "},{"$f":"IF('2024NewCourses'!$A24=\"Yes\",'2024NewCourses'!Z24,\" \")","v":" "},{"$f":"IF('2024NewCourses'!$A24=\"Yes\",'2024NewCourses'!AA24,\" \")","v":" "},{"$f":"IF('2024NewCourses'!$A24=\"Yes\",'2024NewCourses'!AB24,\" \")","v":" "},{"$f":"IF('2024NewCourses'!$A24=\"Yes\",'2024NewCourses'!AC24,\" \")","v":" "},{"$f":"IF('2024NewCourses'!$A24=\"Yes\",'2024NewCourses'!AD24,\" \")","v":" "},{"$f":"IF('2024NewCourses'!$A24=\"Yes\",'2024NewCourses'!AE24,\" \")","v":" "},{"$f":"IF('2024NewCourses'!$A24=\"Yes\",'2024NewCourses'!AF24,\" \")","v":" "},{"$f":"IF('2024NewCourses'!$A24=\"Yes\",'2024NewCourses'!AG24,\" \")","v":" "},{"$f":"IF('2024NewCourses'!$A24=\"Yes\",'2024NewCourses'!AH24,\" \")","v":" "},{"$f":"IF('2024NewCourses'!$A24=\"Yes\",'2024NewCourses'!AI24,\" \")","v":" "},{"$f":"IF('2024NewCourses'!$A24=\"Yes\",'2024NewCourses'!AJ24,\" \")","v":" "},{"$f":"IF('2024NewCourses'!$A24=\"Yes\",'2024NewCourses'!AK24,\" \")","v":" "},{"$f":"IF('2024NewCourses'!$A24=\"Yes\",'2024NewCourses'!AL24,\" \")","v":" "},{"$f":"IF('2024NewCourses'!$A24=\"Yes\",'2024NewCourses'!AM24,\" \")","v":" "},{"$f":"IF('2024NewCourses'!$A24=\"Yes\",'2024NewCourses'!AN24,\" \")","v":" "},{"$f":"IF('2024NewCourses'!$A24=\"Yes\",'2024NewCourses'!AO24,\" \")","v":" "},{"$f":"IF('2024NewCourses'!$A24=\"Yes\",'2024NewCourses'!AP24,\" \")","v":" "},{"$f":"IF('2024NewCourses'!$A24=\"Yes\",'2024NewCourses'!AQ24,\" \")","v":" "},{"$f":"IF('2024NewCourses'!$A24=\"Yes\",'2024NewCourses'!AR24,\" \")","v":" "},{"$f":"IF('2024NewCourses'!$A24=\"Yes\",'2024NewCourses'!AR24,\" \")","v":" "},{"$f":"IF('2024NewCourses'!$A24=\"Yes\",'2024NewCourses'!AS24,\" \")","v":" "},{"$f":"IF('2024NewCourses'!$A24=\"Yes\",'2024NewCourses'!AT24,\" \")","v":" "},{"$f":"IF('2024NewCourses'!$A24=\"Yes\",'2024NewCourses'!AU24,\" \")","v":" "},{"$f":"IF('2024NewCourses'!$A24=\"Yes\",'2024NewCourses'!AV24,\" \")","v":" "},{"$f":"IF('2024NewCourses'!$A24=\"Yes\",'2024NewCourses'!AW24,\" \")","v":" "},{"$f":"IF('2024NewCourses'!$A24=\"Yes\",'2024NewCourses'!AX24,\" \")","v":" "},{"$f":"IF('2024NewCourses'!$A24=\"Yes\",'2024NewCourses'!AY24,\" \")","v":" "},{"$f":"IF('2024NewCourses'!$A24=\"Yes\",'2024NewCourses'!AZ24,\" \")","v":" "},{"$f":"IF('2024NewCourses'!$A24=\"Yes\",'2024NewCourses'!BA24,\" \")","v":" "},{"$f":"IF('2024NewCourses'!$A24=\"Yes\",'2024NewCourses'!BB24,\" \")","v":" "},{"$f":"IF('2024NewCourses'!$A24=\"Yes\",'2024NewCourses'!BC24,\" \")","v":" "},{"$f":"IF('2024NewCourses'!$A24=\"Yes\",'2024NewCourses'!BD24,\" \")","v":" "},{"$f":"IF('2024NewCourses'!$A24=\"Yes\",'2024NewCourses'!BE24,\" \")","v":" "},{"$f":"IF('2024NewCourses'!$A24=\"Yes\",'2024NewCourses'!BF24,\" \")","v":" "},{"$f":"IF('2024NewCourses'!$A24=\"Yes\",'2024NewCourses'!BG24,\" \")","v":" "},{"$f":"IF('2024NewCourses'!$A24=\"Yes\",'2024NewCourses'!BH24,\" \")","v":" "},{"$f":"IF('2024NewCourses'!$A24=\"Yes\",'2024NewCourses'!BI24,\" \")","v":" "},{"$f":"IF('2024NewCourses'!$A24=\"Yes\",'2024NewCourses'!BJ24,\" \")","v":" "}]
[{"$f":"IF('2024NewCourses'!$A25=\"Yes\",'2024NewCourses'!B25,\" \")","v":" "},{"$f":"IF('2024NewCourses'!$A25=\"Yes\",'2024NewCourses'!D25,\" \")","v":" "},{"$f":"IF('2024NewCourses'!$A25=\"Yes\",'2024NewCourses'!F25,\" \")","v":" "},{"$f":"IF('2024NewCourses'!$A25=\"Yes\",'2024NewCourses'!G25,\" \")","v":" "},{"$f":"IF('2024NewCourses'!$A25=\"Yes\",'2024NewCourses'!H25,\" \")","v":" "},{"$f":"IF('2024NewCourses'!$A25=\"Yes\",'2024NewCourses'!J25,\" \")","v":" "},{"$f":"IF('2024NewCourses'!$A25=\"Yes\",'2024NewCourses'!K25,\" \")","v":" "},{"$f":"IF('2024NewCourses'!$A25=\"Yes\",'2024NewCourses'!L25,\" \")","v":" "},{"$f":"IF('2024NewCourses'!$A25=\"Yes\",'2024NewCourses'!M25,\" \")","v":" "},{"$f":"IF('2024NewCourses'!$A25=\"Yes\",'2024NewCourses'!N25,\" \")","v":" "},{"$f":"IF('2024NewCourses'!$A25=\"Yes\",'2024NewCourses'!O25,\" \")","v":" "},{"$f":"IF('2024NewCourses'!$A25=\"Yes\",'2024NewCourses'!P25,\" \")","v":" "},{"$f":"IF('2024NewCourses'!$A25=\"Yes\",'2024NewCourses'!Q25,\" \")","v":" "},{"$f":"IF('2024NewCourses'!$A25=\"Yes\",'2024NewCourses'!R25,\" \")","v":" "},{"$f":"IF('2024NewCourses'!$A25=\"Yes\",'2024NewCourses'!S25,\" \")","v":" "},{"$f":"IF('2024NewCourses'!$A25=\"Yes\",'2024NewCourses'!T25,\" \")","v":" "},{"$f":"IF('2024NewCourses'!$A25=\"Yes\",'2024NewCourses'!U25,\" \")","v":" "},{"$f":"IF('2024NewCourses'!$A25=\"Yes\",'2024NewCourses'!V25,\" \")","v":" "},{"$f":"IF('2024NewCourses'!$A25=\"Yes\",'2024NewCourses'!W25,\" \")","v":" "},{"$f":"IF('2024NewCourses'!$A25=\"Yes\",'2024NewCourses'!X25,\" \")","v":" "},{"$f":"IF('2024NewCourses'!$A25=\"Yes\",'2024NewCourses'!Y25,\" \")","v":" "},{"$f":"IF('2024NewCourses'!$A25=\"Yes\",'2024NewCourses'!Z25,\" \")","v":" "},{"$f":"IF('2024NewCourses'!$A25=\"Yes\",'2024NewCourses'!AA25,\" \")","v":" "},{"$f":"IF('2024NewCourses'!$A25=\"Yes\",'2024NewCourses'!AB25,\" \")","v":" "},{"$f":"IF('2024NewCourses'!$A25=\"Yes\",'2024NewCourses'!AC25,\" \")","v":" "},{"$f":"IF('2024NewCourses'!$A25=\"Yes\",'2024NewCourses'!AD25,\" \")","v":" "},{"$f":"IF('2024NewCourses'!$A25=\"Yes\",'2024NewCourses'!AE25,\" \")","v":" "},{"$f":"IF('2024NewCourses'!$A25=\"Yes\",'2024NewCourses'!AF25,\" \")","v":" "},{"$f":"IF('2024NewCourses'!$A25=\"Yes\",'2024NewCourses'!AG25,\" \")","v":" "},{"$f":"IF('2024NewCourses'!$A25=\"Yes\",'2024NewCourses'!AH25,\" \")","v":" "},{"$f":"IF('2024NewCourses'!$A25=\"Yes\",'2024NewCourses'!AI25,\" \")","v":" "},{"$f":"IF('2024NewCourses'!$A25=\"Yes\",'2024NewCourses'!AJ25,\" \")","v":" "},{"$f":"IF('2024NewCourses'!$A25=\"Yes\",'2024NewCourses'!AK25,\" \")","v":" "},{"$f":"IF('2024NewCourses'!$A25=\"Yes\",'2024NewCourses'!AL25,\" \")","v":" "},{"$f":"IF('2024NewCourses'!$A25=\"Yes\",'2024NewCourses'!AM25,\" \")","v":" "},{"$f":"IF('2024NewCourses'!$A25=\"Yes\",'2024NewCourses'!AN25,\" \")","v":" "},{"$f":"IF('2024NewCourses'!$A25=\"Yes\",'2024NewCourses'!AO25,\" \")","v":" "},{"$f":"IF('2024NewCourses'!$A25=\"Yes\",'2024NewCourses'!AP25,\" \")","v":" "},{"$f":"IF('2024NewCourses'!$A25=\"Yes\",'2024NewCourses'!AQ25,\" \")","v":" "},{"$f":"IF('2024NewCourses'!$A25=\"Yes\",'2024NewCourses'!AR25,\" \")","v":" "},{"$f":"IF('2024NewCourses'!$A25=\"Yes\",'2024NewCourses'!AR25,\" \")","v":" "},{"$f":"IF('2024NewCourses'!$A25=\"Yes\",'2024NewCourses'!AS25,\" \")","v":" "},{"$f":"IF('2024NewCourses'!$A25=\"Yes\",'2024NewCourses'!AT25,\" \")","v":" "},{"$f":"IF('2024NewCourses'!$A25=\"Yes\",'2024NewCourses'!AU25,\" \")","v":" "},{"$f":"IF('2024NewCourses'!$A25=\"Yes\",'2024NewCourses'!AV25,\" \")","v":" "},{"$f":"IF('2024NewCourses'!$A25=\"Yes\",'2024NewCourses'!AW25,\" \")","v":" "},{"$f":"IF('2024NewCourses'!$A25=\"Yes\",'2024NewCourses'!AX25,\" \")","v":" "},{"$f":"IF('2024NewCourses'!$A25=\"Yes\",'2024NewCourses'!AY25,\" \")","v":" "},{"$f":"IF('2024NewCourses'!$A25=\"Yes\",'2024NewCourses'!AZ25,\" \")","v":" "},{"$f":"IF('2024NewCourses'!$A25=\"Yes\",'2024NewCourses'!BA25,\" \")","v":" "},{"$f":"IF('2024NewCourses'!$A25=\"Yes\",'2024NewCourses'!BB25,\" \")","v":" "},{"$f":"IF('2024NewCourses'!$A25=\"Yes\",'2024NewCourses'!BC25,\" \")","v":" "},{"$f":"IF('2024NewCourses'!$A25=\"Yes\",'2024NewCourses'!BD25,\" \")","v":" "},{"$f":"IF('2024NewCourses'!$A25=\"Yes\",'2024NewCourses'!BE25,\" \")","v":" "},{"$f":"IF('2024NewCourses'!$A25=\"Yes\",'2024NewCourses'!BF25,\" \")","v":" "},{"$f":"IF('2024NewCourses'!$A25=\"Yes\",'2024NewCourses'!BG25,\" \")","v":" "},{"$f":"IF('2024NewCourses'!$A25=\"Yes\",'2024NewCourses'!BH25,\" \")","v":" "},{"$f":"IF('2024NewCourses'!$A25=\"Yes\",'2024NewCourses'!BI25,\" \")","v":" "},{"$f":"IF('2024NewCourses'!$A25=\"Yes\",'2024NewCourses'!BJ25,\" \")","v":" "}]
[{"$f":"IF('2024NewCourses'!$A26=\"Yes\",'2024NewCourses'!B26,\" \")","v":" "},{"$f":"IF('2024NewCourses'!$A26=\"Yes\",'2024NewCourses'!D26,\" \")","v":" "},{"$f":"IF('2024NewCourses'!$A26=\"Yes\",'2024NewCourses'!F26,\" \")","v":" "},{"$f":"IF('2024NewCourses'!$A26=\"Yes\",'2024NewCourses'!G26,\" \")","v":" "},{"$f":"IF('2024NewCourses'!$A26=\"Yes\",'2024NewCourses'!H26,\" \")","v":" "},{"$f":"IF('2024NewCourses'!$A26=\"Yes\",'2024NewCourses'!J26,\" \")","v":" "},{"$f":"IF('2024NewCourses'!$A26=\"Yes\",'2024NewCourses'!K26,\" \")","v":" "},{"$f":"IF('2024NewCourses'!$A26=\"Yes\",'2024NewCourses'!L26,\" \")","v":" "},{"$f":"IF('2024NewCourses'!$A26=\"Yes\",'2024NewCourses'!M26,\" \")","v":" "},{"$f":"IF('2024NewCourses'!$A26=\"Yes\",'2024NewCourses'!N26,\" \")","v":" "},{"$f":"IF('2024NewCourses'!$A26=\"Yes\",'2024NewCourses'!O26,\" \")","v":" "},{"$f":"IF('2024NewCourses'!$A26=\"Yes\",'2024NewCourses'!P26,\" \")","v":" "},{"$f":"IF('2024NewCourses'!$A26=\"Yes\",'2024NewCourses'!Q26,\" \")","v":" "},{"$f":"IF('2024NewCourses'!$A26=\"Yes\",'2024NewCourses'!R26,\" \")","v":" "},{"$f":"IF('2024NewCourses'!$A26=\"Yes\",'2024NewCourses'!S26,\" \")","v":" "},{"$f":"IF('2024NewCourses'!$A26=\"Yes\",'2024NewCourses'!T26,\" \")","v":" "},{"$f":"IF('2024NewCourses'!$A26=\"Yes\",'2024NewCourses'!U26,\" \")","v":" "},{"$f":"IF('2024NewCourses'!$A26=\"Yes\",'2024NewCourses'!V26,\" \")","v":" "},{"$f":"IF('2024NewCourses'!$A26=\"Yes\",'2024NewCourses'!W26,\" \")","v":" "},{"$f":"IF('2024NewCourses'!$A26=\"Yes\",'2024NewCourses'!X26,\" \")","v":" "},{"$f":"IF('2024NewCourses'!$A26=\"Yes\",'2024NewCourses'!Y26,\" \")","v":" "},{"$f":"IF('2024NewCourses'!$A26=\"Yes\",'2024NewCourses'!Z26,\" \")","v":" "},{"$f":"IF('2024NewCourses'!$A26=\"Yes\",'2024NewCourses'!AA26,\" \")","v":" "},{"$f":"IF('2024NewCourses'!$A26=\"Yes\",'2024NewCourses'!AB26,\" \")","v":" "},{"$f":"IF('2024NewCourses'!$A26=\"Yes\",'2024NewCourses'!AC26,\" \")","v":" "},{"$f":"IF('2024NewCourses'!$A26=\"Yes\",'2024NewCourses'!AD26,\" \")","v":" "},{"$f":"IF('2024NewCourses'!$A26=\"Yes\",'2024NewCourses'!AE26,\" \")","v":" "},{"$f":"IF('2024NewCourses'!$A26=\"Yes\",'2024NewCourses'!AF26,\" \")","v":" "},{"$f":"IF('2024NewCourses'!$A26=\"Yes\",'2024NewCourses'!AG26,\" \")","v":" "},{"$f":"IF('2024NewCourses'!$A26=\"Yes\",'2024NewCourses'!AH26,\" \")","v":" "},{"$f":"IF('2024NewCourses'!$A26=\"Yes\",'2024NewCourses'!AI26,\" \")","v":" "},{"$f":"IF('2024NewCourses'!$A26=\"Yes\",'2024NewCourses'!AJ26,\" \")","v":" "},{"$f":"IF('2024NewCourses'!$A26=\"Yes\",'2024NewCourses'!AK26,\" \")","v":" "},{"$f":"IF('2024NewCourses'!$A26=\"Yes\",'2024NewCourses'!AL26,\" \")","v":" "},{"$f":"IF('2024NewCourses'!$A26=\"Yes\",'2024NewCourses'!AM26,\" \")","v":" "},{"$f":"IF('2024NewCourses'!$A26=\"Yes\",'2024NewCourses'!AN26,\" \")","v":" "},{"$f":"IF('2024NewCourses'!$A26=\"Yes\",'2024NewCourses'!AO26,\" \")","v":" "},{"$f":"IF('2024NewCourses'!$A26=\"Yes\",'2024NewCourses'!AP26,\" \")","v":" "},{"$f":"IF('2024NewCourses'!$A26=\"Yes\",'2024NewCourses'!AQ26,\" \")","v":" "},{"$f":"IF('2024NewCourses'!$A26=\"Yes\",'2024NewCourses'!AR26,\" \")","v":" "},{"$f":"IF('2024NewCourses'!$A26=\"Yes\",'2024NewCourses'!AR26,\" \")","v":" "},{"$f":"IF('2024NewCourses'!$A26=\"Yes\",'2024NewCourses'!AS26,\" \")","v":" "},{"$f":"IF('2024NewCourses'!$A26=\"Yes\",'2024NewCourses'!AT26,\" \")","v":" "},{"$f":"IF('2024NewCourses'!$A26=\"Yes\",'2024NewCourses'!AU26,\" \")","v":" "},{"$f":"IF('2024NewCourses'!$A26=\"Yes\",'2024NewCourses'!AV26,\" \")","v":" "},{"$f":"IF('2024NewCourses'!$A26=\"Yes\",'2024NewCourses'!AW26,\" \")","v":" "},{"$f":"IF('2024NewCourses'!$A26=\"Yes\",'2024NewCourses'!AX26,\" \")","v":" "},{"$f":"IF('2024NewCourses'!$A26=\"Yes\",'2024NewCourses'!AY26,\" \")","v":" "},{"$f":"IF('2024NewCourses'!$A26=\"Yes\",'2024NewCourses'!AZ26,\" \")","v":" "},{"$f":"IF('2024NewCourses'!$A26=\"Yes\",'2024NewCourses'!BA26,\" \")","v":" "},{"$f":"IF('2024NewCourses'!$A26=\"Yes\",'2024NewCourses'!BB26,\" \")","v":" "},{"$f":"IF('2024NewCourses'!$A26=\"Yes\",'2024NewCourses'!BC26,\" \")","v":" "},{"$f":"IF('2024NewCourses'!$A26=\"Yes\",'2024NewCourses'!BD26,\" \")","v":" "},{"$f":"IF('2024NewCourses'!$A26=\"Yes\",'2024NewCourses'!BE26,\" \")","v":" "},{"$f":"IF('2024NewCourses'!$A26=\"Yes\",'2024NewCourses'!BF26,\" \")","v":" "},{"$f":"IF('2024NewCourses'!$A26=\"Yes\",'2024NewCourses'!BG26,\" \")","v":" "},{"$f":"IF('2024NewCourses'!$A26=\"Yes\",'2024NewCourses'!BH26,\" \")","v":" "},{"$f":"IF('2024NewCourses'!$A26=\"Yes\",'2024NewCourses'!BI26,\" \")","v":" "},{"$f":"IF('2024NewCourses'!$A26=\"Yes\",'2024NewCourses'!BJ26,\" \")","v":" "}]
[{"$f":"IF('2024NewCourses'!$A27=\"Yes\",'2024NewCourses'!B27,\" \")","v":" "},{"$f":"IF('2024NewCourses'!$A27=\"Yes\",'2024NewCourses'!D27,\" \")","v":" "},{"$f":"IF('2024NewCourses'!$A27=\"Yes\",'2024NewCourses'!F27,\" \")","v":" "},{"$f":"IF('2024NewCourses'!$A27=\"Yes\",'2024NewCourses'!G27,\" \")","v":" "},{"$f":"IF('2024NewCourses'!$A27=\"Yes\",'2024NewCourses'!H27,\" \")","v":" "},{"$f":"IF('2024NewCourses'!$A27=\"Yes\",'2024NewCourses'!J27,\" \")","v":" "},{"$f":"IF('2024NewCourses'!$A27=\"Yes\",'2024NewCourses'!K27,\" \")","v":" "},{"$f":"IF('2024NewCourses'!$A27=\"Yes\",'2024NewCourses'!L27,\" \")","v":" "},{"$f":"IF('2024NewCourses'!$A27=\"Yes\",'2024NewCourses'!M27,\" \")","v":" "},{"$f":"IF('2024NewCourses'!$A27=\"Yes\",'2024NewCourses'!N27,\" \")","v":" "},{"$f":"IF('2024NewCourses'!$A27=\"Yes\",'2024NewCourses'!O27,\" \")","v":" "},{"$f":"IF('2024NewCourses'!$A27=\"Yes\",'2024NewCourses'!P27,\" \")","v":" "},{"$f":"IF('2024NewCourses'!$A27=\"Yes\",'2024NewCourses'!Q27,\" \")","v":" "},{"$f":"IF('2024NewCourses'!$A27=\"Yes\",'2024NewCourses'!R27,\" \")","v":" "},{"$f":"IF('2024NewCourses'!$A27=\"Yes\",'2024NewCourses'!S27,\" \")","v":" "},{"$f":"IF('2024NewCourses'!$A27=\"Yes\",'2024NewCourses'!T27,\" \")","v":" "},{"$f":"IF('2024NewCourses'!$A27=\"Yes\",'2024NewCourses'!U27,\" \")","v":" "},{"$f":"IF('2024NewCourses'!$A27=\"Yes\",'2024NewCourses'!V27,\" \")","v":" "},{"$f":"IF('2024NewCourses'!$A27=\"Yes\",'2024NewCourses'!W27,\" \")","v":" "},{"$f":"IF('2024NewCourses'!$A27=\"Yes\",'2024NewCourses'!X27,\" \")","v":" "},{"$f":"IF('2024NewCourses'!$A27=\"Yes\",'2024NewCourses'!Y27,\" \")","v":" "},{"$f":"IF('2024NewCourses'!$A27=\"Yes\",'2024NewCourses'!Z27,\" \")","v":" "},{"$f":"IF('2024NewCourses'!$A27=\"Yes\",'2024NewCourses'!AA27,\" \")","v":" "},{"$f":"IF('2024NewCourses'!$A27=\"Yes\",'2024NewCourses'!AB27,\" \")","v":" "},{"$f":"IF('2024NewCourses'!$A27=\"Yes\",'2024NewCourses'!AC27,\" \")","v":" "},{"$f":"IF('2024NewCourses'!$A27=\"Yes\",'2024NewCourses'!AD27,\" \")","v":" "},{"$f":"IF('2024NewCourses'!$A27=\"Yes\",'2024NewCourses'!AE27,\" \")","v":" "},{"$f":"IF('2024NewCourses'!$A27=\"Yes\",'2024NewCourses'!AF27,\" \")","v":" "},{"$f":"IF('2024NewCourses'!$A27=\"Yes\",'2024NewCourses'!AG27,\" \")","v":" "},{"$f":"IF('2024NewCourses'!$A27=\"Yes\",'2024NewCourses'!AH27,\" \")","v":" "},{"$f":"IF('2024NewCourses'!$A27=\"Yes\",'2024NewCourses'!AI27,\" \")","v":" "},{"$f":"IF('2024NewCourses'!$A27=\"Yes\",'2024NewCourses'!AJ27,\" \")","v":" "},{"$f":"IF('2024NewCourses'!$A27=\"Yes\",'2024NewCourses'!AK27,\" \")","v":" "},{"$f":"IF('2024NewCourses'!$A27=\"Yes\",'2024NewCourses'!AL27,\" \")","v":" "},{"$f":"IF('2024NewCourses'!$A27=\"Yes\",'2024NewCourses'!AM27,\" \")","v":" "},{"$f":"IF('2024NewCourses'!$A27=\"Yes\",'2024NewCourses'!AN27,\" \")","v":" "},{"$f":"IF('2024NewCourses'!$A27=\"Yes\",'2024NewCourses'!AO27,\" \")","v":" "},{"$f":"IF('2024NewCourses'!$A27=\"Yes\",'2024NewCourses'!AP27,\" \")","v":" "},{"$f":"IF('2024NewCourses'!$A27=\"Yes\",'2024NewCourses'!AQ27,\" \")","v":" "},{"$f":"IF('2024NewCourses'!$A27=\"Yes\",'2024NewCourses'!AR27,\" \")","v":" "},{"$f":"IF('2024NewCourses'!$A27=\"Yes\",'2024NewCourses'!AR27,\" \")","v":" "},{"$f":"IF('2024NewCourses'!$A27=\"Yes\",'2024NewCourses'!AS27,\" \")","v":" "},{"$f":"IF('2024NewCourses'!$A27=\"Yes\",'2024NewCourses'!AT27,\" \")","v":" "},{"$f":"IF('2024NewCourses'!$A27=\"Yes\",'2024NewCourses'!AU27,\" \")","v":" "},{"$f":"IF('2024NewCourses'!$A27=\"Yes\",'2024NewCourses'!AV27,\" \")","v":" "},{"$f":"IF('2024NewCourses'!$A27=\"Yes\",'2024NewCourses'!AW27,\" \")","v":" "},{"$f":"IF('2024NewCourses'!$A27=\"Yes\",'2024NewCourses'!AX27,\" \")","v":" "},{"$f":"IF('2024NewCourses'!$A27=\"Yes\",'2024NewCourses'!AY27,\" \")","v":" "},{"$f":"IF('2024NewCourses'!$A27=\"Yes\",'2024NewCourses'!AZ27,\" \")","v":" "},{"$f":"IF('2024NewCourses'!$A27=\"Yes\",'2024NewCourses'!BA27,\" \")","v":" "},{"$f":"IF('2024NewCourses'!$A27=\"Yes\",'2024NewCourses'!BB27,\" \")","v":" "},{"$f":"IF('2024NewCourses'!$A27=\"Yes\",'2024NewCourses'!BC27,\" \")","v":" "},{"$f":"IF('2024NewCourses'!$A27=\"Yes\",'2024NewCourses'!BD27,\" \")","v":" "},{"$f":"IF('2024NewCourses'!$A27=\"Yes\",'2024NewCourses'!BE27,\" \")","v":" "},{"$f":"IF('2024NewCourses'!$A27=\"Yes\",'2024NewCourses'!BF27,\" \")","v":" "},{"$f":"IF('2024NewCourses'!$A27=\"Yes\",'2024NewCourses'!BG27,\" \")","v":" "},{"$f":"IF('2024NewCourses'!$A27=\"Yes\",'2024NewCourses'!BH27,\" \")","v":" "},{"$f":"IF('2024NewCourses'!$A27=\"Yes\",'2024NewCourses'!BI27,\" \")","v":" "},{"$f":"IF('2024NewCourses'!$A27=\"Yes\",'2024NewCourses'!BJ27,\" \")","v":" "}]
[{"$f":"IF('2024NewCourses'!$A28=\"Yes\",'2024NewCourses'!B28,\" \")","v":" "},{"$f":"IF('2024NewCourses'!$A28=\"Yes\",'2024NewCourses'!D28,\" \")","v":" "},{"$f":"IF('2024NewCourses'!$A28=\"Yes\",'2024NewCourses'!F28,\" \")","v":" "},{"$f":"IF('2024NewCourses'!$A28=\"Yes\",'2024NewCourses'!G28,\" \")","v":" "},{"$f":"IF('2024NewCourses'!$A28=\"Yes\",'2024NewCourses'!H28,\" \")","v":" "},{"$f":"IF('2024NewCourses'!$A28=\"Yes\",'2024NewCourses'!J28,\" \")","v":" "},{"$f":"IF('2024NewCourses'!$A28=\"Yes\",'2024NewCourses'!K28,\" \")","v":" "},{"$f":"IF('2024NewCourses'!$A28=\"Yes\",'2024NewCourses'!L28,\" \")","v":" "},{"$f":"IF('2024NewCourses'!$A28=\"Yes\",'2024NewCourses'!M28,\" \")","v":" "},{"$f":"IF('2024NewCourses'!$A28=\"Yes\",'2024NewCourses'!N28,\" \")","v":" "},{"$f":"IF('2024NewCourses'!$A28=\"Yes\",'2024NewCourses'!O28,\" \")","v":" "},{"$f":"IF('2024NewCourses'!$A28=\"Yes\",'2024NewCourses'!P28,\" \")","v":" "},{"$f":"IF('2024NewCourses'!$A28=\"Yes\",'2024NewCourses'!Q28,\" \")","v":" "},{"$f":"IF('2024NewCourses'!$A28=\"Yes\",'2024NewCourses'!R28,\" \")","v":" "},{"$f":"IF('2024NewCourses'!$A28=\"Yes\",'2024NewCourses'!S28,\" \")","v":" "},{"$f":"IF('2024NewCourses'!$A28=\"Yes\",'2024NewCourses'!T28,\" \")","v":" "},{"$f":"IF('2024NewCourses'!$A28=\"Yes\",'2024NewCourses'!U28,\" \")","v":" "},{"$f":"IF('2024NewCourses'!$A28=\"Yes\",'2024NewCourses'!V28,\" \")","v":" "},{"$f":"IF('2024NewCourses'!$A28=\"Yes\",'2024NewCourses'!W28,\" \")","v":" "},{"$f":"IF('2024NewCourses'!$A28=\"Yes\",'2024NewCourses'!X28,\" \")","v":" "},{"$f":"IF('2024NewCourses'!$A28=\"Yes\",'2024NewCourses'!Y28,\" \")","v":" "},{"$f":"IF('2024NewCourses'!$A28=\"Yes\",'2024NewCourses'!Z28,\" \")","v":" "},{"$f":"IF('2024NewCourses'!$A28=\"Yes\",'2024NewCourses'!AA28,\" \")","v":" "},{"$f":"IF('2024NewCourses'!$A28=\"Yes\",'2024NewCourses'!AB28,\" \")","v":" "},{"$f":"IF('2024NewCourses'!$A28=\"Yes\",'2024NewCourses'!AC28,\" \")","v":" "},{"$f":"IF('2024NewCourses'!$A28=\"Yes\",'2024NewCourses'!AD28,\" \")","v":" "},{"$f":"IF('2024NewCourses'!$A28=\"Yes\",'2024NewCourses'!AE28,\" \")","v":" "},{"$f":"IF('2024NewCourses'!$A28=\"Yes\",'2024NewCourses'!AF28,\" \")","v":" "},{"$f":"IF('2024NewCourses'!$A28=\"Yes\",'2024NewCourses'!AG28,\" \")","v":" "},{"$f":"IF('2024NewCourses'!$A28=\"Yes\",'2024NewCourses'!AH28,\" \")","v":" "},{"$f":"IF('2024NewCourses'!$A28=\"Yes\",'2024NewCourses'!AI28,\" \")","v":" "},{"$f":"IF('2024NewCourses'!$A28=\"Yes\",'2024NewCourses'!AJ28,\" \")","v":" "},{"$f":"IF('2024NewCourses'!$A28=\"Yes\",'2024NewCourses'!AK28,\" \")","v":" "},{"$f":"IF('2024NewCourses'!$A28=\"Yes\",'2024NewCourses'!AL28,\" \")","v":" "},{"$f":"IF('2024NewCourses'!$A28=\"Yes\",'2024NewCourses'!AM28,\" \")","v":" "},{"$f":"IF('2024NewCourses'!$A28=\"Yes\",'2024NewCourses'!AN28,\" \")","v":" "},{"$f":"IF('2024NewCourses'!$A28=\"Yes\",'2024NewCourses'!AO28,\" \")","v":" "},{"$f":"IF('2024NewCourses'!$A28=\"Yes\",'2024NewCourses'!AP28,\" \")","v":" "},{"$f":"IF('2024NewCourses'!$A28=\"Yes\",'2024NewCourses'!AQ28,\" \")","v":" "},{"$f":"IF('2024NewCourses'!$A28=\"Yes\",'2024NewCourses'!AR28,\" \")","v":" "},{"$f":"IF('2024NewCourses'!$A28=\"Yes\",'2024NewCourses'!AR28,\" \")","v":" "},{"$f":"IF('2024NewCourses'!$A28=\"Yes\",'2024NewCourses'!AS28,\" \")","v":" "},{"$f":"IF('2024NewCourses'!$A28=\"Yes\",'2024NewCourses'!AT28,\" \")","v":" "},{"$f":"IF('2024NewCourses'!$A28=\"Yes\",'2024NewCourses'!AU28,\" \")","v":" "},{"$f":"IF('2024NewCourses'!$A28=\"Yes\",'2024NewCourses'!AV28,\" \")","v":" "},{"$f":"IF('2024NewCourses'!$A28=\"Yes\",'2024NewCourses'!AW28,\" \")","v":" "},{"$f":"IF('2024NewCourses'!$A28=\"Yes\",'2024NewCourses'!AX28,\" \")","v":" "},{"$f":"IF('2024NewCourses'!$A28=\"Yes\",'2024NewCourses'!AY28,\" \")","v":" "},{"$f":"IF('2024NewCourses'!$A28=\"Yes\",'2024NewCourses'!AZ28,\" \")","v":" "},{"$f":"IF('2024NewCourses'!$A28=\"Yes\",'2024NewCourses'!BA28,\" \")","v":" "},{"$f":"IF('2024NewCourses'!$A28=\"Yes\",'2024NewCourses'!BB28,\" \")","v":" "},{"$f":"IF('2024NewCourses'!$A28=\"Yes\",'2024NewCourses'!BC28,\" \")","v":" "},{"$f":"IF('2024NewCourses'!$A28=\"Yes\",'2024NewCourses'!BD28,\" \")","v":" "},{"$f":"IF('2024NewCourses'!$A28=\"Yes\",'2024NewCourses'!BE28,\" \")","v":" "},{"$f":"IF('2024NewCourses'!$A28=\"Yes\",'2024NewCourses'!BF28,\" \")","v":" "},{"$f":"IF('2024NewCourses'!$A28=\"Yes\",'2024NewCourses'!BG28,\" \")","v":" "},{"$f":"IF('2024NewCourses'!$A28=\"Yes\",'2024NewCourses'!BH28,\" \")","v":" "},{"$f":"IF('2024NewCourses'!$A28=\"Yes\",'2024NewCourses'!BI28,\" \")","v":" "},{"$f":"IF('2024NewCourses'!$A28=\"Yes\",'2024NewCourses'!BJ28,\" \")","v":" "}]
[{"$f":"IF('2024NewCourses'!$A29=\"Yes\",'2024NewCourses'!B29,\" \")","v":" "},{"$f":"IF('2024NewCourses'!$A29=\"Yes\",'2024NewCourses'!D29,\" \")","v":" "},{"$f":"IF('2024NewCourses'!$A29=\"Yes\",'2024NewCourses'!F29,\" \")","v":" "},{"$f":"IF('2024NewCourses'!$A29=\"Yes\",'2024NewCourses'!G29,\" \")","v":" "},{"$f":"IF('2024NewCourses'!$A29=\"Yes\",'2024NewCourses'!H29,\" \")","v":" "},{"$f":"IF('2024NewCourses'!$A29=\"Yes\",'2024NewCourses'!J29,\" \")","v":" "},{"$f":"IF('2024NewCourses'!$A29=\"Yes\",'2024NewCourses'!K29,\" \")","v":" "},{"$f":"IF('2024NewCourses'!$A29=\"Yes\",'2024NewCourses'!L29,\" \")","v":" "},{"$f":"IF('2024NewCourses'!$A29=\"Yes\",'2024NewCourses'!M29,\" \")","v":" "},{"$f":"IF('2024NewCourses'!$A29=\"Yes\",'2024NewCourses'!N29,\" \")","v":" "},{"$f":"IF('2024NewCourses'!$A29=\"Yes\",'2024NewCourses'!O29,\" \")","v":" "},{"$f":"IF('2024NewCourses'!$A29=\"Yes\",'2024NewCourses'!P29,\" \")","v":" "},{"$f":"IF('2024NewCourses'!$A29=\"Yes\",'2024NewCourses'!Q29,\" \")","v":" "},{"$f":"IF('2024NewCourses'!$A29=\"Yes\",'2024NewCourses'!R29,\" \")","v":" "},{"$f":"IF('2024NewCourses'!$A29=\"Yes\",'2024NewCourses'!S29,\" \")","v":" "},{"$f":"IF('2024NewCourses'!$A29=\"Yes\",'2024NewCourses'!T29,\" \")","v":" "},{"$f":"IF('2024NewCourses'!$A29=\"Yes\",'2024NewCourses'!U29,\" \")","v":" "},{"$f":"IF('2024NewCourses'!$A29=\"Yes\",'2024NewCourses'!V29,\" \")","v":" "},{"$f":"IF('2024NewCourses'!$A29=\"Yes\",'2024NewCourses'!W29,\" \")","v":" "},{"$f":"IF('2024NewCourses'!$A29=\"Yes\",'2024NewCourses'!X29,\" \")","v":" "},{"$f":"IF('2024NewCourses'!$A29=\"Yes\",'2024NewCourses'!Y29,\" \")","v":" "},{"$f":"IF('2024NewCourses'!$A29=\"Yes\",'2024NewCourses'!Z29,\" \")","v":" "},{"$f":"IF('2024NewCourses'!$A29=\"Yes\",'2024NewCourses'!AA29,\" \")","v":" "},{"$f":"IF('2024NewCourses'!$A29=\"Yes\",'2024NewCourses'!AB29,\" \")","v":" "},{"$f":"IF('2024NewCourses'!$A29=\"Yes\",'2024NewCourses'!AC29,\" \")","v":" "},{"$f":"IF('2024NewCourses'!$A29=\"Yes\",'2024NewCourses'!AD29,\" \")","v":" "},{"$f":"IF('2024NewCourses'!$A29=\"Yes\",'2024NewCourses'!AE29,\" \")","v":" "},{"$f":"IF('2024NewCourses'!$A29=\"Yes\",'2024NewCourses'!AF29,\" \")","v":" "},{"$f":"IF('2024NewCourses'!$A29=\"Yes\",'2024NewCourses'!AG29,\" \")","v":" "},{"$f":"IF('2024NewCourses'!$A29=\"Yes\",'2024NewCourses'!AH29,\" \")","v":" "},{"$f":"IF('2024NewCourses'!$A29=\"Yes\",'2024NewCourses'!AI29,\" \")","v":" "},{"$f":"IF('2024NewCourses'!$A29=\"Yes\",'2024NewCourses'!AJ29,\" \")","v":" "},{"$f":"IF('2024NewCourses'!$A29=\"Yes\",'2024NewCourses'!AK29,\" \")","v":" "},{"$f":"IF('2024NewCourses'!$A29=\"Yes\",'2024NewCourses'!AL29,\" \")","v":" "},{"$f":"IF('2024NewCourses'!$A29=\"Yes\",'2024NewCourses'!AM29,\" \")","v":" "},{"$f":"IF('2024NewCourses'!$A29=\"Yes\",'2024NewCourses'!AN29,\" \")","v":" "},{"$f":"IF('2024NewCourses'!$A29=\"Yes\",'2024NewCourses'!AO29,\" \")","v":" "},{"$f":"IF('2024NewCourses'!$A29=\"Yes\",'2024NewCourses'!AP29,\" \")","v":" "},{"$f":"IF('2024NewCourses'!$A29=\"Yes\",'2024NewCourses'!AQ29,\" \")","v":" "},{"$f":"IF('2024NewCourses'!$A29=\"Yes\",'2024NewCourses'!AR29,\" \")","v":" "},{"$f":"IF('2024NewCourses'!$A29=\"Yes\",'2024NewCourses'!AR29,\" \")","v":" "},{"$f":"IF('2024NewCourses'!$A29=\"Yes\",'2024NewCourses'!AS29,\" \")","v":" "},{"$f":"IF('2024NewCourses'!$A29=\"Yes\",'2024NewCourses'!AT29,\" \")","v":" "},{"$f":"IF('2024NewCourses'!$A29=\"Yes\",'2024NewCourses'!AU29,\" \")","v":" "},{"$f":"IF('2024NewCourses'!$A29=\"Yes\",'2024NewCourses'!AV29,\" \")","v":" "},{"$f":"IF('2024NewCourses'!$A29=\"Yes\",'2024NewCourses'!AW29,\" \")","v":" "},{"$f":"IF('2024NewCourses'!$A29=\"Yes\",'2024NewCourses'!AX29,\" \")","v":" "},{"$f":"IF('2024NewCourses'!$A29=\"Yes\",'2024NewCourses'!AY29,\" \")","v":" "},{"$f":"IF('2024NewCourses'!$A29=\"Yes\",'2024NewCourses'!AZ29,\" \")","v":" "},{"$f":"IF('2024NewCourses'!$A29=\"Yes\",'2024NewCourses'!BA29,\" \")","v":" "},{"$f":"IF('2024NewCourses'!$A29=\"Yes\",'2024NewCourses'!BB29,\" \")","v":" "},{"$f":"IF('2024NewCourses'!$A29=\"Yes\",'2024NewCourses'!BC29,\" \")","v":" "},{"$f":"IF('2024NewCourses'!$A29=\"Yes\",'2024NewCourses'!BD29,\" \")","v":" "},{"$f":"IF('2024NewCourses'!$A29=\"Yes\",'2024NewCourses'!BE29,\" \")","v":" "},{"$f":"IF('2024NewCourses'!$A29=\"Yes\",'2024NewCourses'!BF29,\" \")","v":" "},{"$f":"IF('2024NewCourses'!$A29=\"Yes\",'2024NewCourses'!BG29,\" \")","v":" "},{"$f":"IF('2024NewCourses'!$A29=\"Yes\",'2024NewCourses'!BH29,\" \")","v":" "},{"$f":"IF('2024NewCourses'!$A29=\"Yes\",'2024NewCourses'!BI29,\" \")","v":" "},{"$f":"IF('2024NewCourses'!$A29=\"Yes\",'2024NewCourses'!BJ29,\" \")","v":" "}]
[{"$f":"IF('2024NewCourses'!$A30=\"Yes\",'2024NewCourses'!B30,\" \")","v":" "},{"$f":"IF('2024NewCourses'!$A30=\"Yes\",'2024NewCourses'!D30,\" \")","v":" "},{"$f":"IF('2024NewCourses'!$A30=\"Yes\",'2024NewCourses'!F30,\" \")","v":" "},{"$f":"IF('2024NewCourses'!$A30=\"Yes\",'2024NewCourses'!G30,\" \")","v":" "},{"$f":"IF('2024NewCourses'!$A30=\"Yes\",'2024NewCourses'!H30,\" \")","v":" "},{"$f":"IF('2024NewCourses'!$A30=\"Yes\",'2024NewCourses'!J30,\" \")","v":" "},{"$f":"IF('2024NewCourses'!$A30=\"Yes\",'2024NewCourses'!K30,\" \")","v":" "},{"$f":"IF('2024NewCourses'!$A30=\"Yes\",'2024NewCourses'!L30,\" \")","v":" "},{"$f":"IF('2024NewCourses'!$A30=\"Yes\",'2024NewCourses'!M30,\" \")","v":" "},{"$f":"IF('2024NewCourses'!$A30=\"Yes\",'2024NewCourses'!N30,\" \")","v":" "},{"$f":"IF('2024NewCourses'!$A30=\"Yes\",'2024NewCourses'!O30,\" \")","v":" "},{"$f":"IF('2024NewCourses'!$A30=\"Yes\",'2024NewCourses'!P30,\" \")","v":" "},{"$f":"IF('2024NewCourses'!$A30=\"Yes\",'2024NewCourses'!Q30,\" \")","v":" "},{"$f":"IF('2024NewCourses'!$A30=\"Yes\",'2024NewCourses'!R30,\" \")","v":" "},{"$f":"IF('2024NewCourses'!$A30=\"Yes\",'2024NewCourses'!S30,\" \")","v":" "},{"$f":"IF('2024NewCourses'!$A30=\"Yes\",'2024NewCourses'!T30,\" \")","v":" "},{"$f":"IF('2024NewCourses'!$A30=\"Yes\",'2024NewCourses'!U30,\" \")","v":" "},{"$f":"IF('2024NewCourses'!$A30=\"Yes\",'2024NewCourses'!V30,\" \")","v":" "},{"$f":"IF('2024NewCourses'!$A30=\"Yes\",'2024NewCourses'!W30,\" \")","v":" "},{"$f":"IF('2024NewCourses'!$A30=\"Yes\",'2024NewCourses'!X30,\" \")","v":" "},{"$f":"IF('2024NewCourses'!$A30=\"Yes\",'2024NewCourses'!Y30,\" \")","v":" "},{"$f":"IF('2024NewCourses'!$A30=\"Yes\",'2024NewCourses'!Z30,\" \")","v":" "},{"$f":"IF('2024NewCourses'!$A30=\"Yes\",'2024NewCourses'!AA30,\" \")","v":" "},{"$f":"IF('2024NewCourses'!$A30=\"Yes\",'2024NewCourses'!AB30,\" \")","v":" "},{"$f":"IF('2024NewCourses'!$A30=\"Yes\",'2024NewCourses'!AC30,\" \")","v":" "},{"$f":"IF('2024NewCourses'!$A30=\"Yes\",'2024NewCourses'!AD30,\" \")","v":" "},{"$f":"IF('2024NewCourses'!$A30=\"Yes\",'2024NewCourses'!AE30,\" \")","v":" "},{"$f":"IF('2024NewCourses'!$A30=\"Yes\",'2024NewCourses'!AF30,\" \")","v":" "},{"$f":"IF('2024NewCourses'!$A30=\"Yes\",'2024NewCourses'!AG30,\" \")","v":" "},{"$f":"IF('2024NewCourses'!$A30=\"Yes\",'2024NewCourses'!AH30,\" \")","v":" "},{"$f":"IF('2024NewCourses'!$A30=\"Yes\",'2024NewCourses'!AI30,\" \")","v":" "},{"$f":"IF('2024NewCourses'!$A30=\"Yes\",'2024NewCourses'!AJ30,\" \")","v":" "},{"$f":"IF('2024NewCourses'!$A30=\"Yes\",'2024NewCourses'!AK30,\" \")","v":" "},{"$f":"IF('2024NewCourses'!$A30=\"Yes\",'2024NewCourses'!AL30,\" \")","v":" "},{"$f":"IF('2024NewCourses'!$A30=\"Yes\",'2024NewCourses'!AM30,\" \")","v":" "},{"$f":"IF('2024NewCourses'!$A30=\"Yes\",'2024NewCourses'!AN30,\" \")","v":" "},{"$f":"IF('2024NewCourses'!$A30=\"Yes\",'2024NewCourses'!AO30,\" \")","v":" "},{"$f":"IF('2024NewCourses'!$A30=\"Yes\",'2024NewCourses'!AP30,\" \")","v":" "},{"$f":"IF('2024NewCourses'!$A30=\"Yes\",'2024NewCourses'!AQ30,\" \")","v":" "},{"$f":"IF('2024NewCourses'!$A30=\"Yes\",'2024NewCourses'!AR30,\" \")","v":" "},{"$f":"IF('2024NewCourses'!$A30=\"Yes\",'2024NewCourses'!AR30,\" \")","v":" "},{"$f":"IF('2024NewCourses'!$A30=\"Yes\",'2024NewCourses'!AS30,\" \")","v":" "},{"$f":"IF('2024NewCourses'!$A30=\"Yes\",'2024NewCourses'!AT30,\" \")","v":" "},{"$f":"IF('2024NewCourses'!$A30=\"Yes\",'2024NewCourses'!AU30,\" \")","v":" "},{"$f":"IF('2024NewCourses'!$A30=\"Yes\",'2024NewCourses'!AV30,\" \")","v":" "},{"$f":"IF('2024NewCourses'!$A30=\"Yes\",'2024NewCourses'!AW30,\" \")","v":" "},{"$f":"IF('2024NewCourses'!$A30=\"Yes\",'2024NewCourses'!AX30,\" \")","v":" "},{"$f":"IF('2024NewCourses'!$A30=\"Yes\",'2024NewCourses'!AY30,\" \")","v":" "},{"$f":"IF('2024NewCourses'!$A30=\"Yes\",'2024NewCourses'!AZ30,\" \")","v":" "},{"$f":"IF('2024NewCourses'!$A30=\"Yes\",'2024NewCourses'!BA30,\" \")","v":" "},{"$f":"IF('2024NewCourses'!$A30=\"Yes\",'2024NewCourses'!BB30,\" \")","v":" "},{"$f":"IF('2024NewCourses'!$A30=\"Yes\",'2024NewCourses'!BC30,\" \")","v":" "},{"$f":"IF('2024NewCourses'!$A30=\"Yes\",'2024NewCourses'!BD30,\" \")","v":" "},{"$f":"IF('2024NewCourses'!$A30=\"Yes\",'2024NewCourses'!BE30,\" \")","v":" "},{"$f":"IF('2024NewCourses'!$A30=\"Yes\",'2024NewCourses'!BF30,\" \")","v":" "},{"$f":"IF('2024NewCourses'!$A30=\"Yes\",'2024NewCourses'!BG30,\" \")","v":" "},{"$f":"IF('2024NewCourses'!$A30=\"Yes\",'2024NewCourses'!BH30,\" \")","v":" "},{"$f":"IF('2024NewCourses'!$A30=\"Yes\",'2024NewCourses'!BI30,\" \")","v":" "},{"$f":"IF('2024NewCourses'!$A30=\"Yes\",'2024NewCourses'!BJ30,\" \")","v":" "}]
[{"$f":"IF('2024NewCourses'!$A32=\"Yes\",'2024NewCourses'!B32,\" \")","v":" "},{"$f":"IF('2024NewCourses'!$A32=\"Yes\",'2024NewCourses'!D32,\" \")","v":" "},{"$f":"IF('2024NewCourses'!$A32=\"Yes\",'2024NewCourses'!F32,\" \")","v":" "},{"$f":"IF('2024NewCourses'!$A32=\"Yes\",'2024NewCourses'!G32,\" \")","v":" "},{"$f":"IF('2024NewCourses'!$A32=\"Yes\",'2024NewCourses'!H32,\" \")","v":" "},{"$f":"IF('2024NewCourses'!$A32=\"Yes\",'2024NewCourses'!J32,\" \")","v":" "},{"$f":"IF('2024NewCourses'!$A32=\"Yes\",'2024NewCourses'!K32,\" \")","v":" "},{"$f":"IF('2024NewCourses'!$A32=\"Yes\",'2024NewCourses'!L32,\" \")","v":" "},{"$f":"IF('2024NewCourses'!$A32=\"Yes\",'2024NewCourses'!M32,\" \")","v":" "},{"$f":"IF('2024NewCourses'!$A32=\"Yes\",'2024NewCourses'!N32,\" \")","v":" "},{"$f":"IF('2024NewCourses'!$A32=\"Yes\",'2024NewCourses'!O32,\" \")","v":" "},{"$f":"IF('2024NewCourses'!$A32=\"Yes\",'2024NewCourses'!P32,\" \")","v":" "},{"$f":"IF('2024NewCourses'!$A32=\"Yes\",'2024NewCourses'!Q32,\" \")","v":" "},{"$f":"IF('2024NewCourses'!$A32=\"Yes\",'2024NewCourses'!R32,\" \")","v":" "},{"$f":"IF('2024NewCourses'!$A32=\"Yes\",'2024NewCourses'!S32,\" \")","v":" "},{"$f":"IF('2024NewCourses'!$A32=\"Yes\",'2024NewCourses'!T32,\" \")","v":" "},{"$f":"IF('2024NewCourses'!$A32=\"Yes\",'2024NewCourses'!U32,\" \")","v":" "},{"$f":"IF('2024NewCourses'!$A32=\"Yes\",'2024NewCourses'!V32,\" \")","v":" "},{"$f":"IF('2024NewCourses'!$A32=\"Yes\",'2024NewCourses'!W32,\" \")","v":" "},{"$f":"IF('2024NewCourses'!$A32=\"Yes\",'2024NewCourses'!X32,\" \")","v":" "},{"$f":"IF('2024NewCourses'!$A32=\"Yes\",'2024NewCourses'!Y32,\" \")","v":" "},{"$f":"IF('2024NewCourses'!$A32=\"Yes\",'2024NewCourses'!Z32,\" \")","v":" "},{"$f":"IF('2024NewCourses'!$A32=\"Yes\",'2024NewCourses'!AA32,\" \")","v":" "},{"$f":"IF('2024NewCourses'!$A32=\"Yes\",'2024NewCourses'!AB32,\" \")","v":" "},{"$f":"IF('2024NewCourses'!$A32=\"Yes\",'2024NewCourses'!AC32,\" \")","v":" "},{"$f":"IF('2024NewCourses'!$A32=\"Yes\",'2024NewCourses'!AD32,\" \")","v":" "},{"$f":"IF('2024NewCourses'!$A32=\"Yes\",'2024NewCourses'!AE32,\" \")","v":" "},{"$f":"IF('2024NewCourses'!$A32=\"Yes\",'2024NewCourses'!AF32,\" \")","v":" "},{"$f":"IF('2024NewCourses'!$A32=\"Yes\",'2024NewCourses'!AG32,\" \")","v":" "},{"$f":"IF('2024NewCourses'!$A32=\"Yes\",'2024NewCourses'!AH32,\" \")","v":" "},{"$f":"IF('2024NewCourses'!$A32=\"Yes\",'2024NewCourses'!AI32,\" \")","v":" "},{"$f":"IF('2024NewCourses'!$A32=\"Yes\",'2024NewCourses'!AJ32,\" \")","v":" "},{"$f":"IF('2024NewCourses'!$A32=\"Yes\",'2024NewCourses'!AK32,\" \")","v":" "},{"$f":"IF('2024NewCourses'!$A32=\"Yes\",'2024NewCourses'!AL32,\" \")","v":" "},{"$f":"IF('2024NewCourses'!$A32=\"Yes\",'2024NewCourses'!AM32,\" \")","v":" "},{"$f":"IF('2024NewCourses'!$A32=\"Yes\",'2024NewCourses'!AN32,\" \")","v":" "},{"$f":"IF('2024NewCourses'!$A32=\"Yes\",'2024NewCourses'!AO32,\" \")","v":" "},{"$f":"IF('2024NewCourses'!$A32=\"Yes\",'2024NewCourses'!AP32,\" \")","v":" "},{"$f":"IF('2024NewCourses'!$A32=\"Yes\",'2024NewCourses'!AQ32,\" \")","v":" "},{"$f":"IF('2024NewCourses'!$A32=\"Yes\",'2024NewCourses'!AR32,\" \")","v":" "},{"$f":"IF('2024NewCourses'!$A32=\"Yes\",'2024NewCourses'!AR32,\" \")","v":" "},{"$f":"IF('2024NewCourses'!$A32=\"Yes\",'2024NewCourses'!AS32,\" \")","v":" "},{"$f":"IF('2024NewCourses'!$A32=\"Yes\",'2024NewCourses'!AT32,\" \")","v":" "},{"$f":"IF('2024NewCourses'!$A32=\"Yes\",'2024NewCourses'!AU32,\" \")","v":" "},{"$f":"IF('2024NewCourses'!$A32=\"Yes\",'2024NewCourses'!AV32,\" \")","v":" "},{"$f":"IF('2024NewCourses'!$A32=\"Yes\",'2024NewCourses'!AW32,\" \")","v":" "},{"$f":"IF('2024NewCourses'!$A32=\"Yes\",'2024NewCourses'!AX32,\" \")","v":" "},{"$f":"IF('2024NewCourses'!$A32=\"Yes\",'2024NewCourses'!AY32,\" \")","v":" "},{"$f":"IF('2024NewCourses'!$A32=\"Yes\",'2024NewCourses'!AZ32,\" \")","v":" "},{"$f":"IF('2024NewCourses'!$A32=\"Yes\",'2024NewCourses'!BA32,\" \")","v":" "},{"$f":"IF('2024NewCourses'!$A32=\"Yes\",'2024NewCourses'!BB32,\" \")","v":" "},{"$f":"IF('2024NewCourses'!$A32=\"Yes\",'2024NewCourses'!BC32,\" \")","v":" "},{"$f":"IF('2024NewCourses'!$A32=\"Yes\",'2024NewCourses'!BD32,\" \")","v":" "},{"$f":"IF('2024NewCourses'!$A32=\"Yes\",'2024NewCourses'!BE32,\" \")","v":" "},{"$f":"IF('2024NewCourses'!$A32=\"Yes\",'2024NewCourses'!BF32,\" \")","v":" "},{"$f":"IF('2024NewCourses'!$A32=\"Yes\",'2024NewCourses'!BG32,\" \")","v":" "},{"$f":"IF('2024NewCourses'!$A32=\"Yes\",'2024NewCourses'!BH32,\" \")","v":" "},{"$f":"IF('2024NewCourses'!$A32=\"Yes\",'2024NewCourses'!BI32,\" \")","v":" "},{"$f":"IF('2024NewCourses'!$A32=\"Yes\",'2024NewCourses'!BJ32,\" \")","v":" "}]
[{"$f":"IF('2024NewCourses'!$A33=\"Yes\",'2024NewCourses'!B33,\" \")","v":" "},{"$f":"IF('2024NewCourses'!$A33=\"Yes\",'2024NewCourses'!D33,\" \")","v":" "},{"$f":"IF('2024NewCourses'!$A33=\"Yes\",'2024NewCourses'!F33,\" \")","v":" "},{"$f":"IF('2024NewCourses'!$A33=\"Yes\",'2024NewCourses'!G33,\" \")","v":" "},{"$f":"IF('2024NewCourses'!$A33=\"Yes\",'2024NewCourses'!H33,\" \")","v":" "},{"$f":"IF('2024NewCourses'!$A33=\"Yes\",'2024NewCourses'!J33,\" \")","v":" "},{"$f":"IF('2024NewCourses'!$A33=\"Yes\",'2024NewCourses'!K33,\" \")","v":" "},{"$f":"IF('2024NewCourses'!$A33=\"Yes\",'2024NewCourses'!L33,\" \")","v":" "},{"$f":"IF('2024NewCourses'!$A33=\"Yes\",'2024NewCourses'!M33,\" \")","v":" "},{"$f":"IF('2024NewCourses'!$A33=\"Yes\",'2024NewCourses'!N33,\" \")","v":" "},{"$f":"IF('2024NewCourses'!$A33=\"Yes\",'2024NewCourses'!O33,\" \")","v":" "},{"$f":"IF('2024NewCourses'!$A33=\"Yes\",'2024NewCourses'!P33,\" \")","v":" "},{"$f":"IF('2024NewCourses'!$A33=\"Yes\",'2024NewCourses'!Q33,\" \")","v":" "},{"$f":"IF('2024NewCourses'!$A33=\"Yes\",'2024NewCourses'!R33,\" \")","v":" "},{"$f":"IF('2024NewCourses'!$A33=\"Yes\",'2024NewCourses'!S33,\" \")","v":" "},{"$f":"IF('2024NewCourses'!$A33=\"Yes\",'2024NewCourses'!T33,\" \")","v":" "},{"$f":"IF('2024NewCourses'!$A33=\"Yes\",'2024NewCourses'!U33,\" \")","v":" "},{"$f":"IF('2024NewCourses'!$A33=\"Yes\",'2024NewCourses'!V33,\" \")","v":" "},{"$f":"IF('2024NewCourses'!$A33=\"Yes\",'2024NewCourses'!W33,\" \")","v":" "},{"$f":"IF('2024NewCourses'!$A33=\"Yes\",'2024NewCourses'!X33,\" \")","v":" "},{"$f":"IF('2024NewCourses'!$A33=\"Yes\",'2024NewCourses'!Y33,\" \")","v":" "},{"$f":"IF('2024NewCourses'!$A33=\"Yes\",'2024NewCourses'!Z33,\" \")","v":" "},{"$f":"IF('2024NewCourses'!$A33=\"Yes\",'2024NewCourses'!AA33,\" \")","v":" "},{"$f":"IF('2024NewCourses'!$A33=\"Yes\",'2024NewCourses'!AB33,\" \")","v":" "},{"$f":"IF('2024NewCourses'!$A33=\"Yes\",'2024NewCourses'!AC33,\" \")","v":" "},{"$f":"IF('2024NewCourses'!$A33=\"Yes\",'2024NewCourses'!AD33,\" \")","v":" "},{"$f":"IF('2024NewCourses'!$A33=\"Yes\",'2024NewCourses'!AE33,\" \")","v":" "},{"$f":"IF('2024NewCourses'!$A33=\"Yes\",'2024NewCourses'!AF33,\" \")","v":" "},{"$f":"IF('2024NewCourses'!$A33=\"Yes\",'2024NewCourses'!AG33,\" \")","v":" "},{"$f":"IF('2024NewCourses'!$A33=\"Yes\",'2024NewCourses'!AH33,\" \")","v":" "},{"$f":"IF('2024NewCourses'!$A33=\"Yes\",'2024NewCourses'!AI33,\" \")","v":" "},{"$f":"IF('2024NewCourses'!$A33=\"Yes\",'2024NewCourses'!AJ33,\" \")","v":" "},{"$f":"IF('2024NewCourses'!$A33=\"Yes\",'2024NewCourses'!AK33,\" \")","v":" "},{"$f":"IF('2024NewCourses'!$A33=\"Yes\",'2024NewCourses'!AL33,\" \")","v":" "},{"$f":"IF('2024NewCourses'!$A33=\"Yes\",'2024NewCourses'!AM33,\" \")","v":" "},{"$f":"IF('2024NewCourses'!$A33=\"Yes\",'2024NewCourses'!AN33,\" \")","v":" "},{"$f":"IF('2024NewCourses'!$A33=\"Yes\",'2024NewCourses'!AO33,\" \")","v":" "},{"$f":"IF('2024NewCourses'!$A33=\"Yes\",'2024NewCourses'!AP33,\" \")","v":" "},{"$f":"IF('2024NewCourses'!$A33=\"Yes\",'2024NewCourses'!AQ33,\" \")","v":" "},{"$f":"IF('2024NewCourses'!$A33=\"Yes\",'2024NewCourses'!AR33,\" \")","v":" "},{"$f":"IF('2024NewCourses'!$A33=\"Yes\",'2024NewCourses'!AR33,\" \")","v":" "},{"$f":"IF('2024NewCourses'!$A33=\"Yes\",'2024NewCourses'!AS33,\" \")","v":" "},{"$f":"IF('2024NewCourses'!$A33=\"Yes\",'2024NewCourses'!AT33,\" \")","v":" "},{"$f":"IF('2024NewCourses'!$A33=\"Yes\",'2024NewCourses'!AU33,\" \")","v":" "},{"$f":"IF('2024NewCourses'!$A33=\"Yes\",'2024NewCourses'!AV33,\" \")","v":" "},{"$f":"IF('2024NewCourses'!$A33=\"Yes\",'2024NewCourses'!AW33,\" \")","v":" "},{"$f":"IF('2024NewCourses'!$A33=\"Yes\",'2024NewCourses'!AX33,\" \")","v":" "},{"$f":"IF('2024NewCourses'!$A33=\"Yes\",'2024NewCourses'!AY33,\" \")","v":" "},{"$f":"IF('2024NewCourses'!$A33=\"Yes\",'2024NewCourses'!AZ33,\" \")","v":" "},{"$f":"IF('2024NewCourses'!$A33=\"Yes\",'2024NewCourses'!BA33,\" \")","v":" "},{"$f":"IF('2024NewCourses'!$A33=\"Yes\",'2024NewCourses'!BB33,\" \")","v":" "},{"$f":"IF('2024NewCourses'!$A33=\"Yes\",'2024NewCourses'!BC33,\" \")","v":" "},{"$f":"IF('2024NewCourses'!$A33=\"Yes\",'2024NewCourses'!BD33,\" \")","v":" "},{"$f":"IF('2024NewCourses'!$A33=\"Yes\",'2024NewCourses'!BE33,\" \")","v":" "},{"$f":"IF('2024NewCourses'!$A33=\"Yes\",'2024NewCourses'!BF33,\" \")","v":" "},{"$f":"IF('2024NewCourses'!$A33=\"Yes\",'2024NewCourses'!BG33,\" \")","v":" "},{"$f":"IF('2024NewCourses'!$A33=\"Yes\",'2024NewCourses'!BH33,\" \")","v":" "},{"$f":"IF('2024NewCourses'!$A33=\"Yes\",'2024NewCourses'!BI33,\" \")","v":" "},{"$f":"IF('2024NewCourses'!$A33=\"Yes\",'2024NewCourses'!BJ33,\" \")","v":" "}]
[{"$f":"IF('2024NewCourses'!$A34=\"Yes\",'2024NewCourses'!B34,\" \")","v":" "},{"$f":"IF('2024NewCourses'!$A34=\"Yes\",'2024NewCourses'!D34,\" \")","v":" "},{"$f":"IF('2024NewCourses'!$A34=\"Yes\",'2024NewCourses'!F34,\" \")","v":" "},{"$f":"IF('2024NewCourses'!$A34=\"Yes\",'2024NewCourses'!G34,\" \")","v":" "},{"$f":"IF('2024NewCourses'!$A34=\"Yes\",'2024NewCourses'!H34,\" \")","v":" "},{"$f":"IF('2024NewCourses'!$A34=\"Yes\",'2024NewCourses'!J34,\" \")","v":" "},{"$f":"IF('2024NewCourses'!$A34=\"Yes\",'2024NewCourses'!K34,\" \")","v":" "},{"$f":"IF('2024NewCourses'!$A34=\"Yes\",'2024NewCourses'!L34,\" \")","v":" "},{"$f":"IF('2024NewCourses'!$A34=\"Yes\",'2024NewCourses'!M34,\" \")","v":" "},{"$f":"IF('2024NewCourses'!$A34=\"Yes\",'2024NewCourses'!N34,\" \")","v":" "},{"$f":"IF('2024NewCourses'!$A34=\"Yes\",'2024NewCourses'!O34,\" \")","v":" "},{"$f":"IF('2024NewCourses'!$A34=\"Yes\",'2024NewCourses'!P34,\" \")","v":" "},{"$f":"IF('2024NewCourses'!$A34=\"Yes\",'2024NewCourses'!Q34,\" \")","v":" "},{"$f":"IF('2024NewCourses'!$A34=\"Yes\",'2024NewCourses'!R34,\" \")","v":" "},{"$f":"IF('2024NewCourses'!$A34=\"Yes\",'2024NewCourses'!S34,\" \")","v":" "},{"$f":"IF('2024NewCourses'!$A34=\"Yes\",'2024NewCourses'!T34,\" \")","v":" "},{"$f":"IF('2024NewCourses'!$A34=\"Yes\",'2024NewCourses'!U34,\" \")","v":" "},{"$f":"IF('2024NewCourses'!$A34=\"Yes\",'2024NewCourses'!V34,\" \")","v":" "},{"$f":"IF('2024NewCourses'!$A34=\"Yes\",'2024NewCourses'!W34,\" \")","v":" "},{"$f":"IF('2024NewCourses'!$A34=\"Yes\",'2024NewCourses'!X34,\" \")","v":" "},{"$f":"IF('2024NewCourses'!$A34=\"Yes\",'2024NewCourses'!Y34,\" \")","v":" "},{"$f":"IF('2024NewCourses'!$A34=\"Yes\",'2024NewCourses'!Z34,\" \")","v":" "},{"$f":"IF('2024NewCourses'!$A34=\"Yes\",'2024NewCourses'!AA34,\" \")","v":" "},{"$f":"IF('2024NewCourses'!$A34=\"Yes\",'2024NewCourses'!AB34,\" \")","v":" "},{"$f":"IF('2024NewCourses'!$A34=\"Yes\",'2024NewCourses'!AC34,\" \")","v":" "},{"$f":"IF('2024NewCourses'!$A34=\"Yes\",'2024NewCourses'!AD34,\" \")","v":" "},{"$f":"IF('2024NewCourses'!$A34=\"Yes\",'2024NewCourses'!AE34,\" \")","v":" "},{"$f":"IF('2024NewCourses'!$A34=\"Yes\",'2024NewCourses'!AF34,\" \")","v":" "},{"$f":"IF('2024NewCourses'!$A34=\"Yes\",'2024NewCourses'!AG34,\" \")","v":" "},{"$f":"IF('2024NewCourses'!$A34=\"Yes\",'2024NewCourses'!AH34,\" \")","v":" "},{"$f":"IF('2024NewCourses'!$A34=\"Yes\",'2024NewCourses'!AI34,\" \")","v":" "},{"$f":"IF('2024NewCourses'!$A34=\"Yes\",'2024NewCourses'!AJ34,\" \")","v":" "},{"$f":"IF('2024NewCourses'!$A34=\"Yes\",'2024NewCourses'!AK34,\" \")","v":" "},{"$f":"IF('2024NewCourses'!$A34=\"Yes\",'2024NewCourses'!AL34,\" \")","v":" "},{"$f":"IF('2024NewCourses'!$A34=\"Yes\",'2024NewCourses'!AM34,\" \")","v":" "},{"$f":"IF('2024NewCourses'!$A34=\"Yes\",'2024NewCourses'!AN34,\" \")","v":" "},{"$f":"IF('2024NewCourses'!$A34=\"Yes\",'2024NewCourses'!AO34,\" \")","v":" "},{"$f":"IF('2024NewCourses'!$A34=\"Yes\",'2024NewCourses'!AP34,\" \")","v":" "},{"$f":"IF('2024NewCourses'!$A34=\"Yes\",'2024NewCourses'!AQ34,\" \")","v":" "},{"$f":"IF('2024NewCourses'!$A34=\"Yes\",'2024NewCourses'!AR34,\" \")","v":" "},{"$f":"IF('2024NewCourses'!$A34=\"Yes\",'2024NewCourses'!AR34,\" \")","v":" "},{"$f":"IF('2024NewCourses'!$A34=\"Yes\",'2024NewCourses'!AS34,\" \")","v":" "},{"$f":"IF('2024NewCourses'!$A34=\"Yes\",'2024NewCourses'!AT34,\" \")","v":" "},{"$f":"IF('2024NewCourses'!$A34=\"Yes\",'2024NewCourses'!AU34,\" \")","v":" "},{"$f":"IF('2024NewCourses'!$A34=\"Yes\",'2024NewCourses'!AV34,\" \")","v":" "},{"$f":"IF('2024NewCourses'!$A34=\"Yes\",'2024NewCourses'!AW34,\" \")","v":" "},{"$f":"IF('2024NewCourses'!$A34=\"Yes\",'2024NewCourses'!AX34,\" \")","v":" "},{"$f":"IF('2024NewCourses'!$A34=\"Yes\",'2024NewCourses'!AY34,\" \")","v":" "},{"$f":"IF('2024NewCourses'!$A34=\"Yes\",'2024NewCourses'!AZ34,\" \")","v":" "},{"$f":"IF('2024NewCourses'!$A34=\"Yes\",'2024NewCourses'!BA34,\" \")","v":" "},{"$f":"IF('2024NewCourses'!$A34=\"Yes\",'2024NewCourses'!BB34,\" \")","v":" "},{"$f":"IF('2024NewCourses'!$A34=\"Yes\",'2024NewCourses'!BC34,\" \")","v":" "},{"$f":"IF('2024NewCourses'!$A34=\"Yes\",'2024NewCourses'!BD34,\" \")","v":" "},{"$f":"IF('2024NewCourses'!$A34=\"Yes\",'2024NewCourses'!BE34,\" \")","v":" "},{"$f":"IF('2024NewCourses'!$A34=\"Yes\",'2024NewCourses'!BF34,\" \")","v":" "},{"$f":"IF('2024NewCourses'!$A34=\"Yes\",'2024NewCourses'!BG34,\" \")","v":" "},{"$f":"IF('2024NewCourses'!$A34=\"Yes\",'2024NewCourses'!BH34,\" \")","v":" "},{"$f":"IF('2024NewCourses'!$A34=\"Yes\",'2024NewCourses'!BI34,\" \")","v":" "},{"$f":"IF('2024NewCourses'!$A34=\"Yes\",'2024NewCourses'!BJ34,\" \")","v":" "}]
[{"$f":"IF('2024NewCourses'!$A35=\"Yes\",'2024NewCourses'!B35,\" \")","v":" "},{"$f":"IF('2024NewCourses'!$A35=\"Yes\",'2024NewCourses'!D35,\" \")","v":" "},{"$f":"IF('2024NewCourses'!$A35=\"Yes\",'2024NewCourses'!F35,\" \")","v":" "},{"$f":"IF('2024NewCourses'!$A35=\"Yes\",'2024NewCourses'!G35,\" \")","v":" "},{"$f":"IF('2024NewCourses'!$A35=\"Yes\",'2024NewCourses'!H35,\" \")","v":" "},{"$f":"IF('2024NewCourses'!$A35=\"Yes\",'2024NewCourses'!J35,\" \")","v":" "},{"$f":"IF('2024NewCourses'!$A35=\"Yes\",'2024NewCourses'!K35,\" \")","v":" "},{"$f":"IF('2024NewCourses'!$A35=\"Yes\",'2024NewCourses'!L35,\" \")","v":" "},{"$f":"IF('2024NewCourses'!$A35=\"Yes\",'2024NewCourses'!M35,\" \")","v":" "},{"$f":"IF('2024NewCourses'!$A35=\"Yes\",'2024NewCourses'!N35,\" \")","v":" "},{"$f":"IF('2024NewCourses'!$A35=\"Yes\",'2024NewCourses'!O35,\" \")","v":" "},{"$f":"IF('2024NewCourses'!$A35=\"Yes\",'2024NewCourses'!P35,\" \")","v":" "},{"$f":"IF('2024NewCourses'!$A35=\"Yes\",'2024NewCourses'!Q35,\" \")","v":" "},{"$f":"IF('2024NewCourses'!$A35=\"Yes\",'2024NewCourses'!R35,\" \")","v":" "},{"$f":"IF('2024NewCourses'!$A35=\"Yes\",'2024NewCourses'!S35,\" \")","v":" "},{"$f":"IF('2024NewCourses'!$A35=\"Yes\",'2024NewCourses'!T35,\" \")","v":" "},{"$f":"IF('2024NewCourses'!$A35=\"Yes\",'2024NewCourses'!U35,\" \")","v":" "},{"$f":"IF('2024NewCourses'!$A35=\"Yes\",'2024NewCourses'!V35,\" \")","v":" "},{"$f":"IF('2024NewCourses'!$A35=\"Yes\",'2024NewCourses'!W35,\" \")","v":" "},{"$f":"IF('2024NewCourses'!$A35=\"Yes\",'2024NewCourses'!X35,\" \")","v":" "},{"$f":"IF('2024NewCourses'!$A35=\"Yes\",'2024NewCourses'!Y35,\" \")","v":" "},{"$f":"IF('2024NewCourses'!$A35=\"Yes\",'2024NewCourses'!Z35,\" \")","v":" "},{"$f":"IF('2024NewCourses'!$A35=\"Yes\",'2024NewCourses'!AA35,\" \")","v":" "},{"$f":"IF('2024NewCourses'!$A35=\"Yes\",'2024NewCourses'!AB35,\" \")","v":" "},{"$f":"IF('2024NewCourses'!$A35=\"Yes\",'2024NewCourses'!AC35,\" \")","v":" "},{"$f":"IF('2024NewCourses'!$A35=\"Yes\",'2024NewCourses'!AD35,\" \")","v":" "},{"$f":"IF('2024NewCourses'!$A35=\"Yes\",'2024NewCourses'!AE35,\" \")","v":" "},{"$f":"IF('2024NewCourses'!$A35=\"Yes\",'2024NewCourses'!AF35,\" \")","v":" "},{"$f":"IF('2024NewCourses'!$A35=\"Yes\",'2024NewCourses'!AG35,\" \")","v":" "},{"$f":"IF('2024NewCourses'!$A35=\"Yes\",'2024NewCourses'!AH35,\" \")","v":" "},{"$f":"IF('2024NewCourses'!$A35=\"Yes\",'2024NewCourses'!AI35,\" \")","v":" "},{"$f":"IF('2024NewCourses'!$A35=\"Yes\",'2024NewCourses'!AJ35,\" \")","v":" "},{"$f":"IF('2024NewCourses'!$A35=\"Yes\",'2024NewCourses'!AK35,\" \")","v":" "},{"$f":"IF('2024NewCourses'!$A35=\"Yes\",'2024NewCourses'!AL35,\" \")","v":" "},{"$f":"IF('2024NewCourses'!$A35=\"Yes\",'2024NewCourses'!AM35,\" \")","v":" "},{"$f":"IF('2024NewCourses'!$A35=\"Yes\",'2024NewCourses'!AN35,\" \")","v":" "},{"$f":"IF('2024NewCourses'!$A35=\"Yes\",'2024NewCourses'!AO35,\" \")","v":" "},{"$f":"IF('2024NewCourses'!$A35=\"Yes\",'2024NewCourses'!AP35,\" \")","v":" "},{"$f":"IF('2024NewCourses'!$A35=\"Yes\",'2024NewCourses'!AQ35,\" \")","v":" "},{"$f":"IF('2024NewCourses'!$A35=\"Yes\",'2024NewCourses'!AR35,\" \")","v":" "},{"$f":"IF('2024NewCourses'!$A35=\"Yes\",'2024NewCourses'!AR35,\" \")","v":" "},{"$f":"IF('2024NewCourses'!$A35=\"Yes\",'2024NewCourses'!AS35,\" \")","v":" "},{"$f":"IF('2024NewCourses'!$A35=\"Yes\",'2024NewCourses'!AT35,\" \")","v":" "},{"$f":"IF('2024NewCourses'!$A35=\"Yes\",'2024NewCourses'!AU35,\" \")","v":" "},{"$f":"IF('2024NewCourses'!$A35=\"Yes\",'2024NewCourses'!AV35,\" \")","v":" "},{"$f":"IF('2024NewCourses'!$A35=\"Yes\",'2024NewCourses'!AW35,\" \")","v":" "},{"$f":"IF('2024NewCourses'!$A35=\"Yes\",'2024NewCourses'!AX35,\" \")","v":" "},{"$f":"IF('2024NewCourses'!$A35=\"Yes\",'2024NewCourses'!AY35,\" \")","v":" "},{"$f":"IF('2024NewCourses'!$A35=\"Yes\",'2024NewCourses'!AZ35,\" \")","v":" "},{"$f":"IF('2024NewCourses'!$A35=\"Yes\",'2024NewCourses'!BA35,\" \")","v":" "},{"$f":"IF('2024NewCourses'!$A35=\"Yes\",'2024NewCourses'!BB35,\" \")","v":" "},{"$f":"IF('2024NewCourses'!$A35=\"Yes\",'2024NewCourses'!BC35,\" \")","v":" "},{"$f":"IF('2024NewCourses'!$A35=\"Yes\",'2024NewCourses'!BD35,\" \")","v":" "},{"$f":"IF('2024NewCourses'!$A35=\"Yes\",'2024NewCourses'!BE35,\" \")","v":" "},{"$f":"IF('2024NewCourses'!$A35=\"Yes\",'2024NewCourses'!BF35,\" \")","v":" "},{"$f":"IF('2024NewCourses'!$A35=\"Yes\",'2024NewCourses'!BG35,\" \")","v":" "},{"$f":"IF('2024NewCourses'!$A35=\"Yes\",'2024NewCourses'!BH35,\" \")","v":" "},{"$f":"IF('2024NewCourses'!$A35=\"Yes\",'2024NewCourses'!BI35,\" \")","v":" "},{"$f":"IF('2024NewCourses'!$A35=\"Yes\",'2024NewCourses'!BJ35,\" \")","v":" "}]
[{"$f":"IF('2024NewCourses'!$A36=\"Yes\",'2024NewCourses'!B36,\" \")","v":" "},{"$f":"IF('2024NewCourses'!$A36=\"Yes\",'2024NewCourses'!D36,\" \")","v":" "},{"$f":"IF('2024NewCourses'!$A36=\"Yes\",'2024NewCourses'!F36,\" \")","v":" "},{"$f":"IF('2024NewCourses'!$A36=\"Yes\",'2024NewCourses'!G36,\" \")","v":" "},{"$f":"IF('2024NewCourses'!$A36=\"Yes\",'2024NewCourses'!H36,\" \")","v":" "},{"$f":"IF('2024NewCourses'!$A36=\"Yes\",'2024NewCourses'!J36,\" \")","v":" "},{"$f":"IF('2024NewCourses'!$A36=\"Yes\",'2024NewCourses'!K36,\" \")","v":" "},{"$f":"IF('2024NewCourses'!$A36=\"Yes\",'2024NewCourses'!L36,\" \")","v":" "},{"$f":"IF('2024NewCourses'!$A36=\"Yes\",'2024NewCourses'!M36,\" \")","v":" "},{"$f":"IF('2024NewCourses'!$A36=\"Yes\",'2024NewCourses'!N36,\" \")","v":" "},{"$f":"IF('2024NewCourses'!$A36=\"Yes\",'2024NewCourses'!O36,\" \")","v":" "},{"$f":"IF('2024NewCourses'!$A36=\"Yes\",'2024NewCourses'!P36,\" \")","v":" "},{"$f":"IF('2024NewCourses'!$A36=\"Yes\",'2024NewCourses'!Q36,\" \")","v":" "},{"$f":"IF('2024NewCourses'!$A36=\"Yes\",'2024NewCourses'!R36,\" \")","v":" "},{"$f":"IF('2024NewCourses'!$A36=\"Yes\",'2024NewCourses'!S36,\" \")","v":" "},{"$f":"IF('2024NewCourses'!$A36=\"Yes\",'2024NewCourses'!T36,\" \")","v":" "},{"$f":"IF('2024NewCourses'!$A36=\"Yes\",'2024NewCourses'!U36,\" \")","v":" "},{"$f":"IF('2024NewCourses'!$A36=\"Yes\",'2024NewCourses'!V36,\" \")","v":" "},{"$f":"IF('2024NewCourses'!$A36=\"Yes\",'2024NewCourses'!W36,\" \")","v":" "},{"$f":"IF('2024NewCourses'!$A36=\"Yes\",'2024NewCourses'!X36,\" \")","v":" "},{"$f":"IF('2024NewCourses'!$A36=\"Yes\",'2024NewCourses'!Y36,\" \")","v":" "},{"$f":"IF('2024NewCourses'!$A36=\"Yes\",'2024NewCourses'!Z36,\" \")","v":" "},{"$f":"IF('2024NewCourses'!$A36=\"Yes\",'2024NewCourses'!AA36,\" \")","v":" "},{"$f":"IF('2024NewCourses'!$A36=\"Yes\",'2024NewCourses'!AB36,\" \")","v":" "},{"$f":"IF('2024NewCourses'!$A36=\"Yes\",'2024NewCourses'!AC36,\" \")","v":" "},{"$f":"IF('2024NewCourses'!$A36=\"Yes\",'2024NewCourses'!AD36,\" \")","v":" "},{"$f":"IF('2024NewCourses'!$A36=\"Yes\",'2024NewCourses'!AE36,\" \")","v":" "},{"$f":"IF('2024NewCourses'!$A36=\"Yes\",'2024NewCourses'!AF36,\" \")","v":" "},{"$f":"IF('2024NewCourses'!$A36=\"Yes\",'2024NewCourses'!AG36,\" \")","v":" "},{"$f":"IF('2024NewCourses'!$A36=\"Yes\",'2024NewCourses'!AH36,\" \")","v":" "},{"$f":"IF('2024NewCourses'!$A36=\"Yes\",'2024NewCourses'!AI36,\" \")","v":" "},{"$f":"IF('2024NewCourses'!$A36=\"Yes\",'2024NewCourses'!AJ36,\" \")","v":" "},{"$f":"IF('2024NewCourses'!$A36=\"Yes\",'2024NewCourses'!AK36,\" \")","v":" "},{"$f":"IF('2024NewCourses'!$A36=\"Yes\",'2024NewCourses'!AL36,\" \")","v":" "},{"$f":"IF('2024NewCourses'!$A36=\"Yes\",'2024NewCourses'!AM36,\" \")","v":" "},{"$f":"IF('2024NewCourses'!$A36=\"Yes\",'2024NewCourses'!AN36,\" \")","v":" "},{"$f":"IF('2024NewCourses'!$A36=\"Yes\",'2024NewCourses'!AO36,\" \")","v":" "},{"$f":"IF('2024NewCourses'!$A36=\"Yes\",'2024NewCourses'!AP36,\" \")","v":" "},{"$f":"IF('2024NewCourses'!$A36=\"Yes\",'2024NewCourses'!AQ36,\" \")","v":" "},{"$f":"IF('2024NewCourses'!$A36=\"Yes\",'2024NewCourses'!AR36,\" \")","v":" "},{"$f":"IF('2024NewCourses'!$A36=\"Yes\",'2024NewCourses'!AR36,\" \")","v":" "},{"$f":"IF('2024NewCourses'!$A36=\"Yes\",'2024NewCourses'!AS36,\" \")","v":" "},{"$f":"IF('2024NewCourses'!$A36=\"Yes\",'2024NewCourses'!AT36,\" \")","v":" "},{"$f":"IF('2024NewCourses'!$A36=\"Yes\",'2024NewCourses'!AU36,\" \")","v":" "},{"$f":"IF('2024NewCourses'!$A36=\"Yes\",'2024NewCourses'!AV36,\" \")","v":" "},{"$f":"IF('2024NewCourses'!$A36=\"Yes\",'2024NewCourses'!AW36,\" \")","v":" "},{"$f":"IF('2024NewCourses'!$A36=\"Yes\",'2024NewCourses'!AX36,\" \")","v":" "},{"$f":"IF('2024NewCourses'!$A36=\"Yes\",'2024NewCourses'!AY36,\" \")","v":" "},{"$f":"IF('2024NewCourses'!$A36=\"Yes\",'2024NewCourses'!AZ36,\" \")","v":" "},{"$f":"IF('2024NewCourses'!$A36=\"Yes\",'2024NewCourses'!BA36,\" \")","v":" "},{"$f":"IF('2024NewCourses'!$A36=\"Yes\",'2024NewCourses'!BB36,\" \")","v":" "},{"$f":"IF('2024NewCourses'!$A36=\"Yes\",'2024NewCourses'!BC36,\" \")","v":" "},{"$f":"IF('2024NewCourses'!$A36=\"Yes\",'2024NewCourses'!BD36,\" \")","v":" "},{"$f":"IF('2024NewCourses'!$A36=\"Yes\",'2024NewCourses'!BE36,\" \")","v":" "},{"$f":"IF('2024NewCourses'!$A36=\"Yes\",'2024NewCourses'!BF36,\" \")","v":" "},{"$f":"IF('2024NewCourses'!$A36=\"Yes\",'2024NewCourses'!BG36,\" \")","v":" "},{"$f":"IF('2024NewCourses'!$A36=\"Yes\",'2024NewCourses'!BH36,\" \")","v":" "},{"$f":"IF('2024NewCourses'!$A36=\"Yes\",'2024NewCourses'!BI36,\" \")","v":" "},{"$f":"IF('2024NewCourses'!$A36=\"Yes\",'2024NewCourses'!BJ36,\" \")","v":" "}]
[{"$f":"IF('2024NewCourses'!$A37=\"Yes\",'2024NewCourses'!B37,\" \")","v":" "},{"$f":"IF('2024NewCourses'!$A37=\"Yes\",'2024NewCourses'!D37,\" \")","v":" "},{"$f":"IF('2024NewCourses'!$A37=\"Yes\",'2024NewCourses'!F37,\" \")","v":" "},{"$f":"IF('2024NewCourses'!$A37=\"Yes\",'2024NewCourses'!G37,\" \")","v":" "},{"$f":"IF('2024NewCourses'!$A37=\"Yes\",'2024NewCourses'!H37,\" \")","v":" "},{"$f":"IF('2024NewCourses'!$A37=\"Yes\",'2024NewCourses'!J37,\" \")","v":" "},{"$f":"IF('2024NewCourses'!$A37=\"Yes\",'2024NewCourses'!K37,\" \")","v":" "},{"$f":"IF('2024NewCourses'!$A37=\"Yes\",'2024NewCourses'!L37,\" \")","v":" "},{"$f":"IF('2024NewCourses'!$A37=\"Yes\",'2024NewCourses'!M37,\" \")","v":" "},{"$f":"IF('2024NewCourses'!$A37=\"Yes\",'2024NewCourses'!N37,\" \")","v":" "},{"$f":"IF('2024NewCourses'!$A37=\"Yes\",'2024NewCourses'!O37,\" \")","v":" "},{"$f":"IF('2024NewCourses'!$A37=\"Yes\",'2024NewCourses'!P37,\" \")","v":" "},{"$f":"IF('2024NewCourses'!$A37=\"Yes\",'2024NewCourses'!Q37,\" \")","v":" "},{"$f":"IF('2024NewCourses'!$A37=\"Yes\",'2024NewCourses'!R37,\" \")","v":" "},{"$f":"IF('2024NewCourses'!$A37=\"Yes\",'2024NewCourses'!S37,\" \")","v":" "},{"$f":"IF('2024NewCourses'!$A37=\"Yes\",'2024NewCourses'!T37,\" \")","v":" "},{"$f":"IF('2024NewCourses'!$A37=\"Yes\",'2024NewCourses'!U37,\" \")","v":" "},{"$f":"IF('2024NewCourses'!$A37=\"Yes\",'2024NewCourses'!V37,\" \")","v":" "},{"$f":"IF('2024NewCourses'!$A37=\"Yes\",'2024NewCourses'!W37,\" \")","v":" "},{"$f":"IF('2024NewCourses'!$A37=\"Yes\",'2024NewCourses'!X37,\" \")","v":" "},{"$f":"IF('2024NewCourses'!$A37=\"Yes\",'2024NewCourses'!Y37,\" \")","v":" "},{"$f":"IF('2024NewCourses'!$A37=\"Yes\",'2024NewCourses'!Z37,\" \")","v":" "},{"$f":"IF('2024NewCourses'!$A37=\"Yes\",'2024NewCourses'!AA37,\" \")","v":" "},{"$f":"IF('2024NewCourses'!$A37=\"Yes\",'2024NewCourses'!AB37,\" \")","v":" "},{"$f":"IF('2024NewCourses'!$A37=\"Yes\",'2024NewCourses'!AC37,\" \")","v":" "},{"$f":"IF('2024NewCourses'!$A37=\"Yes\",'2024NewCourses'!AD37,\" \")","v":" "},{"$f":"IF('2024NewCourses'!$A37=\"Yes\",'2024NewCourses'!AE37,\" \")","v":" "},{"$f":"IF('2024NewCourses'!$A37=\"Yes\",'2024NewCourses'!AF37,\" \")","v":" "},{"$f":"IF('2024NewCourses'!$A37=\"Yes\",'2024NewCourses'!AG37,\" \")","v":" "},{"$f":"IF('2024NewCourses'!$A37=\"Yes\",'2024NewCourses'!AH37,\" \")","v":" "},{"$f":"IF('2024NewCourses'!$A37=\"Yes\",'2024NewCourses'!AI37,\" \")","v":" "},{"$f":"IF('2024NewCourses'!$A37=\"Yes\",'2024NewCourses'!AJ37,\" \")","v":" "},{"$f":"IF('2024NewCourses'!$A37=\"Yes\",'2024NewCourses'!AK37,\" \")","v":" "},{"$f":"IF('2024NewCourses'!$A37=\"Yes\",'2024NewCourses'!AL37,\" \")","v":" "},{"$f":"IF('2024NewCourses'!$A37=\"Yes\",'2024NewCourses'!AM37,\" \")","v":" "},{"$f":"IF('2024NewCourses'!$A37=\"Yes\",'2024NewCourses'!AN37,\" \")","v":" "},{"$f":"IF('2024NewCourses'!$A37=\"Yes\",'2024NewCourses'!AO37,\" \")","v":" "},{"$f":"IF('2024NewCourses'!$A37=\"Yes\",'2024NewCourses'!AP37,\" \")","v":" "},{"$f":"IF('2024NewCourses'!$A37=\"Yes\",'2024NewCourses'!AQ37,\" \")","v":" "},{"$f":"IF('2024NewCourses'!$A37=\"Yes\",'2024NewCourses'!AR37,\" \")","v":" "},{"$f":"IF('2024NewCourses'!$A37=\"Yes\",'2024NewCourses'!AR37,\" \")","v":" "},{"$f":"IF('2024NewCourses'!$A37=\"Yes\",'2024NewCourses'!AS37,\" \")","v":" "},{"$f":"IF('2024NewCourses'!$A37=\"Yes\",'2024NewCourses'!AT37,\" \")","v":" "},{"$f":"IF('2024NewCourses'!$A37=\"Yes\",'2024NewCourses'!AU37,\" \")","v":" "},{"$f":"IF('2024NewCourses'!$A37=\"Yes\",'2024NewCourses'!AV37,\" \")","v":" "},{"$f":"IF('2024NewCourses'!$A37=\"Yes\",'2024NewCourses'!AW37,\" \")","v":" "},{"$f":"IF('2024NewCourses'!$A37=\"Yes\",'2024NewCourses'!AX37,\" \")","v":" "},{"$f":"IF('2024NewCourses'!$A37=\"Yes\",'2024NewCourses'!AY37,\" \")","v":" "},{"$f":"IF('2024NewCourses'!$A37=\"Yes\",'2024NewCourses'!AZ37,\" \")","v":" "},{"$f":"IF('2024NewCourses'!$A37=\"Yes\",'2024NewCourses'!BA37,\" \")","v":" "},{"$f":"IF('2024NewCourses'!$A37=\"Yes\",'2024NewCourses'!BB37,\" \")","v":" "},{"$f":"IF('2024NewCourses'!$A37=\"Yes\",'2024NewCourses'!BC37,\" \")","v":" "},{"$f":"IF('2024NewCourses'!$A37=\"Yes\",'2024NewCourses'!BD37,\" \")","v":" "},{"$f":"IF('2024NewCourses'!$A37=\"Yes\",'2024NewCourses'!BE37,\" \")","v":" "},{"$f":"IF('2024NewCourses'!$A37=\"Yes\",'2024NewCourses'!BF37,\" \")","v":" "},{"$f":"IF('2024NewCourses'!$A37=\"Yes\",'2024NewCourses'!BG37,\" \")","v":" "},{"$f":"IF('2024NewCourses'!$A37=\"Yes\",'2024NewCourses'!BH37,\" \")","v":" "},{"$f":"IF('2024NewCourses'!$A37=\"Yes\",'2024NewCourses'!BI37,\" \")","v":" "},{"$f":"IF('2024NewCourses'!$A37=\"Yes\",'2024NewCourses'!BJ37,\" \")","v":" "}]
[{"$f":"IF('2024NewCourses'!$A39=\"Yes\",'2024NewCourses'!B39,\" \")","v":" "},{"$f":"IF('2024NewCourses'!$A39=\"Yes\",'2024NewCourses'!D39,\" \")","v":" "},{"$f":"IF('2024NewCourses'!$A39=\"Yes\",'2024NewCourses'!F39,\" \")","v":" "},{"$f":"IF('2024NewCourses'!$A39=\"Yes\",'2024NewCourses'!G39,\" \")","v":" "},{"$f":"IF('2024NewCourses'!$A39=\"Yes\",'2024NewCourses'!H39,\" \")","v":" "},{"$f":"IF('2024NewCourses'!$A39=\"Yes\",'2024NewCourses'!J39,\" \")","v":" "},{"$f":"IF('2024NewCourses'!$A39=\"Yes\",'2024NewCourses'!K39,\" \")","v":" "},{"$f":"IF('2024NewCourses'!$A39=\"Yes\",'2024NewCourses'!L39,\" \")","v":" "},{"$f":"IF('2024NewCourses'!$A39=\"Yes\",'2024NewCourses'!M39,\" \")","v":" "},{"$f":"IF('2024NewCourses'!$A39=\"Yes\",'2024NewCourses'!N39,\" \")","v":" "},{"$f":"IF('2024NewCourses'!$A39=\"Yes\",'2024NewCourses'!O39,\" \")","v":" "},{"$f":"IF('2024NewCourses'!$A39=\"Yes\",'2024NewCourses'!P39,\" \")","v":" "},{"$f":"IF('2024NewCourses'!$A39=\"Yes\",'2024NewCourses'!Q39,\" \")","v":" "},{"$f":"IF('2024NewCourses'!$A39=\"Yes\",'2024NewCourses'!R39,\" \")","v":" "},{"$f":"IF('2024NewCourses'!$A39=\"Yes\",'2024NewCourses'!S39,\" \")","v":" "},{"$f":"IF('2024NewCourses'!$A39=\"Yes\",'2024NewCourses'!T39,\" \")","v":" "},{"$f":"IF('2024NewCourses'!$A39=\"Yes\",'2024NewCourses'!U39,\" \")","v":" "},{"$f":"IF('2024NewCourses'!$A39=\"Yes\",'2024NewCourses'!V39,\" \")","v":" "},{"$f":"IF('2024NewCourses'!$A39=\"Yes\",'2024NewCourses'!W39,\" \")","v":" "},{"$f":"IF('2024NewCourses'!$A39=\"Yes\",'2024NewCourses'!X39,\" \")","v":" "},{"$f":"IF('2024NewCourses'!$A39=\"Yes\",'2024NewCourses'!Y39,\" \")","v":" "},{"$f":"IF('2024NewCourses'!$A39=\"Yes\",'2024NewCourses'!Z39,\" \")","v":" "},{"$f":"IF('2024NewCourses'!$A39=\"Yes\",'2024NewCourses'!AA39,\" \")","v":" "},{"$f":"IF('2024NewCourses'!$A39=\"Yes\",'2024NewCourses'!AB39,\" \")","v":" "},{"$f":"IF('2024NewCourses'!$A39=\"Yes\",'2024NewCourses'!AC39,\" \")","v":" "},{"$f":"IF('2024NewCourses'!$A39=\"Yes\",'2024NewCourses'!AD39,\" \")","v":" "},{"$f":"IF('2024NewCourses'!$A39=\"Yes\",'2024NewCourses'!AE39,\" \")","v":" "},{"$f":"IF('2024NewCourses'!$A39=\"Yes\",'2024NewCourses'!AF39,\" \")","v":" "},{"$f":"IF('2024NewCourses'!$A39=\"Yes\",'2024NewCourses'!AG39,\" \")","v":" "},{"$f":"IF('2024NewCourses'!$A39=\"Yes\",'2024NewCourses'!AH39,\" \")","v":" "},{"$f":"IF('2024NewCourses'!$A39=\"Yes\",'2024NewCourses'!AI39,\" \")","v":" "},{"$f":"IF('2024NewCourses'!$A39=\"Yes\",'2024NewCourses'!AJ39,\" \")","v":" "},{"$f":"IF('2024NewCourses'!$A39=\"Yes\",'2024NewCourses'!AK39,\" \")","v":" "},{"$f":"IF('2024NewCourses'!$A39=\"Yes\",'2024NewCourses'!AL39,\" \")","v":" "},{"$f":"IF('2024NewCourses'!$A39=\"Yes\",'2024NewCourses'!AM39,\" \")","v":" "},{"$f":"IF('2024NewCourses'!$A39=\"Yes\",'2024NewCourses'!AN39,\" \")","v":" "},{"$f":"IF('2024NewCourses'!$A39=\"Yes\",'2024NewCourses'!AO39,\" \")","v":" "},{"$f":"IF('2024NewCourses'!$A39=\"Yes\",'2024NewCourses'!AP39,\" \")","v":" "},{"$f":"IF('2024NewCourses'!$A39=\"Yes\",'2024NewCourses'!AQ39,\" \")","v":" "},{"$f":"IF('2024NewCourses'!$A39=\"Yes\",'2024NewCourses'!AR39,\" \")","v":" "},{"$f":"IF('2024NewCourses'!$A39=\"Yes\",'2024NewCourses'!AR39,\" \")","v":" "},{"$f":"IF('2024NewCourses'!$A39=\"Yes\",'2024NewCourses'!AS39,\" \")","v":" "},{"$f":"IF('2024NewCourses'!$A39=\"Yes\",'2024NewCourses'!AT39,\" \")","v":" "},{"$f":"IF('2024NewCourses'!$A39=\"Yes\",'2024NewCourses'!AU39,\" \")","v":" "},{"$f":"IF('2024NewCourses'!$A39=\"Yes\",'2024NewCourses'!AV39,\" \")","v":" "},{"$f":"IF('2024NewCourses'!$A39=\"Yes\",'2024NewCourses'!AW39,\" \")","v":" "},{"$f":"IF('2024NewCourses'!$A39=\"Yes\",'2024NewCourses'!AX39,\" \")","v":" "},{"$f":"IF('2024NewCourses'!$A39=\"Yes\",'2024NewCourses'!AY39,\" \")","v":" "},{"$f":"IF('2024NewCourses'!$A39=\"Yes\",'2024NewCourses'!AZ39,\" \")","v":" "},{"$f":"IF('2024NewCourses'!$A39=\"Yes\",'2024NewCourses'!BA39,\" \")","v":" "},{"$f":"IF('2024NewCourses'!$A39=\"Yes\",'2024NewCourses'!BB39,\" \")","v":" "},{"$f":"IF('2024NewCourses'!$A39=\"Yes\",'2024NewCourses'!BC39,\" \")","v":" "},{"$f":"IF('2024NewCourses'!$A39=\"Yes\",'2024NewCourses'!BD39,\" \")","v":" "},{"$f":"IF('2024NewCourses'!$A39=\"Yes\",'2024NewCourses'!BE39,\" \")","v":" "},{"$f":"IF('2024NewCourses'!$A39=\"Yes\",'2024NewCourses'!BF39,\" \")","v":" "},{"$f":"IF('2024NewCourses'!$A39=\"Yes\",'2024NewCourses'!BG39,\" \")","v":" "},{"$f":"IF('2024NewCourses'!$A39=\"Yes\",'2024NewCourses'!BH39,\" \")","v":" "},{"$f":"IF('2024NewCourses'!$A39=\"Yes\",'2024NewCourses'!BI39,\" \")","v":" "},{"$f":"IF('2024NewCourses'!$A39=\"Yes\",'2024NewCourses'!BJ39,\" \")","v":" "}]
[{"$f":"IF('2024NewCourses'!$A40=\"Yes\",'2024NewCourses'!B40,\" \")","v":" "},{"$f":"IF('2024NewCourses'!$A40=\"Yes\",'2024NewCourses'!D40,\" \")","v":" "},{"$f":"IF('2024NewCourses'!$A40=\"Yes\",'2024NewCourses'!F40,\" \")","v":" "},{"$f":"IF('2024NewCourses'!$A40=\"Yes\",'2024NewCourses'!G40,\" \")","v":" "},{"$f":"IF('2024NewCourses'!$A40=\"Yes\",'2024NewCourses'!H40,\" \")","v":" "},{"$f":"IF('2024NewCourses'!$A40=\"Yes\",'2024NewCourses'!J40,\" \")","v":" "},{"$f":"IF('2024NewCourses'!$A40=\"Yes\",'2024NewCourses'!K40,\" \")","v":" "},{"$f":"IF('2024NewCourses'!$A40=\"Yes\",'2024NewCourses'!L40,\" \")","v":" "},{"$f":"IF('2024NewCourses'!$A40=\"Yes\",'2024NewCourses'!M40,\" \")","v":" "},{"$f":"IF('2024NewCourses'!$A40=\"Yes\",'2024NewCourses'!N40,\" \")","v":" "},{"$f":"IF('2024NewCourses'!$A40=\"Yes\",'2024NewCourses'!O40,\" \")","v":" "},{"$f":"IF('2024NewCourses'!$A40=\"Yes\",'2024NewCourses'!P40,\" \")","v":" "},{"$f":"IF('2024NewCourses'!$A40=\"Yes\",'2024NewCourses'!Q40,\" \")","v":" "},{"$f":"IF('2024NewCourses'!$A40=\"Yes\",'2024NewCourses'!R40,\" \")","v":" "},{"$f":"IF('2024NewCourses'!$A40=\"Yes\",'2024NewCourses'!S40,\" \")","v":" "},{"$f":"IF('2024NewCourses'!$A40=\"Yes\",'2024NewCourses'!T40,\" \")","v":" "},{"$f":"IF('2024NewCourses'!$A40=\"Yes\",'2024NewCourses'!U40,\" \")","v":" "},{"$f":"IF('2024NewCourses'!$A40=\"Yes\",'2024NewCourses'!V40,\" \")","v":" "},{"$f":"IF('2024NewCourses'!$A40=\"Yes\",'2024NewCourses'!W40,\" \")","v":" "},{"$f":"IF('2024NewCourses'!$A40=\"Yes\",'2024NewCourses'!X40,\" \")","v":" "},{"$f":"IF('2024NewCourses'!$A40=\"Yes\",'2024NewCourses'!Y40,\" \")","v":" "},{"$f":"IF('2024NewCourses'!$A40=\"Yes\",'2024NewCourses'!Z40,\" \")","v":" "},{"$f":"IF('2024NewCourses'!$A40=\"Yes\",'2024NewCourses'!AA40,\" \")","v":" "},{"$f":"IF('2024NewCourses'!$A40=\"Yes\",'2024NewCourses'!AB40,\" \")","v":" "},{"$f":"IF('2024NewCourses'!$A40=\"Yes\",'2024NewCourses'!AC40,\" \")","v":" "},{"$f":"IF('2024NewCourses'!$A40=\"Yes\",'2024NewCourses'!AD40,\" \")","v":" "},{"$f":"IF('2024NewCourses'!$A40=\"Yes\",'2024NewCourses'!AE40,\" \")","v":" "},{"$f":"IF('2024NewCourses'!$A40=\"Yes\",'2024NewCourses'!AF40,\" \")","v":" "},{"$f":"IF('2024NewCourses'!$A40=\"Yes\",'2024NewCourses'!AG40,\" \")","v":" "},{"$f":"IF('2024NewCourses'!$A40=\"Yes\",'2024NewCourses'!AH40,\" \")","v":" "},{"$f":"IF('2024NewCourses'!$A40=\"Yes\",'2024NewCourses'!AI40,\" \")","v":" "},{"$f":"IF('2024NewCourses'!$A40=\"Yes\",'2024NewCourses'!AJ40,\" \")","v":" "},{"$f":"IF('2024NewCourses'!$A40=\"Yes\",'2024NewCourses'!AK40,\" \")","v":" "},{"$f":"IF('2024NewCourses'!$A40=\"Yes\",'2024NewCourses'!AL40,\" \")","v":" "},{"$f":"IF('2024NewCourses'!$A40=\"Yes\",'2024NewCourses'!AM40,\" \")","v":" "},{"$f":"IF('2024NewCourses'!$A40=\"Yes\",'2024NewCourses'!AN40,\" \")","v":" "},{"$f":"IF('2024NewCourses'!$A40=\"Yes\",'2024NewCourses'!AO40,\" \")","v":" "},{"$f":"IF('2024NewCourses'!$A40=\"Yes\",'2024NewCourses'!AP40,\" \")","v":" "},{"$f":"IF('2024NewCourses'!$A40=\"Yes\",'2024NewCourses'!AQ40,\" \")","v":" "},{"$f":"IF('2024NewCourses'!$A40=\"Yes\",'2024NewCourses'!AR40,\" \")","v":" "},{"$f":"IF('2024NewCourses'!$A40=\"Yes\",'2024NewCourses'!AR40,\" \")","v":" "},{"$f":"IF('2024NewCourses'!$A40=\"Yes\",'2024NewCourses'!AS40,\" \")","v":" "},{"$f":"IF('2024NewCourses'!$A40=\"Yes\",'2024NewCourses'!AT40,\" \")","v":" "},{"$f":"IF('2024NewCourses'!$A40=\"Yes\",'2024NewCourses'!AU40,\" \")","v":" "},{"$f":"IF('2024NewCourses'!$A40=\"Yes\",'2024NewCourses'!AV40,\" \")","v":" "},{"$f":"IF('2024NewCourses'!$A40=\"Yes\",'2024NewCourses'!AW40,\" \")","v":" "},{"$f":"IF('2024NewCourses'!$A40=\"Yes\",'2024NewCourses'!AX40,\" \")","v":" "},{"$f":"IF('2024NewCourses'!$A40=\"Yes\",'2024NewCourses'!AY40,\" \")","v":" "},{"$f":"IF('2024NewCourses'!$A40=\"Yes\",'2024NewCourses'!AZ40,\" \")","v":" "},{"$f":"IF('2024NewCourses'!$A40=\"Yes\",'2024NewCourses'!BA40,\" \")","v":" "},{"$f":"IF('2024NewCourses'!$A40=\"Yes\",'2024NewCourses'!BB40,\" \")","v":" "},{"$f":"IF('2024NewCourses'!$A40=\"Yes\",'2024NewCourses'!BC40,\" \")","v":" "},{"$f":"IF('2024NewCourses'!$A40=\"Yes\",'2024NewCourses'!BD40,\" \")","v":" "},{"$f":"IF('2024NewCourses'!$A40=\"Yes\",'2024NewCourses'!BE40,\" \")","v":" "},{"$f":"IF('2024NewCourses'!$A40=\"Yes\",'2024NewCourses'!BF40,\" \")","v":" "},{"$f":"IF('2024NewCourses'!$A40=\"Yes\",'2024NewCourses'!BG40,\" \")","v":" "},{"$f":"IF('2024NewCourses'!$A40=\"Yes\",'2024NewCourses'!BH40,\" \")","v":" "},{"$f":"IF('2024NewCourses'!$A40=\"Yes\",'2024NewCourses'!BI40,\" \")","v":" "},{"$f":"IF('2024NewCourses'!$A40=\"Yes\",'2024NewCourses'!BJ40,\" \")","v":" "}]
[{"$f":"IF('2024NewCourses'!$A41=\"Yes\",'2024NewCourses'!B41,\" \")","v":" "},{"$f":"IF('2024NewCourses'!$A41=\"Yes\",'2024NewCourses'!D41,\" \")","v":" "},{"$f":"IF('2024NewCourses'!$A41=\"Yes\",'2024NewCourses'!F41,\" \")","v":" "},{"$f":"IF('2024NewCourses'!$A41=\"Yes\",'2024NewCourses'!G41,\" \")","v":" "},{"$f":"IF('2024NewCourses'!$A41=\"Yes\",'2024NewCourses'!H41,\" \")","v":" "},{"$f":"IF('2024NewCourses'!$A41=\"Yes\",'2024NewCourses'!J41,\" \")","v":" "},{"$f":"IF('2024NewCourses'!$A41=\"Yes\",'2024NewCourses'!K41,\" \")","v":" "},{"$f":"IF('2024NewCourses'!$A41=\"Yes\",'2024NewCourses'!L41,\" \")","v":" "},{"$f":"IF('2024NewCourses'!$A41=\"Yes\",'2024NewCourses'!M41,\" \")","v":" "},{"$f":"IF('2024NewCourses'!$A41=\"Yes\",'2024NewCourses'!N41,\" \")","v":" "},{"$f":"IF('2024NewCourses'!$A41=\"Yes\",'2024NewCourses'!O41,\" \")","v":" "},{"$f":"IF('2024NewCourses'!$A41=\"Yes\",'2024NewCourses'!P41,\" \")","v":" "},{"$f":"IF('2024NewCourses'!$A41=\"Yes\",'2024NewCourses'!Q41,\" \")","v":" "},{"$f":"IF('2024NewCourses'!$A41=\"Yes\",'2024NewCourses'!R41,\" \")","v":" "},{"$f":"IF('2024NewCourses'!$A41=\"Yes\",'2024NewCourses'!S41,\" \")","v":" "},{"$f":"IF('2024NewCourses'!$A41=\"Yes\",'2024NewCourses'!T41,\" \")","v":" "},{"$f":"IF('2024NewCourses'!$A41=\"Yes\",'2024NewCourses'!U41,\" \")","v":" "},{"$f":"IF('2024NewCourses'!$A41=\"Yes\",'2024NewCourses'!V41,\" \")","v":" "},{"$f":"IF('2024NewCourses'!$A41=\"Yes\",'2024NewCourses'!W41,\" \")","v":" "},{"$f":"IF('2024NewCourses'!$A41=\"Yes\",'2024NewCourses'!X41,\" \")","v":" "},{"$f":"IF('2024NewCourses'!$A41=\"Yes\",'2024NewCourses'!Y41,\" \")","v":" "},{"$f":"IF('2024NewCourses'!$A41=\"Yes\",'2024NewCourses'!Z41,\" \")","v":" "},{"$f":"IF('2024NewCourses'!$A41=\"Yes\",'2024NewCourses'!AA41,\" \")","v":" "},{"$f":"IF('2024NewCourses'!$A41=\"Yes\",'2024NewCourses'!AB41,\" \")","v":" "},{"$f":"IF('2024NewCourses'!$A41=\"Yes\",'2024NewCourses'!AC41,\" \")","v":" "},{"$f":"IF('2024NewCourses'!$A41=\"Yes\",'2024NewCourses'!AD41,\" \")","v":" "},{"$f":"IF('2024NewCourses'!$A41=\"Yes\",'2024NewCourses'!AE41,\" \")","v":" "},{"$f":"IF('2024NewCourses'!$A41=\"Yes\",'2024NewCourses'!AF41,\" \")","v":" "},{"$f":"IF('2024NewCourses'!$A41=\"Yes\",'2024NewCourses'!AG41,\" \")","v":" "},{"$f":"IF('2024NewCourses'!$A41=\"Yes\",'2024NewCourses'!AH41,\" \")","v":" "},{"$f":"IF('2024NewCourses'!$A41=\"Yes\",'2024NewCourses'!AI41,\" \")","v":" "},{"$f":"IF('2024NewCourses'!$A41=\"Yes\",'2024NewCourses'!AJ41,\" \")","v":" "},{"$f":"IF('2024NewCourses'!$A41=\"Yes\",'2024NewCourses'!AK41,\" \")","v":" "},{"$f":"IF('2024NewCourses'!$A41=\"Yes\",'2024NewCourses'!AL41,\" \")","v":" "},{"$f":"IF('2024NewCourses'!$A41=\"Yes\",'2024NewCourses'!AM41,\" \")","v":" "},{"$f":"IF('2024NewCourses'!$A41=\"Yes\",'2024NewCourses'!AN41,\" \")","v":" "},{"$f":"IF('2024NewCourses'!$A41=\"Yes\",'2024NewCourses'!AO41,\" \")","v":" "},{"$f":"IF('2024NewCourses'!$A41=\"Yes\",'2024NewCourses'!AP41,\" \")","v":" "},{"$f":"IF('2024NewCourses'!$A41=\"Yes\",'2024NewCourses'!AQ41,\" \")","v":" "},{"$f":"IF('2024NewCourses'!$A41=\"Yes\",'2024NewCourses'!AR41,\" \")","v":" "},{"$f":"IF('2024NewCourses'!$A41=\"Yes\",'2024NewCourses'!AR41,\" \")","v":" "},{"$f":"IF('2024NewCourses'!$A41=\"Yes\",'2024NewCourses'!AS41,\" \")","v":" "},{"$f":"IF('2024NewCourses'!$A41=\"Yes\",'2024NewCourses'!AT41,\" \")","v":" "},{"$f":"IF('2024NewCourses'!$A41=\"Yes\",'2024NewCourses'!AU41,\" \")","v":" "},{"$f":"IF('2024NewCourses'!$A41=\"Yes\",'2024NewCourses'!AV41,\" \")","v":" "},{"$f":"IF('2024NewCourses'!$A41=\"Yes\",'2024NewCourses'!AW41,\" \")","v":" "},{"$f":"IF('2024NewCourses'!$A41=\"Yes\",'2024NewCourses'!AX41,\" \")","v":" "},{"$f":"IF('2024NewCourses'!$A41=\"Yes\",'2024NewCourses'!AY41,\" \")","v":" "},{"$f":"IF('2024NewCourses'!$A41=\"Yes\",'2024NewCourses'!AZ41,\" \")","v":" "},{"$f":"IF('2024NewCourses'!$A41=\"Yes\",'2024NewCourses'!BA41,\" \")","v":" "},{"$f":"IF('2024NewCourses'!$A41=\"Yes\",'2024NewCourses'!BB41,\" \")","v":" "},{"$f":"IF('2024NewCourses'!$A41=\"Yes\",'2024NewCourses'!BC41,\" \")","v":" "},{"$f":"IF('2024NewCourses'!$A41=\"Yes\",'2024NewCourses'!BD41,\" \")","v":" "},{"$f":"IF('2024NewCourses'!$A41=\"Yes\",'2024NewCourses'!BE41,\" \")","v":" "},{"$f":"IF('2024NewCourses'!$A41=\"Yes\",'2024NewCourses'!BF41,\" \")","v":" "},{"$f":"IF('2024NewCourses'!$A41=\"Yes\",'2024NewCourses'!BG41,\" \")","v":" "},{"$f":"IF('2024NewCourses'!$A41=\"Yes\",'2024NewCourses'!BH41,\" \")","v":" "},{"$f":"IF('2024NewCourses'!$A41=\"Yes\",'2024NewCourses'!BI41,\" \")","v":" "},{"$f":"IF('2024NewCourses'!$A41=\"Yes\",'2024NewCourses'!BJ41,\" \")","v":" "}]
[{"$f":"IF('2024NewCourses'!$A42=\"Yes\",'2024NewCourses'!B42,\" \")","v":" "},{"$f":"IF('2024NewCourses'!$A42=\"Yes\",'2024NewCourses'!D42,\" \")","v":" "},{"$f":"IF('2024NewCourses'!$A42=\"Yes\",'2024NewCourses'!F42,\" \")","v":" "},{"$f":"IF('2024NewCourses'!$A42=\"Yes\",'2024NewCourses'!G42,\" \")","v":" "},{"$f":"IF('2024NewCourses'!$A42=\"Yes\",'2024NewCourses'!H42,\" \")","v":" "},{"$f":"IF('2024NewCourses'!$A42=\"Yes\",'2024NewCourses'!J42,\" \")","v":" "},{"$f":"IF('2024NewCourses'!$A42=\"Yes\",'2024NewCourses'!K42,\" \")","v":" "},{"$f":"IF('2024NewCourses'!$A42=\"Yes\",'2024NewCourses'!L42,\" \")","v":" "},{"$f":"IF('2024NewCourses'!$A42=\"Yes\",'2024NewCourses'!M42,\" \")","v":" "},{"$f":"IF('2024NewCourses'!$A42=\"Yes\",'2024NewCourses'!N42,\" \")","v":" "},{"$f":"IF('2024NewCourses'!$A42=\"Yes\",'2024NewCourses'!O42,\" \")","v":" "},{"$f":"IF('2024NewCourses'!$A42=\"Yes\",'2024NewCourses'!P42,\" \")","v":" "},{"$f":"IF('2024NewCourses'!$A42=\"Yes\",'2024NewCourses'!Q42,\" \")","v":" "},{"$f":"IF('2024NewCourses'!$A42=\"Yes\",'2024NewCourses'!R42,\" \")","v":" "},{"$f":"IF('2024NewCourses'!$A42=\"Yes\",'2024NewCourses'!S42,\" \")","v":" "},{"$f":"IF('2024NewCourses'!$A42=\"Yes\",'2024NewCourses'!T42,\" \")","v":" "},{"$f":"IF('2024NewCourses'!$A42=\"Yes\",'2024NewCourses'!U42,\" \")","v":" "},{"$f":"IF('2024NewCourses'!$A42=\"Yes\",'2024NewCourses'!V42,\" \")","v":" "},{"$f":"IF('2024NewCourses'!$A42=\"Yes\",'2024NewCourses'!W42,\" \")","v":" "},{"$f":"IF('2024NewCourses'!$A42=\"Yes\",'2024NewCourses'!X42,\" \")","v":" "},{"$f":"IF('2024NewCourses'!$A42=\"Yes\",'2024NewCourses'!Y42,\" \")","v":" "},{"$f":"IF('2024NewCourses'!$A42=\"Yes\",'2024NewCourses'!Z42,\" \")","v":" "},{"$f":"IF('2024NewCourses'!$A42=\"Yes\",'2024NewCourses'!AA42,\" \")","v":" "},{"$f":"IF('2024NewCourses'!$A42=\"Yes\",'2024NewCourses'!AB42,\" \")","v":" "},{"$f":"IF('2024NewCourses'!$A42=\"Yes\",'2024NewCourses'!AC42,\" \")","v":" "},{"$f":"IF('2024NewCourses'!$A42=\"Yes\",'2024NewCourses'!AD42,\" \")","v":" "},{"$f":"IF('2024NewCourses'!$A42=\"Yes\",'2024NewCourses'!AE42,\" \")","v":" "},{"$f":"IF('2024NewCourses'!$A42=\"Yes\",'2024NewCourses'!AF42,\" \")","v":" "},{"$f":"IF('2024NewCourses'!$A42=\"Yes\",'2024NewCourses'!AG42,\" \")","v":" "},{"$f":"IF('2024NewCourses'!$A42=\"Yes\",'2024NewCourses'!AH42,\" \")","v":" "},{"$f":"IF('2024NewCourses'!$A42=\"Yes\",'2024NewCourses'!AI42,\" \")","v":" "},{"$f":"IF('2024NewCourses'!$A42=\"Yes\",'2024NewCourses'!AJ42,\" \")","v":" "},{"$f":"IF('2024NewCourses'!$A42=\"Yes\",'2024NewCourses'!AK42,\" \")","v":" "},{"$f":"IF('2024NewCourses'!$A42=\"Yes\",'2024NewCourses'!AL42,\" \")","v":" "},{"$f":"IF('2024NewCourses'!$A42=\"Yes\",'2024NewCourses'!AM42,\" \")","v":" "},{"$f":"IF('2024NewCourses'!$A42=\"Yes\",'2024NewCourses'!AN42,\" \")","v":" "},{"$f":"IF('2024NewCourses'!$A42=\"Yes\",'2024NewCourses'!AO42,\" \")","v":" "},{"$f":"IF('2024NewCourses'!$A42=\"Yes\",'2024NewCourses'!AP42,\" \")","v":" "},{"$f":"IF('2024NewCourses'!$A42=\"Yes\",'2024NewCourses'!AQ42,\" \")","v":" "},{"$f":"IF('2024NewCourses'!$A42=\"Yes\",'2024NewCourses'!AR42,\" \")","v":" "},{"$f":"IF('2024NewCourses'!$A42=\"Yes\",'2024NewCourses'!AR42,\" \")","v":" "},{"$f":"IF('2024NewCourses'!$A42=\"Yes\",'2024NewCourses'!AS42,\" \")","v":" "},{"$f":"IF('2024NewCourses'!$A42=\"Yes\",'2024NewCourses'!AT42,\" \")","v":" "},{"$f":"IF('2024NewCourses'!$A42=\"Yes\",'2024NewCourses'!AU42,\" \")","v":" "},{"$f":"IF('2024NewCourses'!$A42=\"Yes\",'2024NewCourses'!AV42,\" \")","v":" "},{"$f":"IF('2024NewCourses'!$A42=\"Yes\",'2024NewCourses'!AW42,\" \")","v":" "},{"$f":"IF('2024NewCourses'!$A42=\"Yes\",'2024NewCourses'!AX42,\" \")","v":" "},{"$f":"IF('2024NewCourses'!$A42=\"Yes\",'2024NewCourses'!AY42,\" \")","v":" "},{"$f":"IF('2024NewCourses'!$A42=\"Yes\",'2024NewCourses'!AZ42,\" \")","v":" "},{"$f":"IF('2024NewCourses'!$A42=\"Yes\",'2024NewCourses'!BA42,\" \")","v":" "},{"$f":"IF('2024NewCourses'!$A42=\"Yes\",'2024NewCourses'!BB42,\" \")","v":" "},{"$f":"IF('2024NewCourses'!$A42=\"Yes\",'2024NewCourses'!BC42,\" \")","v":" "},{"$f":"IF('2024NewCourses'!$A42=\"Yes\",'2024NewCourses'!BD42,\" \")","v":" "},{"$f":"IF('2024NewCourses'!$A42=\"Yes\",'2024NewCourses'!BE42,\" \")","v":" "},{"$f":"IF('2024NewCourses'!$A42=\"Yes\",'2024NewCourses'!BF42,\" \")","v":" "},{"$f":"IF('2024NewCourses'!$A42=\"Yes\",'2024NewCourses'!BG42,\" \")","v":" "},{"$f":"IF('2024NewCourses'!$A42=\"Yes\",'2024NewCourses'!BH42,\" \")","v":" "},{"$f":"IF('2024NewCourses'!$A42=\"Yes\",'2024NewCourses'!BI42,\" \")","v":" "},{"$f":"IF('2024NewCourses'!$A42=\"Yes\",'2024NewCourses'!BJ42,\" \")","v":" "}]
[{"$f":"IF('2024NewCourses'!$A43=\"Yes\",'2024NewCourses'!B43,\" \")","v":" "},{"$f":"IF('2024NewCourses'!$A43=\"Yes\",'2024NewCourses'!D43,\" \")","v":" "},{"$f":"IF('2024NewCourses'!$A43=\"Yes\",'2024NewCourses'!F43,\" \")","v":" "},{"$f":"IF('2024NewCourses'!$A43=\"Yes\",'2024NewCourses'!G43,\" \")","v":" "},{"$f":"IF('2024NewCourses'!$A43=\"Yes\",'2024NewCourses'!H43,\" \")","v":" "},{"$f":"IF('2024NewCourses'!$A43=\"Yes\",'2024NewCourses'!J43,\" \")","v":" "},{"$f":"IF('2024NewCourses'!$A43=\"Yes\",'2024NewCourses'!K43,\" \")","v":" "},{"$f":"IF('2024NewCourses'!$A43=\"Yes\",'2024NewCourses'!L43,\" \")","v":" "},{"$f":"IF('2024NewCourses'!$A43=\"Yes\",'2024NewCourses'!M43,\" \")","v":" "},{"$f":"IF('2024NewCourses'!$A43=\"Yes\",'2024NewCourses'!N43,\" \")","v":" "},{"$f":"IF('2024NewCourses'!$A43=\"Yes\",'2024NewCourses'!O43,\" \")","v":" "},{"$f":"IF('2024NewCourses'!$A43=\"Yes\",'2024NewCourses'!P43,\" \")","v":" "},{"$f":"IF('2024NewCourses'!$A43=\"Yes\",'2024NewCourses'!Q43,\" \")","v":" "},{"$f":"IF('2024NewCourses'!$A43=\"Yes\",'2024NewCourses'!R43,\" \")","v":" "},{"$f":"IF('2024NewCourses'!$A43=\"Yes\",'2024NewCourses'!S43,\" \")","v":" "},{"$f":"IF('2024NewCourses'!$A43=\"Yes\",'2024NewCourses'!T43,\" \")","v":" "},{"$f":"IF('2024NewCourses'!$A43=\"Yes\",'2024NewCourses'!U43,\" \")","v":" "},{"$f":"IF('2024NewCourses'!$A43=\"Yes\",'2024NewCourses'!V43,\" \")","v":" "},{"$f":"IF('2024NewCourses'!$A43=\"Yes\",'2024NewCourses'!W43,\" \")","v":" "},{"$f":"IF('2024NewCourses'!$A43=\"Yes\",'2024NewCourses'!X43,\" \")","v":" "},{"$f":"IF('2024NewCourses'!$A43=\"Yes\",'2024NewCourses'!Y43,\" \")","v":" "},{"$f":"IF('2024NewCourses'!$A43=\"Yes\",'2024NewCourses'!Z43,\" \")","v":" "},{"$f":"IF('2024NewCourses'!$A43=\"Yes\",'2024NewCourses'!AA43,\" \")","v":" "},{"$f":"IF('2024NewCourses'!$A43=\"Yes\",'2024NewCourses'!AB43,\" \")","v":" "},{"$f":"IF('2024NewCourses'!$A43=\"Yes\",'2024NewCourses'!AC43,\" \")","v":" "},{"$f":"IF('2024NewCourses'!$A43=\"Yes\",'2024NewCourses'!AD43,\" \")","v":" "},{"$f":"IF('2024NewCourses'!$A43=\"Yes\",'2024NewCourses'!AE43,\" \")","v":" "},{"$f":"IF('2024NewCourses'!$A43=\"Yes\",'2024NewCourses'!AF43,\" \")","v":" "},{"$f":"IF('2024NewCourses'!$A43=\"Yes\",'2024NewCourses'!AG43,\" \")","v":" "},{"$f":"IF('2024NewCourses'!$A43=\"Yes\",'2024NewCourses'!AH43,\" \")","v":" "},{"$f":"IF('2024NewCourses'!$A43=\"Yes\",'2024NewCourses'!AI43,\" \")","v":" "},{"$f":"IF('2024NewCourses'!$A43=\"Yes\",'2024NewCourses'!AJ43,\" \")","v":" "},{"$f":"IF('2024NewCourses'!$A43=\"Yes\",'2024NewCourses'!AK43,\" \")","v":" "},{"$f":"IF('2024NewCourses'!$A43=\"Yes\",'2024NewCourses'!AL43,\" \")","v":" "},{"$f":"IF('2024NewCourses'!$A43=\"Yes\",'2024NewCourses'!AM43,\" \")","v":" "},{"$f":"IF('2024NewCourses'!$A43=\"Yes\",'2024NewCourses'!AN43,\" \")","v":" "},{"$f":"IF('2024NewCourses'!$A43=\"Yes\",'2024NewCourses'!AO43,\" \")","v":" "},{"$f":"IF('2024NewCourses'!$A43=\"Yes\",'2024NewCourses'!AP43,\" \")","v":" "},{"$f":"IF('2024NewCourses'!$A43=\"Yes\",'2024NewCourses'!AQ43,\" \")","v":" "},{"$f":"IF('2024NewCourses'!$A43=\"Yes\",'2024NewCourses'!AR43,\" \")","v":" "},{"$f":"IF('2024NewCourses'!$A43=\"Yes\",'2024NewCourses'!AR43,\" \")","v":" "},{"$f":"IF('2024NewCourses'!$A43=\"Yes\",'2024NewCourses'!AS43,\" \")","v":" "},{"$f":"IF('2024NewCourses'!$A43=\"Yes\",'2024NewCourses'!AT43,\" \")","v":" "},{"$f":"IF('2024NewCourses'!$A43=\"Yes\",'2024NewCourses'!AU43,\" \")","v":" "},{"$f":"IF('2024NewCourses'!$A43=\"Yes\",'2024NewCourses'!AV43,\" \")","v":" "},{"$f":"IF('2024NewCourses'!$A43=\"Yes\",'2024NewCourses'!AW43,\" \")","v":" "},{"$f":"IF('2024NewCourses'!$A43=\"Yes\",'2024NewCourses'!AX43,\" \")","v":" "},{"$f":"IF('2024NewCourses'!$A43=\"Yes\",'2024NewCourses'!AY43,\" \")","v":" "},{"$f":"IF('2024NewCourses'!$A43=\"Yes\",'2024NewCourses'!AZ43,\" \")","v":" "},{"$f":"IF('2024NewCourses'!$A43=\"Yes\",'2024NewCourses'!BA43,\" \")","v":" "},{"$f":"IF('2024NewCourses'!$A43=\"Yes\",'2024NewCourses'!BB43,\" \")","v":" "},{"$f":"IF('2024NewCourses'!$A43=\"Yes\",'2024NewCourses'!BC43,\" \")","v":" "},{"$f":"IF('2024NewCourses'!$A43=\"Yes\",'2024NewCourses'!BD43,\" \")","v":" "},{"$f":"IF('2024NewCourses'!$A43=\"Yes\",'2024NewCourses'!BE43,\" \")","v":" "},{"$f":"IF('2024NewCourses'!$A43=\"Yes\",'2024NewCourses'!BF43,\" \")","v":" "},{"$f":"IF('2024NewCourses'!$A43=\"Yes\",'2024NewCourses'!BG43,\" \")","v":" "},{"$f":"IF('2024NewCourses'!$A43=\"Yes\",'2024NewCourses'!BH43,\" \")","v":" "},{"$f":"IF('2024NewCourses'!$A43=\"Yes\",'2024NewCourses'!BI43,\" \")","v":" "},{"$f":"IF('2024NewCourses'!$A43=\"Yes\",'2024NewCourses'!BJ43,\" \")","v":" "}]
[{"$f":"IF('2024NewCourses'!$A44=\"Yes\",'2024NewCourses'!B44,\" \")","v":" "},{"$f":"IF('2024NewCourses'!$A44=\"Yes\",'2024NewCourses'!D44,\" \")","v":" "},{"$f":"IF('2024NewCourses'!$A44=\"Yes\",'2024NewCourses'!F44,\" \")","v":" "},{"$f":"IF('2024NewCourses'!$A44=\"Yes\",'2024NewCourses'!G44,\" \")","v":" "},{"$f":"IF('2024NewCourses'!$A44=\"Yes\",'2024NewCourses'!H44,\" \")","v":" "},{"$f":"IF('2024NewCourses'!$A44=\"Yes\",'2024NewCourses'!J44,\" \")","v":" "},{"$f":"IF('2024NewCourses'!$A44=\"Yes\",'2024NewCourses'!K44,\" \")","v":" "},{"$f":"IF('2024NewCourses'!$A44=\"Yes\",'2024NewCourses'!L44,\" \")","v":" "},{"$f":"IF('2024NewCourses'!$A44=\"Yes\",'2024NewCourses'!M44,\" \")","v":" "},{"$f":"IF('2024NewCourses'!$A44=\"Yes\",'2024NewCourses'!N44,\" \")","v":" "},{"$f":"IF('2024NewCourses'!$A44=\"Yes\",'2024NewCourses'!O44,\" \")","v":" "},{"$f":"IF('2024NewCourses'!$A44=\"Yes\",'2024NewCourses'!P44,\" \")","v":" "},{"$f":"IF('2024NewCourses'!$A44=\"Yes\",'2024NewCourses'!Q44,\" \")","v":" "},{"$f":"IF('2024NewCourses'!$A44=\"Yes\",'2024NewCourses'!R44,\" \")","v":" "},{"$f":"IF('2024NewCourses'!$A44=\"Yes\",'2024NewCourses'!S44,\" \")","v":" "},{"$f":"IF('2024NewCourses'!$A44=\"Yes\",'2024NewCourses'!T44,\" \")","v":" "},{"$f":"IF('2024NewCourses'!$A44=\"Yes\",'2024NewCourses'!U44,\" \")","v":" "},{"$f":"IF('2024NewCourses'!$A44=\"Yes\",'2024NewCourses'!V44,\" \")","v":" "},{"$f":"IF('2024NewCourses'!$A44=\"Yes\",'2024NewCourses'!W44,\" \")","v":" "},{"$f":"IF('2024NewCourses'!$A44=\"Yes\",'2024NewCourses'!X44,\" \")","v":" "},{"$f":"IF('2024NewCourses'!$A44=\"Yes\",'2024NewCourses'!Y44,\" \")","v":" "},{"$f":"IF('2024NewCourses'!$A44=\"Yes\",'2024NewCourses'!Z44,\" \")","v":" "},{"$f":"IF('2024NewCourses'!$A44=\"Yes\",'2024NewCourses'!AA44,\" \")","v":" "},{"$f":"IF('2024NewCourses'!$A44=\"Yes\",'2024NewCourses'!AB44,\" \")","v":" "},{"$f":"IF('2024NewCourses'!$A44=\"Yes\",'2024NewCourses'!AC44,\" \")","v":" "},{"$f":"IF('2024NewCourses'!$A44=\"Yes\",'2024NewCourses'!AD44,\" \")","v":" "},{"$f":"IF('2024NewCourses'!$A44=\"Yes\",'2024NewCourses'!AE44,\" \")","v":" "},{"$f":"IF('2024NewCourses'!$A44=\"Yes\",'2024NewCourses'!AF44,\" \")","v":" "},{"$f":"IF('2024NewCourses'!$A44=\"Yes\",'2024NewCourses'!AG44,\" \")","v":" "},{"$f":"IF('2024NewCourses'!$A44=\"Yes\",'2024NewCourses'!AH44,\" \")","v":" "},{"$f":"IF('2024NewCourses'!$A44=\"Yes\",'2024NewCourses'!AI44,\" \")","v":" "},{"$f":"IF('2024NewCourses'!$A44=\"Yes\",'2024NewCourses'!AJ44,\" \")","v":" "},{"$f":"IF('2024NewCourses'!$A44=\"Yes\",'2024NewCourses'!AK44,\" \")","v":" "},{"$f":"IF('2024NewCourses'!$A44=\"Yes\",'2024NewCourses'!AL44,\" \")","v":" "},{"$f":"IF('2024NewCourses'!$A44=\"Yes\",'2024NewCourses'!AM44,\" \")","v":" "},{"$f":"IF('2024NewCourses'!$A44=\"Yes\",'2024NewCourses'!AN44,\" \")","v":" "},{"$f":"IF('2024NewCourses'!$A44=\"Yes\",'2024NewCourses'!AO44,\" \")","v":" "},{"$f":"IF('2024NewCourses'!$A44=\"Yes\",'2024NewCourses'!AP44,\" \")","v":" "},{"$f":"IF('2024NewCourses'!$A44=\"Yes\",'2024NewCourses'!AQ44,\" \")","v":" "},{"$f":"IF('2024NewCourses'!$A44=\"Yes\",'2024NewCourses'!AR44,\" \")","v":" "},{"$f":"IF('2024NewCourses'!$A44=\"Yes\",'2024NewCourses'!AR44,\" \")","v":" "},{"$f":"IF('2024NewCourses'!$A44=\"Yes\",'2024NewCourses'!AS44,\" \")","v":" "},{"$f":"IF('2024NewCourses'!$A44=\"Yes\",'2024NewCourses'!AT44,\" \")","v":" "},{"$f":"IF('2024NewCourses'!$A44=\"Yes\",'2024NewCourses'!AU44,\" \")","v":" "},{"$f":"IF('2024NewCourses'!$A44=\"Yes\",'2024NewCourses'!AV44,\" \")","v":" "},{"$f":"IF('2024NewCourses'!$A44=\"Yes\",'2024NewCourses'!AW44,\" \")","v":" "},{"$f":"IF('2024NewCourses'!$A44=\"Yes\",'2024NewCourses'!AX44,\" \")","v":" "},{"$f":"IF('2024NewCourses'!$A44=\"Yes\",'2024NewCourses'!AY44,\" \")","v":" "},{"$f":"IF('2024NewCourses'!$A44=\"Yes\",'2024NewCourses'!AZ44,\" \")","v":" "},{"$f":"IF('2024NewCourses'!$A44=\"Yes\",'2024NewCourses'!BA44,\" \")","v":" "},{"$f":"IF('2024NewCourses'!$A44=\"Yes\",'2024NewCourses'!BB44,\" \")","v":" "},{"$f":"IF('2024NewCourses'!$A44=\"Yes\",'2024NewCourses'!BC44,\" \")","v":" "},{"$f":"IF('2024NewCourses'!$A44=\"Yes\",'2024NewCourses'!BD44,\" \")","v":" "},{"$f":"IF('2024NewCourses'!$A44=\"Yes\",'2024NewCourses'!BE44,\" \")","v":" "},{"$f":"IF('2024NewCourses'!$A44=\"Yes\",'2024NewCourses'!BF44,\" \")","v":" "},{"$f":"IF('2024NewCourses'!$A44=\"Yes\",'2024NewCourses'!BG44,\" \")","v":" "},{"$f":"IF('2024NewCourses'!$A44=\"Yes\",'2024NewCourses'!BH44,\" \")","v":" "},{"$f":"IF('2024NewCourses'!$A44=\"Yes\",'2024NewCourses'!BI44,\" \")","v":" "},{"$f":"IF('2024NewCourses'!$A44=\"Yes\",'2024NewCourses'!BJ44,\" \")","v":" "}]
[{"$f":"IF('2024NewCourses'!$A45=\"Yes\",'2024NewCourses'!B45,\" \")","v":" "},{"$f":"IF('2024NewCourses'!$A45=\"Yes\",'2024NewCourses'!D45,\" \")","v":" "},{"$f":"IF('2024NewCourses'!$A45=\"Yes\",'2024NewCourses'!F45,\" \")","v":" "},{"$f":"IF('2024NewCourses'!$A45=\"Yes\",'2024NewCourses'!G45,\" \")","v":" "},{"$f":"IF('2024NewCourses'!$A45=\"Yes\",'2024NewCourses'!H45,\" \")","v":" "},{"$f":"IF('2024NewCourses'!$A45=\"Yes\",'2024NewCourses'!J45,\" \")","v":" "},{"$f":"IF('2024NewCourses'!$A45=\"Yes\",'2024NewCourses'!K45,\" \")","v":" "},{"$f":"IF('2024NewCourses'!$A45=\"Yes\",'2024NewCourses'!L45,\" \")","v":" "},{"$f":"IF('2024NewCourses'!$A45=\"Yes\",'2024NewCourses'!M45,\" \")","v":" "},{"$f":"IF('2024NewCourses'!$A45=\"Yes\",'2024NewCourses'!N45,\" \")","v":" "},{"$f":"IF('2024NewCourses'!$A45=\"Yes\",'2024NewCourses'!O45,\" \")","v":" "},{"$f":"IF('2024NewCourses'!$A45=\"Yes\",'2024NewCourses'!P45,\" \")","v":" "},{"$f":"IF('2024NewCourses'!$A45=\"Yes\",'2024NewCourses'!Q45,\" \")","v":" "},{"$f":"IF('2024NewCourses'!$A45=\"Yes\",'2024NewCourses'!R45,\" \")","v":" "},{"$f":"IF('2024NewCourses'!$A45=\"Yes\",'2024NewCourses'!S45,\" \")","v":" "},{"$f":"IF('2024NewCourses'!$A45=\"Yes\",'2024NewCourses'!T45,\" \")","v":" "},{"$f":"IF('2024NewCourses'!$A45=\"Yes\",'2024NewCourses'!U45,\" \")","v":" "},{"$f":"IF('2024NewCourses'!$A45=\"Yes\",'2024NewCourses'!V45,\" \")","v":" "},{"$f":"IF('2024NewCourses'!$A45=\"Yes\",'2024NewCourses'!W45,\" \")","v":" "},{"$f":"IF('2024NewCourses'!$A45=\"Yes\",'2024NewCourses'!X45,\" \")","v":" "},{"$f":"IF('2024NewCourses'!$A45=\"Yes\",'2024NewCourses'!Y45,\" \")","v":" "},{"$f":"IF('2024NewCourses'!$A45=\"Yes\",'2024NewCourses'!Z45,\" \")","v":" "},{"$f":"IF('2024NewCourses'!$A45=\"Yes\",'2024NewCourses'!AA45,\" \")","v":" "},{"$f":"IF('2024NewCourses'!$A45=\"Yes\",'2024NewCourses'!AB45,\" \")","v":" "},{"$f":"IF('2024NewCourses'!$A45=\"Yes\",'2024NewCourses'!AC45,\" \")","v":" "},{"$f":"IF('2024NewCourses'!$A45=\"Yes\",'2024NewCourses'!AD45,\" \")","v":" "},{"$f":"IF('2024NewCourses'!$A45=\"Yes\",'2024NewCourses'!AE45,\" \")","v":" "},{"$f":"IF('2024NewCourses'!$A45=\"Yes\",'2024NewCourses'!AF45,\" \")","v":" "},{"$f":"IF('2024NewCourses'!$A45=\"Yes\",'2024NewCourses'!AG45,\" \")","v":" "},{"$f":"IF('2024NewCourses'!$A45=\"Yes\",'2024NewCourses'!AH45,\" \")","v":" "},{"$f":"IF('2024NewCourses'!$A45=\"Yes\",'2024NewCourses'!AI45,\" \")","v":" "},{"$f":"IF('2024NewCourses'!$A45=\"Yes\",'2024NewCourses'!AJ45,\" \")","v":" "},{"$f":"IF('2024NewCourses'!$A45=\"Yes\",'2024NewCourses'!AK45,\" \")","v":" "},{"$f":"IF('2024NewCourses'!$A45=\"Yes\",'2024NewCourses'!AL45,\" \")","v":" "},{"$f":"IF('2024NewCourses'!$A45=\"Yes\",'2024NewCourses'!AM45,\" \")","v":" "},{"$f":"IF('2024NewCourses'!$A45=\"Yes\",'2024NewCourses'!AN45,\" \")","v":" "},{"$f":"IF('2024NewCourses'!$A45=\"Yes\",'2024NewCourses'!AO45,\" \")","v":" "},{"$f":"IF('2024NewCourses'!$A45=\"Yes\",'2024NewCourses'!AP45,\" \")","v":" "},{"$f":"IF('2024NewCourses'!$A45=\"Yes\",'2024NewCourses'!AQ45,\" \")","v":" "},{"$f":"IF('2024NewCourses'!$A45=\"Yes\",'2024NewCourses'!AR45,\" \")","v":" "},{"$f":"IF('2024NewCourses'!$A45=\"Yes\",'2024NewCourses'!AR45,\" \")","v":" "},{"$f":"IF('2024NewCourses'!$A45=\"Yes\",'2024NewCourses'!AS45,\" \")","v":" "},{"$f":"IF('2024NewCourses'!$A45=\"Yes\",'2024NewCourses'!AT45,\" \")","v":" "},{"$f":"IF('2024NewCourses'!$A45=\"Yes\",'2024NewCourses'!AU45,\" \")","v":" "},{"$f":"IF('2024NewCourses'!$A45=\"Yes\",'2024NewCourses'!AV45,\" \")","v":" "},{"$f":"IF('2024NewCourses'!$A45=\"Yes\",'2024NewCourses'!AW45,\" \")","v":" "},{"$f":"IF('2024NewCourses'!$A45=\"Yes\",'2024NewCourses'!AX45,\" \")","v":" "},{"$f":"IF('2024NewCourses'!$A45=\"Yes\",'2024NewCourses'!AY45,\" \")","v":" "},{"$f":"IF('2024NewCourses'!$A45=\"Yes\",'2024NewCourses'!AZ45,\" \")","v":" "},{"$f":"IF('2024NewCourses'!$A45=\"Yes\",'2024NewCourses'!BA45,\" \")","v":" "},{"$f":"IF('2024NewCourses'!$A45=\"Yes\",'2024NewCourses'!BB45,\" \")","v":" "},{"$f":"IF('2024NewCourses'!$A45=\"Yes\",'2024NewCourses'!BC45,\" \")","v":" "},{"$f":"IF('2024NewCourses'!$A45=\"Yes\",'2024NewCourses'!BD45,\" \")","v":" "},{"$f":"IF('2024NewCourses'!$A45=\"Yes\",'2024NewCourses'!BE45,\" \")","v":" "},{"$f":"IF('2024NewCourses'!$A45=\"Yes\",'2024NewCourses'!BF45,\" \")","v":" "},{"$f":"IF('2024NewCourses'!$A45=\"Yes\",'2024NewCourses'!BG45,\" \")","v":" "},{"$f":"IF('2024NewCourses'!$A45=\"Yes\",'2024NewCourses'!BH45,\" \")","v":" "},{"$f":"IF('2024NewCourses'!$A45=\"Yes\",'2024NewCourses'!BI45,\" \")","v":" "},{"$f":"IF('2024NewCourses'!$A45=\"Yes\",'2024NewCourses'!BJ45,\" \")","v":" "}]
[{"$f":"IF('2024NewCourses'!$A46=\"Yes\",'2024NewCourses'!B46,\" \")","v":" "},{"$f":"IF('2024NewCourses'!$A46=\"Yes\",'2024NewCourses'!D46,\" \")","v":" "},{"$f":"IF('2024NewCourses'!$A46=\"Yes\",'2024NewCourses'!F46,\" \")","v":" "},{"$f":"IF('2024NewCourses'!$A46=\"Yes\",'2024NewCourses'!G46,\" \")","v":" "},{"$f":"IF('2024NewCourses'!$A46=\"Yes\",'2024NewCourses'!H46,\" \")","v":" "},{"$f":"IF('2024NewCourses'!$A46=\"Yes\",'2024NewCourses'!J46,\" \")","v":" "},{"$f":"IF('2024NewCourses'!$A46=\"Yes\",'2024NewCourses'!K46,\" \")","v":" "},{"$f":"IF('2024NewCourses'!$A46=\"Yes\",'2024NewCourses'!L46,\" \")","v":" "},{"$f":"IF('2024NewCourses'!$A46=\"Yes\",'2024NewCourses'!M46,\" \")","v":" "},{"$f":"IF('2024NewCourses'!$A46=\"Yes\",'2024NewCourses'!N46,\" \")","v":" "},{"$f":"IF('2024NewCourses'!$A46=\"Yes\",'2024NewCourses'!O46,\" \")","v":" "},{"$f":"IF('2024NewCourses'!$A46=\"Yes\",'2024NewCourses'!P46,\" \")","v":" "},{"$f":"IF('2024NewCourses'!$A46=\"Yes\",'2024NewCourses'!Q46,\" \")","v":" "},{"$f":"IF('2024NewCourses'!$A46=\"Yes\",'2024NewCourses'!R46,\" \")","v":" "},{"$f":"IF('2024NewCourses'!$A46=\"Yes\",'2024NewCourses'!S46,\" \")","v":" "},{"$f":"IF('2024NewCourses'!$A46=\"Yes\",'2024NewCourses'!T46,\" \")","v":" "},{"$f":"IF('2024NewCourses'!$A46=\"Yes\",'2024NewCourses'!U46,\" \")","v":" "},{"$f":"IF('2024NewCourses'!$A46=\"Yes\",'2024NewCourses'!V46,\" \")","v":" "},{"$f":"IF('2024NewCourses'!$A46=\"Yes\",'2024NewCourses'!W46,\" \")","v":" "},{"$f":"IF('2024NewCourses'!$A46=\"Yes\",'2024NewCourses'!X46,\" \")","v":" "},{"$f":"IF('2024NewCourses'!$A46=\"Yes\",'2024NewCourses'!Y46,\" \")","v":" "},{"$f":"IF('2024NewCourses'!$A46=\"Yes\",'2024NewCourses'!Z46,\" \")","v":" "},{"$f":"IF('2024NewCourses'!$A46=\"Yes\",'2024NewCourses'!AA46,\" \")","v":" "},{"$f":"IF('2024NewCourses'!$A46=\"Yes\",'2024NewCourses'!AB46,\" \")","v":" "},{"$f":"IF('2024NewCourses'!$A46=\"Yes\",'2024NewCourses'!AC46,\" \")","v":" "},{"$f":"IF('2024NewCourses'!$A46=\"Yes\",'2024NewCourses'!AD46,\" \")","v":" "},{"$f":"IF('2024NewCourses'!$A46=\"Yes\",'2024NewCourses'!AE46,\" \")","v":" "},{"$f":"IF('2024NewCourses'!$A46=\"Yes\",'2024NewCourses'!AF46,\" \")","v":" "},{"$f":"IF('2024NewCourses'!$A46=\"Yes\",'2024NewCourses'!AG46,\" \")","v":" "},{"$f":"IF('2024NewCourses'!$A46=\"Yes\",'2024NewCourses'!AH46,\" \")","v":" "},{"$f":"IF('2024NewCourses'!$A46=\"Yes\",'2024NewCourses'!AI46,\" \")","v":" "},{"$f":"IF('2024NewCourses'!$A46=\"Yes\",'2024NewCourses'!AJ46,\" \")","v":" "},{"$f":"IF('2024NewCourses'!$A46=\"Yes\",'2024NewCourses'!AK46,\" \")","v":" "},{"$f":"IF('2024NewCourses'!$A46=\"Yes\",'2024NewCourses'!AL46,\" \")","v":" "},{"$f":"IF('2024NewCourses'!$A46=\"Yes\",'2024NewCourses'!AM46,\" \")","v":" "},{"$f":"IF('2024NewCourses'!$A46=\"Yes\",'2024NewCourses'!AN46,\" \")","v":" "},{"$f":"IF('2024NewCourses'!$A46=\"Yes\",'2024NewCourses'!AO46,\" \")","v":" "},{"$f":"IF('2024NewCourses'!$A46=\"Yes\",'2024NewCourses'!AP46,\" \")","v":" "},{"$f":"IF('2024NewCourses'!$A46=\"Yes\",'2024NewCourses'!AQ46,\" \")","v":" "},{"$f":"IF('2024NewCourses'!$A46=\"Yes\",'2024NewCourses'!AR46,\" \")","v":" "},{"$f":"IF('2024NewCourses'!$A46=\"Yes\",'2024NewCourses'!AR46,\" \")","v":" "},{"$f":"IF('2024NewCourses'!$A46=\"Yes\",'2024NewCourses'!AS46,\" \")","v":" "},{"$f":"IF('2024NewCourses'!$A46=\"Yes\",'2024NewCourses'!AT46,\" \")","v":" "},{"$f":"IF('2024NewCourses'!$A46=\"Yes\",'2024NewCourses'!AU46,\" \")","v":" "},{"$f":"IF('2024NewCourses'!$A46=\"Yes\",'2024NewCourses'!AV46,\" \")","v":" "},{"$f":"IF('2024NewCourses'!$A46=\"Yes\",'2024NewCourses'!AW46,\" \")","v":" "},{"$f":"IF('2024NewCourses'!$A46=\"Yes\",'2024NewCourses'!AX46,\" \")","v":" "},{"$f":"IF('2024NewCourses'!$A46=\"Yes\",'2024NewCourses'!AY46,\" \")","v":" "},{"$f":"IF('2024NewCourses'!$A46=\"Yes\",'2024NewCourses'!AZ46,\" \")","v":" "},{"$f":"IF('2024NewCourses'!$A46=\"Yes\",'2024NewCourses'!BA46,\" \")","v":" "},{"$f":"IF('2024NewCourses'!$A46=\"Yes\",'2024NewCourses'!BB46,\" \")","v":" "},{"$f":"IF('2024NewCourses'!$A46=\"Yes\",'2024NewCourses'!BC46,\" \")","v":" "},{"$f":"IF('2024NewCourses'!$A46=\"Yes\",'2024NewCourses'!BD46,\" \")","v":" "},{"$f":"IF('2024NewCourses'!$A46=\"Yes\",'2024NewCourses'!BE46,\" \")","v":" "},{"$f":"IF('2024NewCourses'!$A46=\"Yes\",'2024NewCourses'!BF46,\" \")","v":" "},{"$f":"IF('2024NewCourses'!$A46=\"Yes\",'2024NewCourses'!BG46,\" \")","v":" "},{"$f":"IF('2024NewCourses'!$A46=\"Yes\",'2024NewCourses'!BH46,\" \")","v":" "},{"$f":"IF('2024NewCourses'!$A46=\"Yes\",'2024NewCourses'!BI46,\" \")","v":" "},{"$f":"IF('2024NewCourses'!$A46=\"Yes\",'2024NewCourses'!BJ46,\" \")","v":" "}]
[{"$f":"IF('2024NewCourses'!$A47=\"Yes\",'2024NewCourses'!B47,\" \")","v":" "},{"$f":"IF('2024NewCourses'!$A47=\"Yes\",'2024NewCourses'!D47,\" \")","v":" "},{"$f":"IF('2024NewCourses'!$A47=\"Yes\",'2024NewCourses'!F47,\" \")","v":" "},{"$f":"IF('2024NewCourses'!$A47=\"Yes\",'2024NewCourses'!G47,\" \")","v":" "},{"$f":"IF('2024NewCourses'!$A47=\"Yes\",'2024NewCourses'!H47,\" \")","v":" "},{"$f":"IF('2024NewCourses'!$A47=\"Yes\",'2024NewCourses'!J47,\" \")","v":" "},{"$f":"IF('2024NewCourses'!$A47=\"Yes\",'2024NewCourses'!K47,\" \")","v":" "},{"$f":"IF('2024NewCourses'!$A47=\"Yes\",'2024NewCourses'!L47,\" \")","v":" "},{"$f":"IF('2024NewCourses'!$A47=\"Yes\",'2024NewCourses'!M47,\" \")","v":" "},{"$f":"IF('2024NewCourses'!$A47=\"Yes\",'2024NewCourses'!N47,\" \")","v":" "},{"$f":"IF('2024NewCourses'!$A47=\"Yes\",'2024NewCourses'!O47,\" \")","v":" "},{"$f":"IF('2024NewCourses'!$A47=\"Yes\",'2024NewCourses'!P47,\" \")","v":" "},{"$f":"IF('2024NewCourses'!$A47=\"Yes\",'2024NewCourses'!Q47,\" \")","v":" "},{"$f":"IF('2024NewCourses'!$A47=\"Yes\",'2024NewCourses'!R47,\" \")","v":" "},{"$f":"IF('2024NewCourses'!$A47=\"Yes\",'2024NewCourses'!S47,\" \")","v":" "},{"$f":"IF('2024NewCourses'!$A47=\"Yes\",'2024NewCourses'!T47,\" \")","v":" "},{"$f":"IF('2024NewCourses'!$A47=\"Yes\",'2024NewCourses'!U47,\" \")","v":" "},{"$f":"IF('2024NewCourses'!$A47=\"Yes\",'2024NewCourses'!V47,\" \")","v":" "},{"$f":"IF('2024NewCourses'!$A47=\"Yes\",'2024NewCourses'!W47,\" \")","v":" "},{"$f":"IF('2024NewCourses'!$A47=\"Yes\",'2024NewCourses'!X47,\" \")","v":" "},{"$f":"IF('2024NewCourses'!$A47=\"Yes\",'2024NewCourses'!Y47,\" \")","v":" "},{"$f":"IF('2024NewCourses'!$A47=\"Yes\",'2024NewCourses'!Z47,\" \")","v":" "},{"$f":"IF('2024NewCourses'!$A47=\"Yes\",'2024NewCourses'!AA47,\" \")","v":" "},{"$f":"IF('2024NewCourses'!$A47=\"Yes\",'2024NewCourses'!AB47,\" \")","v":" "},{"$f":"IF('2024NewCourses'!$A47=\"Yes\",'2024NewCourses'!AC47,\" \")","v":" "},{"$f":"IF('2024NewCourses'!$A47=\"Yes\",'2024NewCourses'!AD47,\" \")","v":" "},{"$f":"IF('2024NewCourses'!$A47=\"Yes\",'2024NewCourses'!AE47,\" \")","v":" "},{"$f":"IF('2024NewCourses'!$A47=\"Yes\",'2024NewCourses'!AF47,\" \")","v":" "},{"$f":"IF('2024NewCourses'!$A47=\"Yes\",'2024NewCourses'!AG47,\" \")","v":" "},{"$f":"IF('2024NewCourses'!$A47=\"Yes\",'2024NewCourses'!AH47,\" \")","v":" "},{"$f":"IF('2024NewCourses'!$A47=\"Yes\",'2024NewCourses'!AI47,\" \")","v":" "},{"$f":"IF('2024NewCourses'!$A47=\"Yes\",'2024NewCourses'!AJ47,\" \")","v":" "},{"$f":"IF('2024NewCourses'!$A47=\"Yes\",'2024NewCourses'!AK47,\" \")","v":" "},{"$f":"IF('2024NewCourses'!$A47=\"Yes\",'2024NewCourses'!AL47,\" \")","v":" "},{"$f":"IF('2024NewCourses'!$A47=\"Yes\",'2024NewCourses'!AM47,\" \")","v":" "},{"$f":"IF('2024NewCourses'!$A47=\"Yes\",'2024NewCourses'!AN47,\" \")","v":" "},{"$f":"IF('2024NewCourses'!$A47=\"Yes\",'2024NewCourses'!AO47,\" \")","v":" "},{"$f":"IF('2024NewCourses'!$A47=\"Yes\",'2024NewCourses'!AP47,\" \")","v":" "},{"$f":"IF('2024NewCourses'!$A47=\"Yes\",'2024NewCourses'!AQ47,\" \")","v":" "},{"$f":"IF('2024NewCourses'!$A47=\"Yes\",'2024NewCourses'!AR47,\" \")","v":" "},{"$f":"IF('2024NewCourses'!$A47=\"Yes\",'2024NewCourses'!AR47,\" \")","v":" "},{"$f":"IF('2024NewCourses'!$A47=\"Yes\",'2024NewCourses'!AS47,\" \")","v":" "},{"$f":"IF('2024NewCourses'!$A47=\"Yes\",'2024NewCourses'!AT47,\" \")","v":" "},{"$f":"IF('2024NewCourses'!$A47=\"Yes\",'2024NewCourses'!AU47,\" \")","v":" "},{"$f":"IF('2024NewCourses'!$A47=\"Yes\",'2024NewCourses'!AV47,\" \")","v":" "},{"$f":"IF('2024NewCourses'!$A47=\"Yes\",'2024NewCourses'!AW47,\" \")","v":" "},{"$f":"IF('2024NewCourses'!$A47=\"Yes\",'2024NewCourses'!AX47,\" \")","v":" "},{"$f":"IF('2024NewCourses'!$A47=\"Yes\",'2024NewCourses'!AY47,\" \")","v":" "},{"$f":"IF('2024NewCourses'!$A47=\"Yes\",'2024NewCourses'!AZ47,\" \")","v":" "},{"$f":"IF('2024NewCourses'!$A47=\"Yes\",'2024NewCourses'!BA47,\" \")","v":" "},{"$f":"IF('2024NewCourses'!$A47=\"Yes\",'2024NewCourses'!BB47,\" \")","v":" "},{"$f":"IF('2024NewCourses'!$A47=\"Yes\",'2024NewCourses'!BC47,\" \")","v":" "},{"$f":"IF('2024NewCourses'!$A47=\"Yes\",'2024NewCourses'!BD47,\" \")","v":" "},{"$f":"IF('2024NewCourses'!$A47=\"Yes\",'2024NewCourses'!BE47,\" \")","v":" "},{"$f":"IF('2024NewCourses'!$A47=\"Yes\",'2024NewCourses'!BF47,\" \")","v":" "},{"$f":"IF('2024NewCourses'!$A47=\"Yes\",'2024NewCourses'!BG47,\" \")","v":" "},{"$f":"IF('2024NewCourses'!$A47=\"Yes\",'2024NewCourses'!BH47,\" \")","v":" "},{"$f":"IF('2024NewCourses'!$A47=\"Yes\",'2024NewCourses'!BI47,\" \")","v":" "},{"$f":"IF('2024NewCourses'!$A47=\"Yes\",'2024NewCourses'!BJ47,\" \")","v":" "}]
[{"$f":"IF('2024NewCourses'!$A48=\"Yes\",'2024NewCourses'!B48,\" \")","v":" "},{"$f":"IF('2024NewCourses'!$A48=\"Yes\",'2024NewCourses'!D48,\" \")","v":" "},{"$f":"IF('2024NewCourses'!$A48=\"Yes\",'2024NewCourses'!F48,\" \")","v":" "},{"$f":"IF('2024NewCourses'!$A48=\"Yes\",'2024NewCourses'!G48,\" \")","v":" "},{"$f":"IF('2024NewCourses'!$A48=\"Yes\",'2024NewCourses'!H48,\" \")","v":" "},{"$f":"IF('2024NewCourses'!$A48=\"Yes\",'2024NewCourses'!J48,\" \")","v":" "},{"$f":"IF('2024NewCourses'!$A48=\"Yes\",'2024NewCourses'!K48,\" \")","v":" "},{"$f":"IF('2024NewCourses'!$A48=\"Yes\",'2024NewCourses'!L48,\" \")","v":" "},{"$f":"IF('2024NewCourses'!$A48=\"Yes\",'2024NewCourses'!M48,\" \")","v":" "},{"$f":"IF('2024NewCourses'!$A48=\"Yes\",'2024NewCourses'!N48,\" \")","v":" "},{"$f":"IF('2024NewCourses'!$A48=\"Yes\",'2024NewCourses'!O48,\" \")","v":" "},{"$f":"IF('2024NewCourses'!$A48=\"Yes\",'2024NewCourses'!P48,\" \")","v":" "},{"$f":"IF('2024NewCourses'!$A48=\"Yes\",'2024NewCourses'!Q48,\" \")","v":" "},{"$f":"IF('2024NewCourses'!$A48=\"Yes\",'2024NewCourses'!R48,\" \")","v":" "},{"$f":"IF('2024NewCourses'!$A48=\"Yes\",'2024NewCourses'!S48,\" \")","v":" "},{"$f":"IF('2024NewCourses'!$A48=\"Yes\",'2024NewCourses'!T48,\" \")","v":" "},{"$f":"IF('2024NewCourses'!$A48=\"Yes\",'2024NewCourses'!U48,\" \")","v":" "},{"$f":"IF('2024NewCourses'!$A48=\"Yes\",'2024NewCourses'!V48,\" \")","v":" "},{"$f":"IF('2024NewCourses'!$A48=\"Yes\",'2024NewCourses'!W48,\" \")","v":" "},{"$f":"IF('2024NewCourses'!$A48=\"Yes\",'2024NewCourses'!X48,\" \")","v":" "},{"$f":"IF('2024NewCourses'!$A48=\"Yes\",'2024NewCourses'!Y48,\" \")","v":" "},{"$f":"IF('2024NewCourses'!$A48=\"Yes\",'2024NewCourses'!Z48,\" \")","v":" "},{"$f":"IF('2024NewCourses'!$A48=\"Yes\",'2024NewCourses'!AA48,\" \")","v":" "},{"$f":"IF('2024NewCourses'!$A48=\"Yes\",'2024NewCourses'!AB48,\" \")","v":" "},{"$f":"IF('2024NewCourses'!$A48=\"Yes\",'2024NewCourses'!AC48,\" \")","v":" "},{"$f":"IF('2024NewCourses'!$A48=\"Yes\",'2024NewCourses'!AD48,\" \")","v":" "},{"$f":"IF('2024NewCourses'!$A48=\"Yes\",'2024NewCourses'!AE48,\" \")","v":" "},{"$f":"IF('2024NewCourses'!$A48=\"Yes\",'2024NewCourses'!AF48,\" \")","v":" "},{"$f":"IF('2024NewCourses'!$A48=\"Yes\",'2024NewCourses'!AG48,\" \")","v":" "},{"$f":"IF('2024NewCourses'!$A48=\"Yes\",'2024NewCourses'!AH48,\" \")","v":" "},{"$f":"IF('2024NewCourses'!$A48=\"Yes\",'2024NewCourses'!AI48,\" \")","v":" "},{"$f":"IF('2024NewCourses'!$A48=\"Yes\",'2024NewCourses'!AJ48,\" \")","v":" "},{"$f":"IF('2024NewCourses'!$A48=\"Yes\",'2024NewCourses'!AK48,\" \")","v":" "},{"$f":"IF('2024NewCourses'!$A48=\"Yes\",'2024NewCourses'!AL48,\" \")","v":" "},{"$f":"IF('2024NewCourses'!$A48=\"Yes\",'2024NewCourses'!AM48,\" \")","v":" "},{"$f":"IF('2024NewCourses'!$A48=\"Yes\",'2024NewCourses'!AN48,\" \")","v":" "},{"$f":"IF('2024NewCourses'!$A48=\"Yes\",'2024NewCourses'!AO48,\" \")","v":" "},{"$f":"IF('2024NewCourses'!$A48=\"Yes\",'2024NewCourses'!AP48,\" \")","v":" "},{"$f":"IF('2024NewCourses'!$A48=\"Yes\",'2024NewCourses'!AQ48,\" \")","v":" "},{"$f":"IF('2024NewCourses'!$A48=\"Yes\",'2024NewCourses'!AR48,\" \")","v":" "},{"$f":"IF('2024NewCourses'!$A48=\"Yes\",'2024NewCourses'!AR48,\" \")","v":" "},{"$f":"IF('2024NewCourses'!$A48=\"Yes\",'2024NewCourses'!AS48,\" \")","v":" "},{"$f":"IF('2024NewCourses'!$A48=\"Yes\",'2024NewCourses'!AT48,\" \")","v":" "},{"$f":"IF('2024NewCourses'!$A48=\"Yes\",'2024NewCourses'!AU48,\" \")","v":" "},{"$f":"IF('2024NewCourses'!$A48=\"Yes\",'2024NewCourses'!AV48,\" \")","v":" "},{"$f":"IF('2024NewCourses'!$A48=\"Yes\",'2024NewCourses'!AW48,\" \")","v":" "},{"$f":"IF('2024NewCourses'!$A48=\"Yes\",'2024NewCourses'!AX48,\" \")","v":" "},{"$f":"IF('2024NewCourses'!$A48=\"Yes\",'2024NewCourses'!AY48,\" \")","v":" "},{"$f":"IF('2024NewCourses'!$A48=\"Yes\",'2024NewCourses'!AZ48,\" \")","v":" "},{"$f":"IF('2024NewCourses'!$A48=\"Yes\",'2024NewCourses'!BA48,\" \")","v":" "},{"$f":"IF('2024NewCourses'!$A48=\"Yes\",'2024NewCourses'!BB48,\" \")","v":" "},{"$f":"IF('2024NewCourses'!$A48=\"Yes\",'2024NewCourses'!BC48,\" \")","v":" "},{"$f":"IF('2024NewCourses'!$A48=\"Yes\",'2024NewCourses'!BD48,\" \")","v":" "},{"$f":"IF('2024NewCourses'!$A48=\"Yes\",'2024NewCourses'!BE48,\" \")","v":" "},{"$f":"IF('2024NewCourses'!$A48=\"Yes\",'2024NewCourses'!BF48,\" \")","v":" "},{"$f":"IF('2024NewCourses'!$A48=\"Yes\",'2024NewCourses'!BG48,\" \")","v":" "},{"$f":"IF('2024NewCourses'!$A48=\"Yes\",'2024NewCourses'!BH48,\" \")","v":" "},{"$f":"IF('2024NewCourses'!$A48=\"Yes\",'2024NewCourses'!BI48,\" \")","v":" "},{"$f":"IF('2024NewCourses'!$A48=\"Yes\",'2024NewCourses'!BJ48,\" \")","v":" "}]
[{"$f":"IF('2024NewCourses'!$A49=\"Yes\",'2024NewCourses'!B49,\" \")","v":" "},{"$f":"IF('2024NewCourses'!$A49=\"Yes\",'2024NewCourses'!D49,\" \")","v":" "},{"$f":"IF('2024NewCourses'!$A49=\"Yes\",'2024NewCourses'!F49,\" \")","v":" "},{"$f":"IF('2024NewCourses'!$A49=\"Yes\",'2024NewCourses'!G49,\" \")","v":" "},{"$f":"IF('2024NewCourses'!$A49=\"Yes\",'2024NewCourses'!H49,\" \")","v":" "},{"$f":"IF('2024NewCourses'!$A49=\"Yes\",'2024NewCourses'!J49,\" \")","v":" "},{"$f":"IF('2024NewCourses'!$A49=\"Yes\",'2024NewCourses'!K49,\" \")","v":" "},{"$f":"IF('2024NewCourses'!$A49=\"Yes\",'2024NewCourses'!L49,\" \")","v":" "},{"$f":"IF('2024NewCourses'!$A49=\"Yes\",'2024NewCourses'!M49,\" \")","v":" "},{"$f":"IF('2024NewCourses'!$A49=\"Yes\",'2024NewCourses'!N49,\" \")","v":" "},{"$f":"IF('2024NewCourses'!$A49=\"Yes\",'2024NewCourses'!O49,\" \")","v":" "},{"$f":"IF('2024NewCourses'!$A49=\"Yes\",'2024NewCourses'!P49,\" \")","v":" "},{"$f":"IF('2024NewCourses'!$A49=\"Yes\",'2024NewCourses'!Q49,\" \")","v":" "},{"$f":"IF('2024NewCourses'!$A49=\"Yes\",'2024NewCourses'!R49,\" \")","v":" "},{"$f":"IF('2024NewCourses'!$A49=\"Yes\",'2024NewCourses'!S49,\" \")","v":" "},{"$f":"IF('2024NewCourses'!$A49=\"Yes\",'2024NewCourses'!T49,\" \")","v":" "},{"$f":"IF('2024NewCourses'!$A49=\"Yes\",'2024NewCourses'!U49,\" \")","v":" "},{"$f":"IF('2024NewCourses'!$A49=\"Yes\",'2024NewCourses'!V49,\" \")","v":" "},{"$f":"IF('2024NewCourses'!$A49=\"Yes\",'2024NewCourses'!W49,\" \")","v":" "},{"$f":"IF('2024NewCourses'!$A49=\"Yes\",'2024NewCourses'!X49,\" \")","v":" "},{"$f":"IF('2024NewCourses'!$A49=\"Yes\",'2024NewCourses'!Y49,\" \")","v":" "},{"$f":"IF('2024NewCourses'!$A49=\"Yes\",'2024NewCourses'!Z49,\" \")","v":" "},{"$f":"IF('2024NewCourses'!$A49=\"Yes\",'2024NewCourses'!AA49,\" \")","v":" "},{"$f":"IF('2024NewCourses'!$A49=\"Yes\",'2024NewCourses'!AB49,\" \")","v":" "},{"$f":"IF('2024NewCourses'!$A49=\"Yes\",'2024NewCourses'!AC49,\" \")","v":" "},{"$f":"IF('2024NewCourses'!$A49=\"Yes\",'2024NewCourses'!AD49,\" \")","v":" "},{"$f":"IF('2024NewCourses'!$A49=\"Yes\",'2024NewCourses'!AE49,\" \")","v":" "},{"$f":"IF('2024NewCourses'!$A49=\"Yes\",'2024NewCourses'!AF49,\" \")","v":" "},{"$f":"IF('2024NewCourses'!$A49=\"Yes\",'2024NewCourses'!AG49,\" \")","v":" "},{"$f":"IF('2024NewCourses'!$A49=\"Yes\",'2024NewCourses'!AH49,\" \")","v":" "},{"$f":"IF('2024NewCourses'!$A49=\"Yes\",'2024NewCourses'!AI49,\" \")","v":" "},{"$f":"IF('2024NewCourses'!$A49=\"Yes\",'2024NewCourses'!AJ49,\" \")","v":" "},{"$f":"IF('2024NewCourses'!$A49=\"Yes\",'2024NewCourses'!AK49,\" \")","v":" "},{"$f":"IF('2024NewCourses'!$A49=\"Yes\",'2024NewCourses'!AL49,\" \")","v":" "},{"$f":"IF('2024NewCourses'!$A49=\"Yes\",'2024NewCourses'!AM49,\" \")","v":" "},{"$f":"IF('2024NewCourses'!$A49=\"Yes\",'2024NewCourses'!AN49,\" \")","v":" "},{"$f":"IF('2024NewCourses'!$A49=\"Yes\",'2024NewCourses'!AO49,\" \")","v":" "},{"$f":"IF('2024NewCourses'!$A49=\"Yes\",'2024NewCourses'!AP49,\" \")","v":" "},{"$f":"IF('2024NewCourses'!$A49=\"Yes\",'2024NewCourses'!AQ49,\" \")","v":" "},{"$f":"IF('2024NewCourses'!$A49=\"Yes\",'2024NewCourses'!AR49,\" \")","v":" "},{"$f":"IF('2024NewCourses'!$A49=\"Yes\",'2024NewCourses'!AR49,\" \")","v":" "},{"$f":"IF('2024NewCourses'!$A49=\"Yes\",'2024NewCourses'!AS49,\" \")","v":" "},{"$f":"IF('2024NewCourses'!$A49=\"Yes\",'2024NewCourses'!AT49,\" \")","v":" "},{"$f":"IF('2024NewCourses'!$A49=\"Yes\",'2024NewCourses'!AU49,\" \")","v":" "},{"$f":"IF('2024NewCourses'!$A49=\"Yes\",'2024NewCourses'!AV49,\" \")","v":" "},{"$f":"IF('2024NewCourses'!$A49=\"Yes\",'2024NewCourses'!AW49,\" \")","v":" "},{"$f":"IF('2024NewCourses'!$A49=\"Yes\",'2024NewCourses'!AX49,\" \")","v":" "},{"$f":"IF('2024NewCourses'!$A49=\"Yes\",'2024NewCourses'!AY49,\" \")","v":" "},{"$f":"IF('2024NewCourses'!$A49=\"Yes\",'2024NewCourses'!AZ49,\" \")","v":" "},{"$f":"IF('2024NewCourses'!$A49=\"Yes\",'2024NewCourses'!BA49,\" \")","v":" "},{"$f":"IF('2024NewCourses'!$A49=\"Yes\",'2024NewCourses'!BB49,\" \")","v":" "},{"$f":"IF('2024NewCourses'!$A49=\"Yes\",'2024NewCourses'!BC49,\" \")","v":" "},{"$f":"IF('2024NewCourses'!$A49=\"Yes\",'2024NewCourses'!BD49,\" \")","v":" "},{"$f":"IF('2024NewCourses'!$A49=\"Yes\",'2024NewCourses'!BE49,\" \")","v":" "},{"$f":"IF('2024NewCourses'!$A49=\"Yes\",'2024NewCourses'!BF49,\" \")","v":" "},{"$f":"IF('2024NewCourses'!$A49=\"Yes\",'2024NewCourses'!BG49,\" \")","v":" "},{"$f":"IF('2024NewCourses'!$A49=\"Yes\",'2024NewCourses'!BH49,\" \")","v":" "},{"$f":"IF('2024NewCourses'!$A49=\"Yes\",'2024NewCourses'!BI49,\" \")","v":" "},{"$f":"IF('2024NewCourses'!$A49=\"Yes\",'2024NewCourses'!BJ49,\" \")","v":" "}]
[{"$f":"IF('2024NewCourses'!$A50=\"Yes\",'2024NewCourses'!B50,\" \")","v":" "},{"$f":"IF('2024NewCourses'!$A50=\"Yes\",'2024NewCourses'!D50,\" \")","v":" "},{"$f":"IF('2024NewCourses'!$A50=\"Yes\",'2024NewCourses'!F50,\" \")","v":" "},{"$f":"IF('2024NewCourses'!$A50=\"Yes\",'2024NewCourses'!G50,\" \")","v":" "},{"$f":"IF('2024NewCourses'!$A50=\"Yes\",'2024NewCourses'!H50,\" \")","v":" "},{"$f":"IF('2024NewCourses'!$A50=\"Yes\",'2024NewCourses'!J50,\" \")","v":" "},{"$f":"IF('2024NewCourses'!$A50=\"Yes\",'2024NewCourses'!K50,\" \")","v":" "},{"$f":"IF('2024NewCourses'!$A50=\"Yes\",'2024NewCourses'!L50,\" \")","v":" "},{"$f":"IF('2024NewCourses'!$A50=\"Yes\",'2024NewCourses'!M50,\" \")","v":" "},{"$f":"IF('2024NewCourses'!$A50=\"Yes\",'2024NewCourses'!N50,\" \")","v":" "},{"$f":"IF('2024NewCourses'!$A50=\"Yes\",'2024NewCourses'!O50,\" \")","v":" "},{"$f":"IF('2024NewCourses'!$A50=\"Yes\",'2024NewCourses'!P50,\" \")","v":" "},{"$f":"IF('2024NewCourses'!$A50=\"Yes\",'2024NewCourses'!Q50,\" \")","v":" "},{"$f":"IF('2024NewCourses'!$A50=\"Yes\",'2024NewCourses'!R50,\" \")","v":" "},{"$f":"IF('2024NewCourses'!$A50=\"Yes\",'2024NewCourses'!S50,\" \")","v":" "},{"$f":"IF('2024NewCourses'!$A50=\"Yes\",'2024NewCourses'!T50,\" \")","v":" "},{"$f":"IF('2024NewCourses'!$A50=\"Yes\",'2024NewCourses'!U50,\" \")","v":" "},{"$f":"IF('2024NewCourses'!$A50=\"Yes\",'2024NewCourses'!V50,\" \")","v":" "},{"$f":"IF('2024NewCourses'!$A50=\"Yes\",'2024NewCourses'!W50,\" \")","v":" "},{"$f":"IF('2024NewCourses'!$A50=\"Yes\",'2024NewCourses'!X50,\" \")","v":" "},{"$f":"IF('2024NewCourses'!$A50=\"Yes\",'2024NewCourses'!Y50,\" \")","v":" "},{"$f":"IF('2024NewCourses'!$A50=\"Yes\",'2024NewCourses'!Z50,\" \")","v":" "},{"$f":"IF('2024NewCourses'!$A50=\"Yes\",'2024NewCourses'!AA50,\" \")","v":" "},{"$f":"IF('2024NewCourses'!$A50=\"Yes\",'2024NewCourses'!AB50,\" \")","v":" "},{"$f":"IF('2024NewCourses'!$A50=\"Yes\",'2024NewCourses'!AC50,\" \")","v":" "},{"$f":"IF('2024NewCourses'!$A50=\"Yes\",'2024NewCourses'!AD50,\" \")","v":" "},{"$f":"IF('2024NewCourses'!$A50=\"Yes\",'2024NewCourses'!AE50,\" \")","v":" "},{"$f":"IF('2024NewCourses'!$A50=\"Yes\",'2024NewCourses'!AF50,\" \")","v":" "},{"$f":"IF('2024NewCourses'!$A50=\"Yes\",'2024NewCourses'!AG50,\" \")","v":" "},{"$f":"IF('2024NewCourses'!$A50=\"Yes\",'2024NewCourses'!AH50,\" \")","v":" "},{"$f":"IF('2024NewCourses'!$A50=\"Yes\",'2024NewCourses'!AI50,\" \")","v":" "},{"$f":"IF('2024NewCourses'!$A50=\"Yes\",'2024NewCourses'!AJ50,\" \")","v":" "},{"$f":"IF('2024NewCourses'!$A50=\"Yes\",'2024NewCourses'!AK50,\" \")","v":" "},{"$f":"IF('2024NewCourses'!$A50=\"Yes\",'2024NewCourses'!AL50,\" \")","v":" "},{"$f":"IF('2024NewCourses'!$A50=\"Yes\",'2024NewCourses'!AM50,\" \")","v":" "},{"$f":"IF('2024NewCourses'!$A50=\"Yes\",'2024NewCourses'!AN50,\" \")","v":" "},{"$f":"IF('2024NewCourses'!$A50=\"Yes\",'2024NewCourses'!AO50,\" \")","v":" "},{"$f":"IF('2024NewCourses'!$A50=\"Yes\",'2024NewCourses'!AP50,\" \")","v":" "},{"$f":"IF('2024NewCourses'!$A50=\"Yes\",'2024NewCourses'!AQ50,\" \")","v":" "},{"$f":"IF('2024NewCourses'!$A50=\"Yes\",'2024NewCourses'!AR50,\" \")","v":" "},{"$f":"IF('2024NewCourses'!$A50=\"Yes\",'2024NewCourses'!AR50,\" \")","v":" "},{"$f":"IF('2024NewCourses'!$A50=\"Yes\",'2024NewCourses'!AS50,\" \")","v":" "},{"$f":"IF('2024NewCourses'!$A50=\"Yes\",'2024NewCourses'!AT50,\" \")","v":" "},{"$f":"IF('2024NewCourses'!$A50=\"Yes\",'2024NewCourses'!AU50,\" \")","v":" "},{"$f":"IF('2024NewCourses'!$A50=\"Yes\",'2024NewCourses'!AV50,\" \")","v":" "},{"$f":"IF('2024NewCourses'!$A50=\"Yes\",'2024NewCourses'!AW50,\" \")","v":" "},{"$f":"IF('2024NewCourses'!$A50=\"Yes\",'2024NewCourses'!AX50,\" \")","v":" "},{"$f":"IF('2024NewCourses'!$A50=\"Yes\",'2024NewCourses'!AY50,\" \")","v":" "},{"$f":"IF('2024NewCourses'!$A50=\"Yes\",'2024NewCourses'!AZ50,\" \")","v":" "},{"$f":"IF('2024NewCourses'!$A50=\"Yes\",'2024NewCourses'!BA50,\" \")","v":" "},{"$f":"IF('2024NewCourses'!$A50=\"Yes\",'2024NewCourses'!BB50,\" \")","v":" "},{"$f":"IF('2024NewCourses'!$A50=\"Yes\",'2024NewCourses'!BC50,\" \")","v":" "},{"$f":"IF('2024NewCourses'!$A50=\"Yes\",'2024NewCourses'!BD50,\" \")","v":" "},{"$f":"IF('2024NewCourses'!$A50=\"Yes\",'2024NewCourses'!BE50,\" \")","v":" "},{"$f":"IF('2024NewCourses'!$A50=\"Yes\",'2024NewCourses'!BF50,\" \")","v":" "},{"$f":"IF('2024NewCourses'!$A50=\"Yes\",'2024NewCourses'!BG50,\" \")","v":" "},{"$f":"IF('2024NewCourses'!$A50=\"Yes\",'2024NewCourses'!BH50,\" \")","v":" "},{"$f":"IF('2024NewCourses'!$A50=\"Yes\",'2024NewCourses'!BI50,\" \")","v":" "},{"$f":"IF('2024NewCourses'!$A50=\"Yes\",'2024NewCourses'!BJ50,\" \")","v":" "}]
[{"$f":"IF('2024NewCourses'!$A51=\"Yes\",'2024NewCourses'!B51,\" \")","v":" "},{"$f":"IF('2024NewCourses'!$A51=\"Yes\",'2024NewCourses'!D51,\" \")","v":" "},{"$f":"IF('2024NewCourses'!$A51=\"Yes\",'2024NewCourses'!F51,\" \")","v":" "},{"$f":"IF('2024NewCourses'!$A51=\"Yes\",'2024NewCourses'!G51,\" \")","v":" "},{"$f":"IF('2024NewCourses'!$A51=\"Yes\",'2024NewCourses'!H51,\" \")","v":" "},{"$f":"IF('2024NewCourses'!$A51=\"Yes\",'2024NewCourses'!J51,\" \")","v":" "},{"$f":"IF('2024NewCourses'!$A51=\"Yes\",'2024NewCourses'!K51,\" \")","v":" "},{"$f":"IF('2024NewCourses'!$A51=\"Yes\",'2024NewCourses'!L51,\" \")","v":" "},{"$f":"IF('2024NewCourses'!$A51=\"Yes\",'2024NewCourses'!M51,\" \")","v":" "},{"$f":"IF('2024NewCourses'!$A51=\"Yes\",'2024NewCourses'!N51,\" \")","v":" "},{"$f":"IF('2024NewCourses'!$A51=\"Yes\",'2024NewCourses'!O51,\" \")","v":" "},{"$f":"IF('2024NewCourses'!$A51=\"Yes\",'2024NewCourses'!P51,\" \")","v":" "},{"$f":"IF('2024NewCourses'!$A51=\"Yes\",'2024NewCourses'!Q51,\" \")","v":" "},{"$f":"IF('2024NewCourses'!$A51=\"Yes\",'2024NewCourses'!R51,\" \")","v":" "},{"$f":"IF('2024NewCourses'!$A51=\"Yes\",'2024NewCourses'!S51,\" \")","v":" "},{"$f":"IF('2024NewCourses'!$A51=\"Yes\",'2024NewCourses'!T51,\" \")","v":" "},{"$f":"IF('2024NewCourses'!$A51=\"Yes\",'2024NewCourses'!U51,\" \")","v":" "},{"$f":"IF('2024NewCourses'!$A51=\"Yes\",'2024NewCourses'!V51,\" \")","v":" "},{"$f":"IF('2024NewCourses'!$A51=\"Yes\",'2024NewCourses'!W51,\" \")","v":" "},{"$f":"IF('2024NewCourses'!$A51=\"Yes\",'2024NewCourses'!X51,\" \")","v":" "},{"$f":"IF('2024NewCourses'!$A51=\"Yes\",'2024NewCourses'!Y51,\" \")","v":" "},{"$f":"IF('2024NewCourses'!$A51=\"Yes\",'2024NewCourses'!Z51,\" \")","v":" "},{"$f":"IF('2024NewCourses'!$A51=\"Yes\",'2024NewCourses'!AA51,\" \")","v":" "},{"$f":"IF('2024NewCourses'!$A51=\"Yes\",'2024NewCourses'!AB51,\" \")","v":" "},{"$f":"IF('2024NewCourses'!$A51=\"Yes\",'2024NewCourses'!AC51,\" \")","v":" "},{"$f":"IF('2024NewCourses'!$A51=\"Yes\",'2024NewCourses'!AD51,\" \")","v":" "},{"$f":"IF('2024NewCourses'!$A51=\"Yes\",'2024NewCourses'!AE51,\" \")","v":" "},{"$f":"IF('2024NewCourses'!$A51=\"Yes\",'2024NewCourses'!AF51,\" \")","v":" "},{"$f":"IF('2024NewCourses'!$A51=\"Yes\",'2024NewCourses'!AG51,\" \")","v":" "},{"$f":"IF('2024NewCourses'!$A51=\"Yes\",'2024NewCourses'!AH51,\" \")","v":" "},{"$f":"IF('2024NewCourses'!$A51=\"Yes\",'2024NewCourses'!AI51,\" \")","v":" "},{"$f":"IF('2024NewCourses'!$A51=\"Yes\",'2024NewCourses'!AJ51,\" \")","v":" "},{"$f":"IF('2024NewCourses'!$A51=\"Yes\",'2024NewCourses'!AK51,\" \")","v":" "},{"$f":"IF('2024NewCourses'!$A51=\"Yes\",'2024NewCourses'!AL51,\" \")","v":" "},{"$f":"IF('2024NewCourses'!$A51=\"Yes\",'2024NewCourses'!AM51,\" \")","v":" "},{"$f":"IF('2024NewCourses'!$A51=\"Yes\",'2024NewCourses'!AN51,\" \")","v":" "},{"$f":"IF('2024NewCourses'!$A51=\"Yes\",'2024NewCourses'!AO51,\" \")","v":" "},{"$f":"IF('2024NewCourses'!$A51=\"Yes\",'2024NewCourses'!AP51,\" \")","v":" "},{"$f":"IF('2024NewCourses'!$A51=\"Yes\",'2024NewCourses'!AQ51,\" \")","v":" "},{"$f":"IF('2024NewCourses'!$A51=\"Yes\",'2024NewCourses'!AR51,\" \")","v":" "},{"$f":"IF('2024NewCourses'!$A51=\"Yes\",'2024NewCourses'!AR51,\" \")","v":" "},{"$f":"IF('2024NewCourses'!$A51=\"Yes\",'2024NewCourses'!AS51,\" \")","v":" "},{"$f":"IF('2024NewCourses'!$A51=\"Yes\",'2024NewCourses'!AT51,\" \")","v":" "},{"$f":"IF('2024NewCourses'!$A51=\"Yes\",'2024NewCourses'!AU51,\" \")","v":" "},{"$f":"IF('2024NewCourses'!$A51=\"Yes\",'2024NewCourses'!AV51,\" \")","v":" "},{"$f":"IF('2024NewCourses'!$A51=\"Yes\",'2024NewCourses'!AW51,\" \")","v":" "},{"$f":"IF('2024NewCourses'!$A51=\"Yes\",'2024NewCourses'!AX51,\" \")","v":" "},{"$f":"IF('2024NewCourses'!$A51=\"Yes\",'2024NewCourses'!AY51,\" \")","v":" "},{"$f":"IF('2024NewCourses'!$A51=\"Yes\",'2024NewCourses'!AZ51,\" \")","v":" "},{"$f":"IF('2024NewCourses'!$A51=\"Yes\",'2024NewCourses'!BA51,\" \")","v":" "},{"$f":"IF('2024NewCourses'!$A51=\"Yes\",'2024NewCourses'!BB51,\" \")","v":" "},{"$f":"IF('2024NewCourses'!$A51=\"Yes\",'2024NewCourses'!BC51,\" \")","v":" "},{"$f":"IF('2024NewCourses'!$A51=\"Yes\",'2024NewCourses'!BD51,\" \")","v":" "},{"$f":"IF('2024NewCourses'!$A51=\"Yes\",'2024NewCourses'!BE51,\" \")","v":" "},{"$f":"IF('2024NewCourses'!$A51=\"Yes\",'2024NewCourses'!BF51,\" \")","v":" "},{"$f":"IF('2024NewCourses'!$A51=\"Yes\",'2024NewCourses'!BG51,\" \")","v":" "},{"$f":"IF('2024NewCourses'!$A51=\"Yes\",'2024NewCourses'!BH51,\" \")","v":" "},{"$f":"IF('2024NewCourses'!$A51=\"Yes\",'2024NewCourses'!BI51,\" \")","v":" "},{"$f":"IF('2024NewCourses'!$A51=\"Yes\",'2024NewCourses'!BJ51,\" \")","v":" "}]
[{"$f":"IF('2024NewCourses'!$A52=\"Yes\",'2024NewCourses'!B52,\" \")","v":" "},{"$f":"IF('2024NewCourses'!$A52=\"Yes\",'2024NewCourses'!D52,\" \")","v":" "},{"$f":"IF('2024NewCourses'!$A52=\"Yes\",'2024NewCourses'!F52,\" \")","v":" "},{"$f":"IF('2024NewCourses'!$A52=\"Yes\",'2024NewCourses'!G52,\" \")","v":" "},{"$f":"IF('2024NewCourses'!$A52=\"Yes\",'2024NewCourses'!H52,\" \")","v":" "},{"$f":"IF('2024NewCourses'!$A52=\"Yes\",'2024NewCourses'!J52,\" \")","v":" "},{"$f":"IF('2024NewCourses'!$A52=\"Yes\",'2024NewCourses'!K52,\" \")","v":" "},{"$f":"IF('2024NewCourses'!$A52=\"Yes\",'2024NewCourses'!L52,\" \")","v":" "},{"$f":"IF('2024NewCourses'!$A52=\"Yes\",'2024NewCourses'!M52,\" \")","v":" "},{"$f":"IF('2024NewCourses'!$A52=\"Yes\",'2024NewCourses'!N52,\" \")","v":" "},{"$f":"IF('2024NewCourses'!$A52=\"Yes\",'2024NewCourses'!O52,\" \")","v":" "},{"$f":"IF('2024NewCourses'!$A52=\"Yes\",'2024NewCourses'!P52,\" \")","v":" "},{"$f":"IF('2024NewCourses'!$A52=\"Yes\",'2024NewCourses'!Q52,\" \")","v":" "},{"$f":"IF('2024NewCourses'!$A52=\"Yes\",'2024NewCourses'!R52,\" \")","v":" "},{"$f":"IF('2024NewCourses'!$A52=\"Yes\",'2024NewCourses'!S52,\" \")","v":" "},{"$f":"IF('2024NewCourses'!$A52=\"Yes\",'2024NewCourses'!T52,\" \")","v":" "},{"$f":"IF('2024NewCourses'!$A52=\"Yes\",'2024NewCourses'!U52,\" \")","v":" "},{"$f":"IF('2024NewCourses'!$A52=\"Yes\",'2024NewCourses'!V52,\" \")","v":" "},{"$f":"IF('2024NewCourses'!$A52=\"Yes\",'2024NewCourses'!W52,\" \")","v":" "},{"$f":"IF('2024NewCourses'!$A52=\"Yes\",'2024NewCourses'!X52,\" \")","v":" "},{"$f":"IF('2024NewCourses'!$A52=\"Yes\",'2024NewCourses'!Y52,\" \")","v":" "},{"$f":"IF('2024NewCourses'!$A52=\"Yes\",'2024NewCourses'!Z52,\" \")","v":" "},{"$f":"IF('2024NewCourses'!$A52=\"Yes\",'2024NewCourses'!AA52,\" \")","v":" "},{"$f":"IF('2024NewCourses'!$A52=\"Yes\",'2024NewCourses'!AB52,\" \")","v":" "},{"$f":"IF('2024NewCourses'!$A52=\"Yes\",'2024NewCourses'!AC52,\" \")","v":" "},{"$f":"IF('2024NewCourses'!$A52=\"Yes\",'2024NewCourses'!AD52,\" \")","v":" "},{"$f":"IF('2024NewCourses'!$A52=\"Yes\",'2024NewCourses'!AE52,\" \")","v":" "},{"$f":"IF('2024NewCourses'!$A52=\"Yes\",'2024NewCourses'!AF52,\" \")","v":" "},{"$f":"IF('2024NewCourses'!$A52=\"Yes\",'2024NewCourses'!AG52,\" \")","v":" "},{"$f":"IF('2024NewCourses'!$A52=\"Yes\",'2024NewCourses'!AH52,\" \")","v":" "},{"$f":"IF('2024NewCourses'!$A52=\"Yes\",'2024NewCourses'!AI52,\" \")","v":" "},{"$f":"IF('2024NewCourses'!$A52=\"Yes\",'2024NewCourses'!AJ52,\" \")","v":" "},{"$f":"IF('2024NewCourses'!$A52=\"Yes\",'2024NewCourses'!AK52,\" \")","v":" "},{"$f":"IF('2024NewCourses'!$A52=\"Yes\",'2024NewCourses'!AL52,\" \")","v":" "},{"$f":"IF('2024NewCourses'!$A52=\"Yes\",'2024NewCourses'!AM52,\" \")","v":" "},{"$f":"IF('2024NewCourses'!$A52=\"Yes\",'2024NewCourses'!AN52,\" \")","v":" "},{"$f":"IF('2024NewCourses'!$A52=\"Yes\",'2024NewCourses'!AO52,\" \")","v":" "},{"$f":"IF('2024NewCourses'!$A52=\"Yes\",'2024NewCourses'!AP52,\" \")","v":" "},{"$f":"IF('2024NewCourses'!$A52=\"Yes\",'2024NewCourses'!AQ52,\" \")","v":" "},{"$f":"IF('2024NewCourses'!$A52=\"Yes\",'2024NewCourses'!AR52,\" \")","v":" "},{"$f":"IF('2024NewCourses'!$A52=\"Yes\",'2024NewCourses'!AR52,\" \")","v":" "},{"$f":"IF('2024NewCourses'!$A52=\"Yes\",'2024NewCourses'!AS52,\" \")","v":" "},{"$f":"IF('2024NewCourses'!$A52=\"Yes\",'2024NewCourses'!AT52,\" \")","v":" "},{"$f":"IF('2024NewCourses'!$A52=\"Yes\",'2024NewCourses'!AU52,\" \")","v":" "},{"$f":"IF('2024NewCourses'!$A52=\"Yes\",'2024NewCourses'!AV52,\" \")","v":" "},{"$f":"IF('2024NewCourses'!$A52=\"Yes\",'2024NewCourses'!AW52,\" \")","v":" "},{"$f":"IF('2024NewCourses'!$A52=\"Yes\",'2024NewCourses'!AX52,\" \")","v":" "},{"$f":"IF('2024NewCourses'!$A52=\"Yes\",'2024NewCourses'!AY52,\" \")","v":" "},{"$f":"IF('2024NewCourses'!$A52=\"Yes\",'2024NewCourses'!AZ52,\" \")","v":" "},{"$f":"IF('2024NewCourses'!$A52=\"Yes\",'2024NewCourses'!BA52,\" \")","v":" "},{"$f":"IF('2024NewCourses'!$A52=\"Yes\",'2024NewCourses'!BB52,\" \")","v":" "},{"$f":"IF('2024NewCourses'!$A52=\"Yes\",'2024NewCourses'!BC52,\" \")","v":" "},{"$f":"IF('2024NewCourses'!$A52=\"Yes\",'2024NewCourses'!BD52,\" \")","v":" "},{"$f":"IF('2024NewCourses'!$A52=\"Yes\",'2024NewCourses'!BE52,\" \")","v":" "},{"$f":"IF('2024NewCourses'!$A52=\"Yes\",'2024NewCourses'!BF52,\" \")","v":" "},{"$f":"IF('2024NewCourses'!$A52=\"Yes\",'2024NewCourses'!BG52,\" \")","v":" "},{"$f":"IF('2024NewCourses'!$A52=\"Yes\",'2024NewCourses'!BH52,\" \")","v":" "},{"$f":"IF('2024NewCourses'!$A52=\"Yes\",'2024NewCourses'!BI52,\" \")","v":" "},{"$f":"IF('2024NewCourses'!$A52=\"Yes\",'2024NewCourses'!BJ52,\" \")","v":" "}]
[{"$f":"IF('2024NewCourses'!$A53=\"Yes\",'2024NewCourses'!B53,\" \")","v":" "},{"$f":"IF('2024NewCourses'!$A53=\"Yes\",'2024NewCourses'!D53,\" \")","v":" "},{"$f":"IF('2024NewCourses'!$A53=\"Yes\",'2024NewCourses'!F53,\" \")","v":" "},{"$f":"IF('2024NewCourses'!$A53=\"Yes\",'2024NewCourses'!G53,\" \")","v":" "},{"$f":"IF('2024NewCourses'!$A53=\"Yes\",'2024NewCourses'!H53,\" \")","v":" "},{"$f":"IF('2024NewCourses'!$A53=\"Yes\",'2024NewCourses'!J53,\" \")","v":" "},{"$f":"IF('2024NewCourses'!$A53=\"Yes\",'2024NewCourses'!K53,\" \")","v":" "},{"$f":"IF('2024NewCourses'!$A53=\"Yes\",'2024NewCourses'!L53,\" \")","v":" "},{"$f":"IF('2024NewCourses'!$A53=\"Yes\",'2024NewCourses'!M53,\" \")","v":" "},{"$f":"IF('2024NewCourses'!$A53=\"Yes\",'2024NewCourses'!N53,\" \")","v":" "},{"$f":"IF('2024NewCourses'!$A53=\"Yes\",'2024NewCourses'!O53,\" \")","v":" "},{"$f":"IF('2024NewCourses'!$A53=\"Yes\",'2024NewCourses'!P53,\" \")","v":" "},{"$f":"IF('2024NewCourses'!$A53=\"Yes\",'2024NewCourses'!Q53,\" \")","v":" "},{"$f":"IF('2024NewCourses'!$A53=\"Yes\",'2024NewCourses'!R53,\" \")","v":" "},{"$f":"IF('2024NewCourses'!$A53=\"Yes\",'2024NewCourses'!S53,\" \")","v":" "},{"$f":"IF('2024NewCourses'!$A53=\"Yes\",'2024NewCourses'!T53,\" \")","v":" "},{"$f":"IF('2024NewCourses'!$A53=\"Yes\",'2024NewCourses'!U53,\" \")","v":" "},{"$f":"IF('2024NewCourses'!$A53=\"Yes\",'2024NewCourses'!V53,\" \")","v":" "},{"$f":"IF('2024NewCourses'!$A53=\"Yes\",'2024NewCourses'!W53,\" \")","v":" "},{"$f":"IF('2024NewCourses'!$A53=\"Yes\",'2024NewCourses'!X53,\" \")","v":" "},{"$f":"IF('2024NewCourses'!$A53=\"Yes\",'2024NewCourses'!Y53,\" \")","v":" "},{"$f":"IF('2024NewCourses'!$A53=\"Yes\",'2024NewCourses'!Z53,\" \")","v":" "},{"$f":"IF('2024NewCourses'!$A53=\"Yes\",'2024NewCourses'!AA53,\" \")","v":" "},{"$f":"IF('2024NewCourses'!$A53=\"Yes\",'2024NewCourses'!AB53,\" \")","v":" "},{"$f":"IF('2024NewCourses'!$A53=\"Yes\",'2024NewCourses'!AC53,\" \")","v":" "},{"$f":"IF('2024NewCourses'!$A53=\"Yes\",'2024NewCourses'!AD53,\" \")","v":" "},{"$f":"IF('2024NewCourses'!$A53=\"Yes\",'2024NewCourses'!AE53,\" \")","v":" "},{"$f":"IF('2024NewCourses'!$A53=\"Yes\",'2024NewCourses'!AF53,\" \")","v":" "},{"$f":"IF('2024NewCourses'!$A53=\"Yes\",'2024NewCourses'!AG53,\" \")","v":" "},{"$f":"IF('2024NewCourses'!$A53=\"Yes\",'2024NewCourses'!AH53,\" \")","v":" "},{"$f":"IF('2024NewCourses'!$A53=\"Yes\",'2024NewCourses'!AI53,\" \")","v":" "},{"$f":"IF('2024NewCourses'!$A53=\"Yes\",'2024NewCourses'!AJ53,\" \")","v":" "},{"$f":"IF('2024NewCourses'!$A53=\"Yes\",'2024NewCourses'!AK53,\" \")","v":" "},{"$f":"IF('2024NewCourses'!$A53=\"Yes\",'2024NewCourses'!AL53,\" \")","v":" "},{"$f":"IF('2024NewCourses'!$A53=\"Yes\",'2024NewCourses'!AM53,\" \")","v":" "},{"$f":"IF('2024NewCourses'!$A53=\"Yes\",'2024NewCourses'!AN53,\" \")","v":" "},{"$f":"IF('2024NewCourses'!$A53=\"Yes\",'2024NewCourses'!AO53,\" \")","v":" "},{"$f":"IF('2024NewCourses'!$A53=\"Yes\",'2024NewCourses'!AP53,\" \")","v":" "},{"$f":"IF('2024NewCourses'!$A53=\"Yes\",'2024NewCourses'!AQ53,\" \")","v":" "},{"$f":"IF('2024NewCourses'!$A53=\"Yes\",'2024NewCourses'!AR53,\" \")","v":" "},{"$f":"IF('2024NewCourses'!$A53=\"Yes\",'2024NewCourses'!AR53,\" \")","v":" "},{"$f":"IF('2024NewCourses'!$A53=\"Yes\",'2024NewCourses'!AS53,\" \")","v":" "},{"$f":"IF('2024NewCourses'!$A53=\"Yes\",'2024NewCourses'!AT53,\" \")","v":" "},{"$f":"IF('2024NewCourses'!$A53=\"Yes\",'2024NewCourses'!AU53,\" \")","v":" "},{"$f":"IF('2024NewCourses'!$A53=\"Yes\",'2024NewCourses'!AV53,\" \")","v":" "},{"$f":"IF('2024NewCourses'!$A53=\"Yes\",'2024NewCourses'!AW53,\" \")","v":" "},{"$f":"IF('2024NewCourses'!$A53=\"Yes\",'2024NewCourses'!AX53,\" \")","v":" "},{"$f":"IF('2024NewCourses'!$A53=\"Yes\",'2024NewCourses'!AY53,\" \")","v":" "},{"$f":"IF('2024NewCourses'!$A53=\"Yes\",'2024NewCourses'!AZ53,\" \")","v":" "},{"$f":"IF('2024NewCourses'!$A53=\"Yes\",'2024NewCourses'!BA53,\" \")","v":" "},{"$f":"IF('2024NewCourses'!$A53=\"Yes\",'2024NewCourses'!BB53,\" \")","v":" "},{"$f":"IF('2024NewCourses'!$A53=\"Yes\",'2024NewCourses'!BC53,\" \")","v":" "},{"$f":"IF('2024NewCourses'!$A53=\"Yes\",'2024NewCourses'!BD53,\" \")","v":" "},{"$f":"IF('2024NewCourses'!$A53=\"Yes\",'2024NewCourses'!BE53,\" \")","v":" "},{"$f":"IF('2024NewCourses'!$A53=\"Yes\",'2024NewCourses'!BF53,\" \")","v":" "},{"$f":"IF('2024NewCourses'!$A53=\"Yes\",'2024NewCourses'!BG53,\" \")","v":" "},{"$f":"IF('2024NewCourses'!$A53=\"Yes\",'2024NewCourses'!BH53,\" \")","v":" "},{"$f":"IF('2024NewCourses'!$A53=\"Yes\",'2024NewCourses'!BI53,\" \")","v":" "},{"$f":"IF('2024NewCourses'!$A53=\"Yes\",'2024NewCourses'!BJ53,\" \")","v":" "}]
[{"$f":"IF('2024NewCourses'!$A54=\"Yes\",'2024NewCourses'!B54,\" \")","v":" "},{"$f":"IF('2024NewCourses'!$A54=\"Yes\",'2024NewCourses'!D54,\" \")","v":" "},{"$f":"IF('2024NewCourses'!$A54=\"Yes\",'2024NewCourses'!F54,\" \")","v":" "},{"$f":"IF('2024NewCourses'!$A54=\"Yes\",'2024NewCourses'!G54,\" \")","v":" "},{"$f":"IF('2024NewCourses'!$A54=\"Yes\",'2024NewCourses'!H54,\" \")","v":" "},{"$f":"IF('2024NewCourses'!$A54=\"Yes\",'2024NewCourses'!J54,\" \")","v":" "},{"$f":"IF('2024NewCourses'!$A54=\"Yes\",'2024NewCourses'!K54,\" \")","v":" "},{"$f":"IF('2024NewCourses'!$A54=\"Yes\",'2024NewCourses'!L54,\" \")","v":" "},{"$f":"IF('2024NewCourses'!$A54=\"Yes\",'2024NewCourses'!M54,\" \")","v":" "},{"$f":"IF('2024NewCourses'!$A54=\"Yes\",'2024NewCourses'!N54,\" \")","v":" "},{"$f":"IF('2024NewCourses'!$A54=\"Yes\",'2024NewCourses'!O54,\" \")","v":" "},{"$f":"IF('2024NewCourses'!$A54=\"Yes\",'2024NewCourses'!P54,\" \")","v":" "},{"$f":"IF('2024NewCourses'!$A54=\"Yes\",'2024NewCourses'!Q54,\" \")","v":" "},{"$f":"IF('2024NewCourses'!$A54=\"Yes\",'2024NewCourses'!R54,\" \")","v":" "},{"$f":"IF('2024NewCourses'!$A54=\"Yes\",'2024NewCourses'!S54,\" \")","v":" "},{"$f":"IF('2024NewCourses'!$A54=\"Yes\",'2024NewCourses'!T54,\" \")","v":" "},{"$f":"IF('2024NewCourses'!$A54=\"Yes\",'2024NewCourses'!U54,\" \")","v":" "},{"$f":"IF('2024NewCourses'!$A54=\"Yes\",'2024NewCourses'!V54,\" \")","v":" "},{"$f":"IF('2024NewCourses'!$A54=\"Yes\",'2024NewCourses'!W54,\" \")","v":" "},{"$f":"IF('2024NewCourses'!$A54=\"Yes\",'2024NewCourses'!X54,\" \")","v":" "},{"$f":"IF('2024NewCourses'!$A54=\"Yes\",'2024NewCourses'!Y54,\" \")","v":" "},{"$f":"IF('2024NewCourses'!$A54=\"Yes\",'2024NewCourses'!Z54,\" \")","v":" "},{"$f":"IF('2024NewCourses'!$A54=\"Yes\",'2024NewCourses'!AA54,\" \")","v":" "},{"$f":"IF('2024NewCourses'!$A54=\"Yes\",'2024NewCourses'!AB54,\" \")","v":" "},{"$f":"IF('2024NewCourses'!$A54=\"Yes\",'2024NewCourses'!AC54,\" \")","v":" "},{"$f":"IF('2024NewCourses'!$A54=\"Yes\",'2024NewCourses'!AD54,\" \")","v":" "},{"$f":"IF('2024NewCourses'!$A54=\"Yes\",'2024NewCourses'!AE54,\" \")","v":" "},{"$f":"IF('2024NewCourses'!$A54=\"Yes\",'2024NewCourses'!AF54,\" \")","v":" "},{"$f":"IF('2024NewCourses'!$A54=\"Yes\",'2024NewCourses'!AG54,\" \")","v":" "},{"$f":"IF('2024NewCourses'!$A54=\"Yes\",'2024NewCourses'!AH54,\" \")","v":" "},{"$f":"IF('2024NewCourses'!$A54=\"Yes\",'2024NewCourses'!AI54,\" \")","v":" "},{"$f":"IF('2024NewCourses'!$A54=\"Yes\",'2024NewCourses'!AJ54,\" \")","v":" "},{"$f":"IF('2024NewCourses'!$A54=\"Yes\",'2024NewCourses'!AK54,\" \")","v":" "},{"$f":"IF('2024NewCourses'!$A54=\"Yes\",'2024NewCourses'!AL54,\" \")","v":" "},{"$f":"IF('2024NewCourses'!$A54=\"Yes\",'2024NewCourses'!AM54,\" \")","v":" "},{"$f":"IF('2024NewCourses'!$A54=\"Yes\",'2024NewCourses'!AN54,\" \")","v":" "},{"$f":"IF('2024NewCourses'!$A54=\"Yes\",'2024NewCourses'!AO54,\" \")","v":" "},{"$f":"IF('2024NewCourses'!$A54=\"Yes\",'2024NewCourses'!AP54,\" \")","v":" "},{"$f":"IF('2024NewCourses'!$A54=\"Yes\",'2024NewCourses'!AQ54,\" \")","v":" "},{"$f":"IF('2024NewCourses'!$A54=\"Yes\",'2024NewCourses'!AR54,\" \")","v":" "},{"$f":"IF('2024NewCourses'!$A54=\"Yes\",'2024NewCourses'!AR54,\" \")","v":" "},{"$f":"IF('2024NewCourses'!$A54=\"Yes\",'2024NewCourses'!AS54,\" \")","v":" "},{"$f":"IF('2024NewCourses'!$A54=\"Yes\",'2024NewCourses'!AT54,\" \")","v":" "},{"$f":"IF('2024NewCourses'!$A54=\"Yes\",'2024NewCourses'!AU54,\" \")","v":" "},{"$f":"IF('2024NewCourses'!$A54=\"Yes\",'2024NewCourses'!AV54,\" \")","v":" "},{"$f":"IF('2024NewCourses'!$A54=\"Yes\",'2024NewCourses'!AW54,\" \")","v":" "},{"$f":"IF('2024NewCourses'!$A54=\"Yes\",'2024NewCourses'!AX54,\" \")","v":" "},{"$f":"IF('2024NewCourses'!$A54=\"Yes\",'2024NewCourses'!AY54,\" \")","v":" "},{"$f":"IF('2024NewCourses'!$A54=\"Yes\",'2024NewCourses'!AZ54,\" \")","v":" "},{"$f":"IF('2024NewCourses'!$A54=\"Yes\",'2024NewCourses'!BA54,\" \")","v":" "},{"$f":"IF('2024NewCourses'!$A54=\"Yes\",'2024NewCourses'!BB54,\" \")","v":" "},{"$f":"IF('2024NewCourses'!$A54=\"Yes\",'2024NewCourses'!BC54,\" \")","v":" "},{"$f":"IF('2024NewCourses'!$A54=\"Yes\",'2024NewCourses'!BD54,\" \")","v":" "},{"$f":"IF('2024NewCourses'!$A54=\"Yes\",'2024NewCourses'!BE54,\" \")","v":" "},{"$f":"IF('2024NewCourses'!$A54=\"Yes\",'2024NewCourses'!BF54,\" \")","v":" "},{"$f":"IF('2024NewCourses'!$A54=\"Yes\",'2024NewCourses'!BG54,\" \")","v":" "},{"$f":"IF('2024NewCourses'!$A54=\"Yes\",'2024NewCourses'!BH54,\" \")","v":" "},{"$f":"IF('2024NewCourses'!$A54=\"Yes\",'2024NewCourses'!BI54,\" \")","v":" "},{"$f":"IF('2024NewCourses'!$A54=\"Yes\",'2024NewCourses'!BJ54,\" \")","v":" "}]
[{"$f":"IF('2024NewCourses'!$A55=\"Yes\",'2024NewCourses'!B55,\" \")","v":" "},{"$f":"IF('2024NewCourses'!$A55=\"Yes\",'2024NewCourses'!D55,\" \")","v":" "},{"$f":"IF('2024NewCourses'!$A55=\"Yes\",'2024NewCourses'!F55,\" \")","v":" "},{"$f":"IF('2024NewCourses'!$A55=\"Yes\",'2024NewCourses'!G55,\" \")","v":" "},{"$f":"IF('2024NewCourses'!$A55=\"Yes\",'2024NewCourses'!H55,\" \")","v":" "},{"$f":"IF('2024NewCourses'!$A55=\"Yes\",'2024NewCourses'!J55,\" \")","v":" "},{"$f":"IF('2024NewCourses'!$A55=\"Yes\",'2024NewCourses'!K55,\" \")","v":" "},{"$f":"IF('2024NewCourses'!$A55=\"Yes\",'2024NewCourses'!L55,\" \")","v":" "},{"$f":"IF('2024NewCourses'!$A55=\"Yes\",'2024NewCourses'!M55,\" \")","v":" "},{"$f":"IF('2024NewCourses'!$A55=\"Yes\",'2024NewCourses'!N55,\" \")","v":" "},{"$f":"IF('2024NewCourses'!$A55=\"Yes\",'2024NewCourses'!O55,\" \")","v":" "},{"$f":"IF('2024NewCourses'!$A55=\"Yes\",'2024NewCourses'!P55,\" \")","v":" "},{"$f":"IF('2024NewCourses'!$A55=\"Yes\",'2024NewCourses'!Q55,\" \")","v":" "},{"$f":"IF('2024NewCourses'!$A55=\"Yes\",'2024NewCourses'!R55,\" \")","v":" "},{"$f":"IF('2024NewCourses'!$A55=\"Yes\",'2024NewCourses'!S55,\" \")","v":" "},{"$f":"IF('2024NewCourses'!$A55=\"Yes\",'2024NewCourses'!T55,\" \")","v":" "},{"$f":"IF('2024NewCourses'!$A55=\"Yes\",'2024NewCourses'!U55,\" \")","v":" "},{"$f":"IF('2024NewCourses'!$A55=\"Yes\",'2024NewCourses'!V55,\" \")","v":" "},{"$f":"IF('2024NewCourses'!$A55=\"Yes\",'2024NewCourses'!W55,\" \")","v":" "},{"$f":"IF('2024NewCourses'!$A55=\"Yes\",'2024NewCourses'!X55,\" \")","v":" "},{"$f":"IF('2024NewCourses'!$A55=\"Yes\",'2024NewCourses'!Y55,\" \")","v":" "},{"$f":"IF('2024NewCourses'!$A55=\"Yes\",'2024NewCourses'!Z55,\" \")","v":" "},{"$f":"IF('2024NewCourses'!$A55=\"Yes\",'2024NewCourses'!AA55,\" \")","v":" "},{"$f":"IF('2024NewCourses'!$A55=\"Yes\",'2024NewCourses'!AB55,\" \")","v":" "},{"$f":"IF('2024NewCourses'!$A55=\"Yes\",'2024NewCourses'!AC55,\" \")","v":" "},{"$f":"IF('2024NewCourses'!$A55=\"Yes\",'2024NewCourses'!AD55,\" \")","v":" "},{"$f":"IF('2024NewCourses'!$A55=\"Yes\",'2024NewCourses'!AE55,\" \")","v":" "},{"$f":"IF('2024NewCourses'!$A55=\"Yes\",'2024NewCourses'!AF55,\" \")","v":" "},{"$f":"IF('2024NewCourses'!$A55=\"Yes\",'2024NewCourses'!AG55,\" \")","v":" "},{"$f":"IF('2024NewCourses'!$A55=\"Yes\",'2024NewCourses'!AH55,\" \")","v":" "},{"$f":"IF('2024NewCourses'!$A55=\"Yes\",'2024NewCourses'!AI55,\" \")","v":" "},{"$f":"IF('2024NewCourses'!$A55=\"Yes\",'2024NewCourses'!AJ55,\" \")","v":" "},{"$f":"IF('2024NewCourses'!$A55=\"Yes\",'2024NewCourses'!AK55,\" \")","v":" "},{"$f":"IF('2024NewCourses'!$A55=\"Yes\",'2024NewCourses'!AL55,\" \")","v":" "},{"$f":"IF('2024NewCourses'!$A55=\"Yes\",'2024NewCourses'!AM55,\" \")","v":" "},{"$f":"IF('2024NewCourses'!$A55=\"Yes\",'2024NewCourses'!AN55,\" \")","v":" "},{"$f":"IF('2024NewCourses'!$A55=\"Yes\",'2024NewCourses'!AO55,\" \")","v":" "},{"$f":"IF('2024NewCourses'!$A55=\"Yes\",'2024NewCourses'!AP55,\" \")","v":" "},{"$f":"IF('2024NewCourses'!$A55=\"Yes\",'2024NewCourses'!AQ55,\" \")","v":" "},{"$f":"IF('2024NewCourses'!$A55=\"Yes\",'2024NewCourses'!AR55,\" \")","v":" "},{"$f":"IF('2024NewCourses'!$A55=\"Yes\",'2024NewCourses'!AR55,\" \")","v":" "},{"$f":"IF('2024NewCourses'!$A55=\"Yes\",'2024NewCourses'!AS55,\" \")","v":" "},{"$f":"IF('2024NewCourses'!$A55=\"Yes\",'2024NewCourses'!AT55,\" \")","v":" "},{"$f":"IF('2024NewCourses'!$A55=\"Yes\",'2024NewCourses'!AU55,\" \")","v":" "},{"$f":"IF('2024NewCourses'!$A55=\"Yes\",'2024NewCourses'!AV55,\" \")","v":" "},{"$f":"IF('2024NewCourses'!$A55=\"Yes\",'2024NewCourses'!AW55,\" \")","v":" "},{"$f":"IF('2024NewCourses'!$A55=\"Yes\",'2024NewCourses'!AX55,\" \")","v":" "},{"$f":"IF('2024NewCourses'!$A55=\"Yes\",'2024NewCourses'!AY55,\" \")","v":" "},{"$f":"IF('2024NewCourses'!$A55=\"Yes\",'2024NewCourses'!AZ55,\" \")","v":" "},{"$f":"IF('2024NewCourses'!$A55=\"Yes\",'2024NewCourses'!BA55,\" \")","v":" "},{"$f":"IF('2024NewCourses'!$A55=\"Yes\",'2024NewCourses'!BB55,\" \")","v":" "},{"$f":"IF('2024NewCourses'!$A55=\"Yes\",'2024NewCourses'!BC55,\" \")","v":" "},{"$f":"IF('2024NewCourses'!$A55=\"Yes\",'2024NewCourses'!BD55,\" \")","v":" "},{"$f":"IF('2024NewCourses'!$A55=\"Yes\",'2024NewCourses'!BE55,\" \")","v":" "},{"$f":"IF('2024NewCourses'!$A55=\"Yes\",'2024NewCourses'!BF55,\" \")","v":" "},{"$f":"IF('2024NewCourses'!$A55=\"Yes\",'2024NewCourses'!BG55,\" \")","v":" "},{"$f":"IF('2024NewCourses'!$A55=\"Yes\",'2024NewCourses'!BH55,\" \")","v":" "},{"$f":"IF('2024NewCourses'!$A55=\"Yes\",'2024NewCourses'!BI55,\" \")","v":" "},{"$f":"IF('2024NewCourses'!$A55=\"Yes\",'2024NewCourses'!BJ55,\" \")","v":" "}]
[{"$f":"IF('2024NewCourses'!$A56=\"Yes\",'2024NewCourses'!B56,\" \")","v":" "},{"$f":"IF('2024NewCourses'!$A56=\"Yes\",'2024NewCourses'!D56,\" \")","v":" "},{"$f":"IF('2024NewCourses'!$A56=\"Yes\",'2024NewCourses'!F56,\" \")","v":" "},{"$f":"IF('2024NewCourses'!$A56=\"Yes\",'2024NewCourses'!G56,\" \")","v":" "},{"$f":"IF('2024NewCourses'!$A56=\"Yes\",'2024NewCourses'!H56,\" \")","v":" "},{"$f":"IF('2024NewCourses'!$A56=\"Yes\",'2024NewCourses'!J56,\" \")","v":" "},{"$f":"IF('2024NewCourses'!$A56=\"Yes\",'2024NewCourses'!K56,\" \")","v":" "},{"$f":"IF('2024NewCourses'!$A56=\"Yes\",'2024NewCourses'!L56,\" \")","v":" "},{"$f":"IF('2024NewCourses'!$A56=\"Yes\",'2024NewCourses'!M56,\" \")","v":" "},{"$f":"IF('2024NewCourses'!$A56=\"Yes\",'2024NewCourses'!N56,\" \")","v":" "},{"$f":"IF('2024NewCourses'!$A56=\"Yes\",'2024NewCourses'!O56,\" \")","v":" "},{"$f":"IF('2024NewCourses'!$A56=\"Yes\",'2024NewCourses'!P56,\" \")","v":" "},{"$f":"IF('2024NewCourses'!$A56=\"Yes\",'2024NewCourses'!Q56,\" \")","v":" "},{"$f":"IF('2024NewCourses'!$A56=\"Yes\",'2024NewCourses'!R56,\" \")","v":" "},{"$f":"IF('2024NewCourses'!$A56=\"Yes\",'2024NewCourses'!S56,\" \")","v":" "},{"$f":"IF('2024NewCourses'!$A56=\"Yes\",'2024NewCourses'!T56,\" \")","v":" "},{"$f":"IF('2024NewCourses'!$A56=\"Yes\",'2024NewCourses'!U56,\" \")","v":" "},{"$f":"IF('2024NewCourses'!$A56=\"Yes\",'2024NewCourses'!V56,\" \")","v":" "},{"$f":"IF('2024NewCourses'!$A56=\"Yes\",'2024NewCourses'!W56,\" \")","v":" "},{"$f":"IF('2024NewCourses'!$A56=\"Yes\",'2024NewCourses'!X56,\" \")","v":" "},{"$f":"IF('2024NewCourses'!$A56=\"Yes\",'2024NewCourses'!Y56,\" \")","v":" "},{"$f":"IF('2024NewCourses'!$A56=\"Yes\",'2024NewCourses'!Z56,\" \")","v":" "},{"$f":"IF('2024NewCourses'!$A56=\"Yes\",'2024NewCourses'!AA56,\" \")","v":" "},{"$f":"IF('2024NewCourses'!$A56=\"Yes\",'2024NewCourses'!AB56,\" \")","v":" "},{"$f":"IF('2024NewCourses'!$A56=\"Yes\",'2024NewCourses'!AC56,\" \")","v":" "},{"$f":"IF('2024NewCourses'!$A56=\"Yes\",'2024NewCourses'!AD56,\" \")","v":" "},{"$f":"IF('2024NewCourses'!$A56=\"Yes\",'2024NewCourses'!AE56,\" \")","v":" "},{"$f":"IF('2024NewCourses'!$A56=\"Yes\",'2024NewCourses'!AF56,\" \")","v":" "},{"$f":"IF('2024NewCourses'!$A56=\"Yes\",'2024NewCourses'!AG56,\" \")","v":" "},{"$f":"IF('2024NewCourses'!$A56=\"Yes\",'2024NewCourses'!AH56,\" \")","v":" "},{"$f":"IF('2024NewCourses'!$A56=\"Yes\",'2024NewCourses'!AI56,\" \")","v":" "},{"$f":"IF('2024NewCourses'!$A56=\"Yes\",'2024NewCourses'!AJ56,\" \")","v":" "},{"$f":"IF('2024NewCourses'!$A56=\"Yes\",'2024NewCourses'!AK56,\" \")","v":" "},{"$f":"IF('2024NewCourses'!$A56=\"Yes\",'2024NewCourses'!AL56,\" \")","v":" "},{"$f":"IF('2024NewCourses'!$A56=\"Yes\",'2024NewCourses'!AM56,\" \")","v":" "},{"$f":"IF('2024NewCourses'!$A56=\"Yes\",'2024NewCourses'!AN56,\" \")","v":" "},{"$f":"IF('2024NewCourses'!$A56=\"Yes\",'2024NewCourses'!AO56,\" \")","v":" "},{"$f":"IF('2024NewCourses'!$A56=\"Yes\",'2024NewCourses'!AP56,\" \")","v":" "},{"$f":"IF('2024NewCourses'!$A56=\"Yes\",'2024NewCourses'!AQ56,\" \")","v":" "},{"$f":"IF('2024NewCourses'!$A56=\"Yes\",'2024NewCourses'!AR56,\" \")","v":" "},{"$f":"IF('2024NewCourses'!$A56=\"Yes\",'2024NewCourses'!AR56,\" \")","v":" "},{"$f":"IF('2024NewCourses'!$A56=\"Yes\",'2024NewCourses'!AS56,\" \")","v":" "},{"$f":"IF('2024NewCourses'!$A56=\"Yes\",'2024NewCourses'!AT56,\" \")","v":" "},{"$f":"IF('2024NewCourses'!$A56=\"Yes\",'2024NewCourses'!AU56,\" \")","v":" "},{"$f":"IF('2024NewCourses'!$A56=\"Yes\",'2024NewCourses'!AV56,\" \")","v":" "},{"$f":"IF('2024NewCourses'!$A56=\"Yes\",'2024NewCourses'!AW56,\" \")","v":" "},{"$f":"IF('2024NewCourses'!$A56=\"Yes\",'2024NewCourses'!AX56,\" \")","v":" "},{"$f":"IF('2024NewCourses'!$A56=\"Yes\",'2024NewCourses'!AY56,\" \")","v":" "},{"$f":"IF('2024NewCourses'!$A56=\"Yes\",'2024NewCourses'!AZ56,\" \")","v":" "},{"$f":"IF('2024NewCourses'!$A56=\"Yes\",'2024NewCourses'!BA56,\" \")","v":" "},{"$f":"IF('2024NewCourses'!$A56=\"Yes\",'2024NewCourses'!BB56,\" \")","v":" "},{"$f":"IF('2024NewCourses'!$A56=\"Yes\",'2024NewCourses'!BC56,\" \")","v":" "},{"$f":"IF('2024NewCourses'!$A56=\"Yes\",'2024NewCourses'!BD56,\" \")","v":" "},{"$f":"IF('2024NewCourses'!$A56=\"Yes\",'2024NewCourses'!BE56,\" \")","v":" "},{"$f":"IF('2024NewCourses'!$A56=\"Yes\",'2024NewCourses'!BF56,\" \")","v":" "},{"$f":"IF('2024NewCourses'!$A56=\"Yes\",'2024NewCourses'!BG56,\" \")","v":" "},{"$f":"IF('2024NewCourses'!$A56=\"Yes\",'2024NewCourses'!BH56,\" \")","v":" "},{"$f":"IF('2024NewCourses'!$A56=\"Yes\",'2024NewCourses'!BI56,\" \")","v":" "},{"$f":"IF('2024NewCourses'!$A56=\"Yes\",'2024NewCourses'!BJ56,\" \")","v":" "}]
[{"$f":"IF('2024NewCourses'!$A57=\"Yes\",'2024NewCourses'!B57,\" \")","v":" "},{"$f":"IF('2024NewCourses'!$A57=\"Yes\",'2024NewCourses'!D57,\" \")","v":" "},{"$f":"IF('2024NewCourses'!$A57=\"Yes\",'2024NewCourses'!F57,\" \")","v":" "},{"$f":"IF('2024NewCourses'!$A57=\"Yes\",'2024NewCourses'!G57,\" \")","v":" "},{"$f":"IF('2024NewCourses'!$A57=\"Yes\",'2024NewCourses'!H57,\" \")","v":" "},{"$f":"IF('2024NewCourses'!$A57=\"Yes\",'2024NewCourses'!J57,\" \")","v":" "},{"$f":"IF('2024NewCourses'!$A57=\"Yes\",'2024NewCourses'!K57,\" \")","v":" "},{"$f":"IF('2024NewCourses'!$A57=\"Yes\",'2024NewCourses'!L57,\" \")","v":" "},{"$f":"IF('2024NewCourses'!$A57=\"Yes\",'2024NewCourses'!M57,\" \")","v":" "},{"$f":"IF('2024NewCourses'!$A57=\"Yes\",'2024NewCourses'!N57,\" \")","v":" "},{"$f":"IF('2024NewCourses'!$A57=\"Yes\",'2024NewCourses'!O57,\" \")","v":" "},{"$f":"IF('2024NewCourses'!$A57=\"Yes\",'2024NewCourses'!P57,\" \")","v":" "},{"$f":"IF('2024NewCourses'!$A57=\"Yes\",'2024NewCourses'!Q57,\" \")","v":" "},{"$f":"IF('2024NewCourses'!$A57=\"Yes\",'2024NewCourses'!R57,\" \")","v":" "},{"$f":"IF('2024NewCourses'!$A57=\"Yes\",'2024NewCourses'!S57,\" \")","v":" "},{"$f":"IF('2024NewCourses'!$A57=\"Yes\",'2024NewCourses'!T57,\" \")","v":" "},{"$f":"IF('2024NewCourses'!$A57=\"Yes\",'2024NewCourses'!U57,\" \")","v":" "},{"$f":"IF('2024NewCourses'!$A57=\"Yes\",'2024NewCourses'!V57,\" \")","v":" "},{"$f":"IF('2024NewCourses'!$A57=\"Yes\",'2024NewCourses'!W57,\" \")","v":" "},{"$f":"IF('2024NewCourses'!$A57=\"Yes\",'2024NewCourses'!X57,\" \")","v":" "},{"$f":"IF('2024NewCourses'!$A57=\"Yes\",'2024NewCourses'!Y57,\" \")","v":" "},{"$f":"IF('2024NewCourses'!$A57=\"Yes\",'2024NewCourses'!Z57,\" \")","v":" "},{"$f":"IF('2024NewCourses'!$A57=\"Yes\",'2024NewCourses'!AA57,\" \")","v":" "},{"$f":"IF('2024NewCourses'!$A57=\"Yes\",'2024NewCourses'!AB57,\" \")","v":" "},{"$f":"IF('2024NewCourses'!$A57=\"Yes\",'2024NewCourses'!AC57,\" \")","v":" "},{"$f":"IF('2024NewCourses'!$A57=\"Yes\",'2024NewCourses'!AD57,\" \")","v":" "},{"$f":"IF('2024NewCourses'!$A57=\"Yes\",'2024NewCourses'!AE57,\" \")","v":" "},{"$f":"IF('2024NewCourses'!$A57=\"Yes\",'2024NewCourses'!AF57,\" \")","v":" "},{"$f":"IF('2024NewCourses'!$A57=\"Yes\",'2024NewCourses'!AG57,\" \")","v":" "},{"$f":"IF('2024NewCourses'!$A57=\"Yes\",'2024NewCourses'!AH57,\" \")","v":" "},{"$f":"IF('2024NewCourses'!$A57=\"Yes\",'2024NewCourses'!AI57,\" \")","v":" "},{"$f":"IF('2024NewCourses'!$A57=\"Yes\",'2024NewCourses'!AJ57,\" \")","v":" "},{"$f":"IF('2024NewCourses'!$A57=\"Yes\",'2024NewCourses'!AK57,\" \")","v":" "},{"$f":"IF('2024NewCourses'!$A57=\"Yes\",'2024NewCourses'!AL57,\" \")","v":" "},{"$f":"IF('2024NewCourses'!$A57=\"Yes\",'2024NewCourses'!AM57,\" \")","v":" "},{"$f":"IF('2024NewCourses'!$A57=\"Yes\",'2024NewCourses'!AN57,\" \")","v":" "},{"$f":"IF('2024NewCourses'!$A57=\"Yes\",'2024NewCourses'!AO57,\" \")","v":" "},{"$f":"IF('2024NewCourses'!$A57=\"Yes\",'2024NewCourses'!AP57,\" \")","v":" "},{"$f":"IF('2024NewCourses'!$A57=\"Yes\",'2024NewCourses'!AQ57,\" \")","v":" "},{"$f":"IF('2024NewCourses'!$A57=\"Yes\",'2024NewCourses'!AR57,\" \")","v":" "},{"$f":"IF('2024NewCourses'!$A57=\"Yes\",'2024NewCourses'!AR57,\" \")","v":" "},{"$f":"IF('2024NewCourses'!$A57=\"Yes\",'2024NewCourses'!AS57,\" \")","v":" "},{"$f":"IF('2024NewCourses'!$A57=\"Yes\",'2024NewCourses'!AT57,\" \")","v":" "},{"$f":"IF('2024NewCourses'!$A57=\"Yes\",'2024NewCourses'!AU57,\" \")","v":" "},{"$f":"IF('2024NewCourses'!$A57=\"Yes\",'2024NewCourses'!AV57,\" \")","v":" "},{"$f":"IF('2024NewCourses'!$A57=\"Yes\",'2024NewCourses'!AW57,\" \")","v":" "},{"$f":"IF('2024NewCourses'!$A57=\"Yes\",'2024NewCourses'!AX57,\" \")","v":" "},{"$f":"IF('2024NewCourses'!$A57=\"Yes\",'2024NewCourses'!AY57,\" \")","v":" "},{"$f":"IF('2024NewCourses'!$A57=\"Yes\",'2024NewCourses'!AZ57,\" \")","v":" "},{"$f":"IF('2024NewCourses'!$A57=\"Yes\",'2024NewCourses'!BA57,\" \")","v":" "},{"$f":"IF('2024NewCourses'!$A57=\"Yes\",'2024NewCourses'!BB57,\" \")","v":" "},{"$f":"IF('2024NewCourses'!$A57=\"Yes\",'2024NewCourses'!BC57,\" \")","v":" "},{"$f":"IF('2024NewCourses'!$A57=\"Yes\",'2024NewCourses'!BD57,\" \")","v":" "},{"$f":"IF('2024NewCourses'!$A57=\"Yes\",'2024NewCourses'!BE57,\" \")","v":" "},{"$f":"IF('2024NewCourses'!$A57=\"Yes\",'2024NewCourses'!BF57,\" \")","v":" "},{"$f":"IF('2024NewCourses'!$A57=\"Yes\",'2024NewCourses'!BG57,\" \")","v":" "},{"$f":"IF('2024NewCourses'!$A57=\"Yes\",'2024NewCourses'!BH57,\" \")","v":" "},{"$f":"IF('2024NewCourses'!$A57=\"Yes\",'2024NewCourses'!BI57,\" \")","v":" "},{"$f":"IF('2024NewCourses'!$A57=\"Yes\",'2024NewCourses'!BJ57,\" \")","v":" "}]
[{"$f":"IF('2024NewCourses'!$A58=\"Yes\",'2024NewCourses'!B58,\" \")","v":" "},{"$f":"IF('2024NewCourses'!$A58=\"Yes\",'2024NewCourses'!D58,\" \")","v":" "},{"$f":"IF('2024NewCourses'!$A58=\"Yes\",'2024NewCourses'!F58,\" \")","v":" "},{"$f":"IF('2024NewCourses'!$A58=\"Yes\",'2024NewCourses'!G58,\" \")","v":" "},{"$f":"IF('2024NewCourses'!$A58=\"Yes\",'2024NewCourses'!H58,\" \")","v":" "},{"$f":"IF('2024NewCourses'!$A58=\"Yes\",'2024NewCourses'!J58,\" \")","v":" "},{"$f":"IF('2024NewCourses'!$A58=\"Yes\",'2024NewCourses'!K58,\" \")","v":" "},{"$f":"IF('2024NewCourses'!$A58=\"Yes\",'2024NewCourses'!L58,\" \")","v":" "},{"$f":"IF('2024NewCourses'!$A58=\"Yes\",'2024NewCourses'!M58,\" \")","v":" "},{"$f":"IF('2024NewCourses'!$A58=\"Yes\",'2024NewCourses'!N58,\" \")","v":" "},{"$f":"IF('2024NewCourses'!$A58=\"Yes\",'2024NewCourses'!O58,\" \")","v":" "},{"$f":"IF('2024NewCourses'!$A58=\"Yes\",'2024NewCourses'!P58,\" \")","v":" "},{"$f":"IF('2024NewCourses'!$A58=\"Yes\",'2024NewCourses'!Q58,\" \")","v":" "},{"$f":"IF('2024NewCourses'!$A58=\"Yes\",'2024NewCourses'!R58,\" \")","v":" "},{"$f":"IF('2024NewCourses'!$A58=\"Yes\",'2024NewCourses'!S58,\" \")","v":" "},{"$f":"IF('2024NewCourses'!$A58=\"Yes\",'2024NewCourses'!T58,\" \")","v":" "},{"$f":"IF('2024NewCourses'!$A58=\"Yes\",'2024NewCourses'!U58,\" \")","v":" "},{"$f":"IF('2024NewCourses'!$A58=\"Yes\",'2024NewCourses'!V58,\" \")","v":" "},{"$f":"IF('2024NewCourses'!$A58=\"Yes\",'2024NewCourses'!W58,\" \")","v":" "},{"$f":"IF('2024NewCourses'!$A58=\"Yes\",'2024NewCourses'!X58,\" \")","v":" "},{"$f":"IF('2024NewCourses'!$A58=\"Yes\",'2024NewCourses'!Y58,\" \")","v":" "},{"$f":"IF('2024NewCourses'!$A58=\"Yes\",'2024NewCourses'!Z58,\" \")","v":" "},{"$f":"IF('2024NewCourses'!$A58=\"Yes\",'2024NewCourses'!AA58,\" \")","v":" "},{"$f":"IF('2024NewCourses'!$A58=\"Yes\",'2024NewCourses'!AB58,\" \")","v":" "},{"$f":"IF('2024NewCourses'!$A58=\"Yes\",'2024NewCourses'!AC58,\" \")","v":" "},{"$f":"IF('2024NewCourses'!$A58=\"Yes\",'2024NewCourses'!AD58,\" \")","v":" "},{"$f":"IF('2024NewCourses'!$A58=\"Yes\",'2024NewCourses'!AE58,\" \")","v":" "},{"$f":"IF('2024NewCourses'!$A58=\"Yes\",'2024NewCourses'!AF58,\" \")","v":" "},{"$f":"IF('2024NewCourses'!$A58=\"Yes\",'2024NewCourses'!AG58,\" \")","v":" "},{"$f":"IF('2024NewCourses'!$A58=\"Yes\",'2024NewCourses'!AH58,\" \")","v":" "},{"$f":"IF('2024NewCourses'!$A58=\"Yes\",'2024NewCourses'!AI58,\" \")","v":" "},{"$f":"IF('2024NewCourses'!$A58=\"Yes\",'2024NewCourses'!AJ58,\" \")","v":" "},{"$f":"IF('2024NewCourses'!$A58=\"Yes\",'2024NewCourses'!AK58,\" \")","v":" "},{"$f":"IF('2024NewCourses'!$A58=\"Yes\",'2024NewCourses'!AL58,\" \")","v":" "},{"$f":"IF('2024NewCourses'!$A58=\"Yes\",'2024NewCourses'!AM58,\" \")","v":" "},{"$f":"IF('2024NewCourses'!$A58=\"Yes\",'2024NewCourses'!AN58,\" \")","v":" "},{"$f":"IF('2024NewCourses'!$A58=\"Yes\",'2024NewCourses'!AO58,\" \")","v":" "},{"$f":"IF('2024NewCourses'!$A58=\"Yes\",'2024NewCourses'!AP58,\" \")","v":" "},{"$f":"IF('2024NewCourses'!$A58=\"Yes\",'2024NewCourses'!AQ58,\" \")","v":" "},{"$f":"IF('2024NewCourses'!$A58=\"Yes\",'2024NewCourses'!AR58,\" \")","v":" "},{"$f":"IF('2024NewCourses'!$A58=\"Yes\",'2024NewCourses'!AR58,\" \")","v":" "},{"$f":"IF('2024NewCourses'!$A58=\"Yes\",'2024NewCourses'!AS58,\" \")","v":" "},{"$f":"IF('2024NewCourses'!$A58=\"Yes\",'2024NewCourses'!AT58,\" \")","v":" "},{"$f":"IF('2024NewCourses'!$A58=\"Yes\",'2024NewCourses'!AU58,\" \")","v":" "},{"$f":"IF('2024NewCourses'!$A58=\"Yes\",'2024NewCourses'!AV58,\" \")","v":" "},{"$f":"IF('2024NewCourses'!$A58=\"Yes\",'2024NewCourses'!AW58,\" \")","v":" "},{"$f":"IF('2024NewCourses'!$A58=\"Yes\",'2024NewCourses'!AX58,\" \")","v":" "},{"$f":"IF('2024NewCourses'!$A58=\"Yes\",'2024NewCourses'!AY58,\" \")","v":" "},{"$f":"IF('2024NewCourses'!$A58=\"Yes\",'2024NewCourses'!AZ58,\" \")","v":" "},{"$f":"IF('2024NewCourses'!$A58=\"Yes\",'2024NewCourses'!BA58,\" \")","v":" "},{"$f":"IF('2024NewCourses'!$A58=\"Yes\",'2024NewCourses'!BB58,\" \")","v":" "},{"$f":"IF('2024NewCourses'!$A58=\"Yes\",'2024NewCourses'!BC58,\" \")","v":" "},{"$f":"IF('2024NewCourses'!$A58=\"Yes\",'2024NewCourses'!BD58,\" \")","v":" "},{"$f":"IF('2024NewCourses'!$A58=\"Yes\",'2024NewCourses'!BE58,\" \")","v":" "},{"$f":"IF('2024NewCourses'!$A58=\"Yes\",'2024NewCourses'!BF58,\" \")","v":" "},{"$f":"IF('2024NewCourses'!$A58=\"Yes\",'2024NewCourses'!BG58,\" \")","v":" "},{"$f":"IF('2024NewCourses'!$A58=\"Yes\",'2024NewCourses'!BH58,\" \")","v":" "},{"$f":"IF('2024NewCourses'!$A58=\"Yes\",'2024NewCourses'!BI58,\" \")","v":" "},{"$f":"IF('2024NewCourses'!$A58=\"Yes\",'2024NewCourses'!BJ58,\" \")","v":" "}]
[{"$f":"IF('2024NewCourses'!$A59=\"Yes\",'2024NewCourses'!B59,\" \")","v":" "},{"$f":"IF('2024NewCourses'!$A59=\"Yes\",'2024NewCourses'!D59,\" \")","v":" "},{"$f":"IF('2024NewCourses'!$A59=\"Yes\",'2024NewCourses'!F59,\" \")","v":" "},{"$f":"IF('2024NewCourses'!$A59=\"Yes\",'2024NewCourses'!G59,\" \")","v":" "},{"$f":"IF('2024NewCourses'!$A59=\"Yes\",'2024NewCourses'!H59,\" \")","v":" "},{"$f":"IF('2024NewCourses'!$A59=\"Yes\",'2024NewCourses'!J59,\" \")","v":" "},{"$f":"IF('2024NewCourses'!$A59=\"Yes\",'2024NewCourses'!K59,\" \")","v":" "},{"$f":"IF('2024NewCourses'!$A59=\"Yes\",'2024NewCourses'!L59,\" \")","v":" "},{"$f":"IF('2024NewCourses'!$A59=\"Yes\",'2024NewCourses'!M59,\" \")","v":" "},{"$f":"IF('2024NewCourses'!$A59=\"Yes\",'2024NewCourses'!N59,\" \")","v":" "},{"$f":"IF('2024NewCourses'!$A59=\"Yes\",'2024NewCourses'!O59,\" \")","v":" "},{"$f":"IF('2024NewCourses'!$A59=\"Yes\",'2024NewCourses'!P59,\" \")","v":" "},{"$f":"IF('2024NewCourses'!$A59=\"Yes\",'2024NewCourses'!Q59,\" \")","v":" "},{"$f":"IF('2024NewCourses'!$A59=\"Yes\",'2024NewCourses'!R59,\" \")","v":" "},{"$f":"IF('2024NewCourses'!$A59=\"Yes\",'2024NewCourses'!S59,\" \")","v":" "},{"$f":"IF('2024NewCourses'!$A59=\"Yes\",'2024NewCourses'!T59,\" \")","v":" "},{"$f":"IF('2024NewCourses'!$A59=\"Yes\",'2024NewCourses'!U59,\" \")","v":" "},{"$f":"IF('2024NewCourses'!$A59=\"Yes\",'2024NewCourses'!V59,\" \")","v":" "},{"$f":"IF('2024NewCourses'!$A59=\"Yes\",'2024NewCourses'!W59,\" \")","v":" "},{"$f":"IF('2024NewCourses'!$A59=\"Yes\",'2024NewCourses'!X59,\" \")","v":" "},{"$f":"IF('2024NewCourses'!$A59=\"Yes\",'2024NewCourses'!Y59,\" \")","v":" "},{"$f":"IF('2024NewCourses'!$A59=\"Yes\",'2024NewCourses'!Z59,\" \")","v":" "},{"$f":"IF('2024NewCourses'!$A59=\"Yes\",'2024NewCourses'!AA59,\" \")","v":" "},{"$f":"IF('2024NewCourses'!$A59=\"Yes\",'2024NewCourses'!AB59,\" \")","v":" "},{"$f":"IF('2024NewCourses'!$A59=\"Yes\",'2024NewCourses'!AC59,\" \")","v":" "},{"$f":"IF('2024NewCourses'!$A59=\"Yes\",'2024NewCourses'!AD59,\" \")","v":" "},{"$f":"IF('2024NewCourses'!$A59=\"Yes\",'2024NewCourses'!AE59,\" \")","v":" "},{"$f":"IF('2024NewCourses'!$A59=\"Yes\",'2024NewCourses'!AF59,\" \")","v":" "},{"$f":"IF('2024NewCourses'!$A59=\"Yes\",'2024NewCourses'!AG59,\" \")","v":" "},{"$f":"IF('2024NewCourses'!$A59=\"Yes\",'2024NewCourses'!AH59,\" \")","v":" "},{"$f":"IF('2024NewCourses'!$A59=\"Yes\",'2024NewCourses'!AI59,\" \")","v":" "},{"$f":"IF('2024NewCourses'!$A59=\"Yes\",'2024NewCourses'!AJ59,\" \")","v":" "},{"$f":"IF('2024NewCourses'!$A59=\"Yes\",'2024NewCourses'!AK59,\" \")","v":" "},{"$f":"IF('2024NewCourses'!$A59=\"Yes\",'2024NewCourses'!AL59,\" \")","v":" "},{"$f":"IF('2024NewCourses'!$A59=\"Yes\",'2024NewCourses'!AM59,\" \")","v":" "},{"$f":"IF('2024NewCourses'!$A59=\"Yes\",'2024NewCourses'!AN59,\" \")","v":" "},{"$f":"IF('2024NewCourses'!$A59=\"Yes\",'2024NewCourses'!AO59,\" \")","v":" "},{"$f":"IF('2024NewCourses'!$A59=\"Yes\",'2024NewCourses'!AP59,\" \")","v":" "},{"$f":"IF('2024NewCourses'!$A59=\"Yes\",'2024NewCourses'!AQ59,\" \")","v":" "},{"$f":"IF('2024NewCourses'!$A59=\"Yes\",'2024NewCourses'!AR59,\" \")","v":" "},{"$f":"IF('2024NewCourses'!$A59=\"Yes\",'2024NewCourses'!AR59,\" \")","v":" "},{"$f":"IF('2024NewCourses'!$A59=\"Yes\",'2024NewCourses'!AS59,\" \")","v":" "},{"$f":"IF('2024NewCourses'!$A59=\"Yes\",'2024NewCourses'!AT59,\" \")","v":" "},{"$f":"IF('2024NewCourses'!$A59=\"Yes\",'2024NewCourses'!AU59,\" \")","v":" "},{"$f":"IF('2024NewCourses'!$A59=\"Yes\",'2024NewCourses'!AV59,\" \")","v":" "},{"$f":"IF('2024NewCourses'!$A59=\"Yes\",'2024NewCourses'!AW59,\" \")","v":" "},{"$f":"IF('2024NewCourses'!$A59=\"Yes\",'2024NewCourses'!AX59,\" \")","v":" "},{"$f":"IF('2024NewCourses'!$A59=\"Yes\",'2024NewCourses'!AY59,\" \")","v":" "},{"$f":"IF('2024NewCourses'!$A59=\"Yes\",'2024NewCourses'!AZ59,\" \")","v":" "},{"$f":"IF('2024NewCourses'!$A59=\"Yes\",'2024NewCourses'!BA59,\" \")","v":" "},{"$f":"IF('2024NewCourses'!$A59=\"Yes\",'2024NewCourses'!BB59,\" \")","v":" "},{"$f":"IF('2024NewCourses'!$A59=\"Yes\",'2024NewCourses'!BC59,\" \")","v":" "},{"$f":"IF('2024NewCourses'!$A59=\"Yes\",'2024NewCourses'!BD59,\" \")","v":" "},{"$f":"IF('2024NewCourses'!$A59=\"Yes\",'2024NewCourses'!BE59,\" \")","v":" "},{"$f":"IF('2024NewCourses'!$A59=\"Yes\",'2024NewCourses'!BF59,\" \")","v":" "},{"$f":"IF('2024NewCourses'!$A59=\"Yes\",'2024NewCourses'!BG59,\" \")","v":" "},{"$f":"IF('2024NewCourses'!$A59=\"Yes\",'2024NewCourses'!BH59,\" \")","v":" "},{"$f":"IF('2024NewCourses'!$A59=\"Yes\",'2024NewCourses'!BI59,\" \")","v":" "},{"$f":"IF('2024NewCourses'!$A59=\"Yes\",'2024NewCourses'!BJ59,\" \")","v":" "}]
[{"$f":"IF('2024NewCourses'!$A60=\"Yes\",'2024NewCourses'!B60,\" \")","v":" "},{"$f":"IF('2024NewCourses'!$A60=\"Yes\",'2024NewCourses'!D60,\" \")","v":" "},{"$f":"IF('2024NewCourses'!$A60=\"Yes\",'2024NewCourses'!F60,\" \")","v":" "},{"$f":"IF('2024NewCourses'!$A60=\"Yes\",'2024NewCourses'!G60,\" \")","v":" "},{"$f":"IF('2024NewCourses'!$A60=\"Yes\",'2024NewCourses'!H60,\" \")","v":" "},{"$f":"IF('2024NewCourses'!$A60=\"Yes\",'2024NewCourses'!J60,\" \")","v":" "},{"$f":"IF('2024NewCourses'!$A60=\"Yes\",'2024NewCourses'!K60,\" \")","v":" "},{"$f":"IF('2024NewCourses'!$A60=\"Yes\",'2024NewCourses'!L60,\" \")","v":" "},{"$f":"IF('2024NewCourses'!$A60=\"Yes\",'2024NewCourses'!M60,\" \")","v":" "},{"$f":"IF('2024NewCourses'!$A60=\"Yes\",'2024NewCourses'!N60,\" \")","v":" "},{"$f":"IF('2024NewCourses'!$A60=\"Yes\",'2024NewCourses'!O60,\" \")","v":" "},{"$f":"IF('2024NewCourses'!$A60=\"Yes\",'2024NewCourses'!P60,\" \")","v":" "},{"$f":"IF('2024NewCourses'!$A60=\"Yes\",'2024NewCourses'!Q60,\" \")","v":" "},{"$f":"IF('2024NewCourses'!$A60=\"Yes\",'2024NewCourses'!R60,\" \")","v":" "},{"$f":"IF('2024NewCourses'!$A60=\"Yes\",'2024NewCourses'!S60,\" \")","v":" "},{"$f":"IF('2024NewCourses'!$A60=\"Yes\",'2024NewCourses'!T60,\" \")","v":" "},{"$f":"IF('2024NewCourses'!$A60=\"Yes\",'2024NewCourses'!U60,\" \")","v":" "},{"$f":"IF('2024NewCourses'!$A60=\"Yes\",'2024NewCourses'!V60,\" \")","v":" "},{"$f":"IF('2024NewCourses'!$A60=\"Yes\",'2024NewCourses'!W60,\" \")","v":" "},{"$f":"IF('2024NewCourses'!$A60=\"Yes\",'2024NewCourses'!X60,\" \")","v":" "},{"$f":"IF('2024NewCourses'!$A60=\"Yes\",'2024NewCourses'!Y60,\" \")","v":" "},{"$f":"IF('2024NewCourses'!$A60=\"Yes\",'2024NewCourses'!Z60,\" \")","v":" "},{"$f":"IF('2024NewCourses'!$A60=\"Yes\",'2024NewCourses'!AA60,\" \")","v":" "},{"$f":"IF('2024NewCourses'!$A60=\"Yes\",'2024NewCourses'!AB60,\" \")","v":" "},{"$f":"IF('2024NewCourses'!$A60=\"Yes\",'2024NewCourses'!AC60,\" \")","v":" "},{"$f":"IF('2024NewCourses'!$A60=\"Yes\",'2024NewCourses'!AD60,\" \")","v":" "},{"$f":"IF('2024NewCourses'!$A60=\"Yes\",'2024NewCourses'!AE60,\" \")","v":" "},{"$f":"IF('2024NewCourses'!$A60=\"Yes\",'2024NewCourses'!AF60,\" \")","v":" "},{"$f":"IF('2024NewCourses'!$A60=\"Yes\",'2024NewCourses'!AG60,\" \")","v":" "},{"$f":"IF('2024NewCourses'!$A60=\"Yes\",'2024NewCourses'!AH60,\" \")","v":" "},{"$f":"IF('2024NewCourses'!$A60=\"Yes\",'2024NewCourses'!AI60,\" \")","v":" "},{"$f":"IF('2024NewCourses'!$A60=\"Yes\",'2024NewCourses'!AJ60,\" \")","v":" "},{"$f":"IF('2024NewCourses'!$A60=\"Yes\",'2024NewCourses'!AK60,\" \")","v":" "},{"$f":"IF('2024NewCourses'!$A60=\"Yes\",'2024NewCourses'!AL60,\" \")","v":" "},{"$f":"IF('2024NewCourses'!$A60=\"Yes\",'2024NewCourses'!AM60,\" \")","v":" "},{"$f":"IF('2024NewCourses'!$A60=\"Yes\",'2024NewCourses'!AN60,\" \")","v":" "},{"$f":"IF('2024NewCourses'!$A60=\"Yes\",'2024NewCourses'!AO60,\" \")","v":" "},{"$f":"IF('2024NewCourses'!$A60=\"Yes\",'2024NewCourses'!AP60,\" \")","v":" "},{"$f":"IF('2024NewCourses'!$A60=\"Yes\",'2024NewCourses'!AQ60,\" \")","v":" "},{"$f":"IF('2024NewCourses'!$A60=\"Yes\",'2024NewCourses'!AR60,\" \")","v":" "},{"$f":"IF('2024NewCourses'!$A60=\"Yes\",'2024NewCourses'!AR60,\" \")","v":" "},{"$f":"IF('2024NewCourses'!$A60=\"Yes\",'2024NewCourses'!AS60,\" \")","v":" "},{"$f":"IF('2024NewCourses'!$A60=\"Yes\",'2024NewCourses'!AT60,\" \")","v":" "},{"$f":"IF('2024NewCourses'!$A60=\"Yes\",'2024NewCourses'!AU60,\" \")","v":" "},{"$f":"IF('2024NewCourses'!$A60=\"Yes\",'2024NewCourses'!AV60,\" \")","v":" "},{"$f":"IF('2024NewCourses'!$A60=\"Yes\",'2024NewCourses'!AW60,\" \")","v":" "},{"$f":"IF('2024NewCourses'!$A60=\"Yes\",'2024NewCourses'!AX60,\" \")","v":" "},{"$f":"IF('2024NewCourses'!$A60=\"Yes\",'2024NewCourses'!AY60,\" \")","v":" "},{"$f":"IF('2024NewCourses'!$A60=\"Yes\",'2024NewCourses'!AZ60,\" \")","v":" "},{"$f":"IF('2024NewCourses'!$A60=\"Yes\",'2024NewCourses'!BA60,\" \")","v":" "},{"$f":"IF('2024NewCourses'!$A60=\"Yes\",'2024NewCourses'!BB60,\" \")","v":" "},{"$f":"IF('2024NewCourses'!$A60=\"Yes\",'2024NewCourses'!BC60,\" \")","v":" "},{"$f":"IF('2024NewCourses'!$A60=\"Yes\",'2024NewCourses'!BD60,\" \")","v":" "},{"$f":"IF('2024NewCourses'!$A60=\"Yes\",'2024NewCourses'!BE60,\" \")","v":" "},{"$f":"IF('2024NewCourses'!$A60=\"Yes\",'2024NewCourses'!BF60,\" \")","v":" "},{"$f":"IF('2024NewCourses'!$A60=\"Yes\",'2024NewCourses'!BG60,\" \")","v":" "},{"$f":"IF('2024NewCourses'!$A60=\"Yes\",'2024NewCourses'!BH60,\" \")","v":" "},{"$f":"IF('2024NewCourses'!$A60=\"Yes\",'2024NewCourses'!BI60,\" \")","v":" "},{"$f":"IF('2024NewCourses'!$A60=\"Yes\",'2024NewCourses'!BJ60,\" \")","v":" "}]
[{"$f":"IF('2024NewCourses'!$A61=\"Yes\",'2024NewCourses'!B61,\" \")","v":" "},{"$f":"IF('2024NewCourses'!$A61=\"Yes\",'2024NewCourses'!D61,\" \")","v":" "},{"$f":"IF('2024NewCourses'!$A61=\"Yes\",'2024NewCourses'!F61,\" \")","v":" "},{"$f":"IF('2024NewCourses'!$A61=\"Yes\",'2024NewCourses'!G61,\" \")","v":" "},{"$f":"IF('2024NewCourses'!$A61=\"Yes\",'2024NewCourses'!H61,\" \")","v":" "},{"$f":"IF('2024NewCourses'!$A61=\"Yes\",'2024NewCourses'!J61,\" \")","v":" "},{"$f":"IF('2024NewCourses'!$A61=\"Yes\",'2024NewCourses'!K61,\" \")","v":" "},{"$f":"IF('2024NewCourses'!$A61=\"Yes\",'2024NewCourses'!L61,\" \")","v":" "},{"$f":"IF('2024NewCourses'!$A61=\"Yes\",'2024NewCourses'!M61,\" \")","v":" "},{"$f":"IF('2024NewCourses'!$A61=\"Yes\",'2024NewCourses'!N61,\" \")","v":" "},{"$f":"IF('2024NewCourses'!$A61=\"Yes\",'2024NewCourses'!O61,\" \")","v":" "},{"$f":"IF('2024NewCourses'!$A61=\"Yes\",'2024NewCourses'!P61,\" \")","v":" "},{"$f":"IF('2024NewCourses'!$A61=\"Yes\",'2024NewCourses'!Q61,\" \")","v":" "},{"$f":"IF('2024NewCourses'!$A61=\"Yes\",'2024NewCourses'!R61,\" \")","v":" "},{"$f":"IF('2024NewCourses'!$A61=\"Yes\",'2024NewCourses'!S61,\" \")","v":" "},{"$f":"IF('2024NewCourses'!$A61=\"Yes\",'2024NewCourses'!T61,\" \")","v":" "},{"$f":"IF('2024NewCourses'!$A61=\"Yes\",'2024NewCourses'!U61,\" \")","v":" "},{"$f":"IF('2024NewCourses'!$A61=\"Yes\",'2024NewCourses'!V61,\" \")","v":" "},{"$f":"IF('2024NewCourses'!$A61=\"Yes\",'2024NewCourses'!W61,\" \")","v":" "},{"$f":"IF('2024NewCourses'!$A61=\"Yes\",'2024NewCourses'!X61,\" \")","v":" "},{"$f":"IF('2024NewCourses'!$A61=\"Yes\",'2024NewCourses'!Y61,\" \")","v":" "},{"$f":"IF('2024NewCourses'!$A61=\"Yes\",'2024NewCourses'!Z61,\" \")","v":" "},{"$f":"IF('2024NewCourses'!$A61=\"Yes\",'2024NewCourses'!AA61,\" \")","v":" "},{"$f":"IF('2024NewCourses'!$A61=\"Yes\",'2024NewCourses'!AB61,\" \")","v":" "},{"$f":"IF('2024NewCourses'!$A61=\"Yes\",'2024NewCourses'!AC61,\" \")","v":" "},{"$f":"IF('2024NewCourses'!$A61=\"Yes\",'2024NewCourses'!AD61,\" \")","v":" "},{"$f":"IF('2024NewCourses'!$A61=\"Yes\",'2024NewCourses'!AE61,\" \")","v":" "},{"$f":"IF('2024NewCourses'!$A61=\"Yes\",'2024NewCourses'!AF61,\" \")","v":" "},{"$f":"IF('2024NewCourses'!$A61=\"Yes\",'2024NewCourses'!AG61,\" \")","v":" "},{"$f":"IF('2024NewCourses'!$A61=\"Yes\",'2024NewCourses'!AH61,\" \")","v":" "},{"$f":"IF('2024NewCourses'!$A61=\"Yes\",'2024NewCourses'!AI61,\" \")","v":" "},{"$f":"IF('2024NewCourses'!$A61=\"Yes\",'2024NewCourses'!AJ61,\" \")","v":" "},{"$f":"IF('2024NewCourses'!$A61=\"Yes\",'2024NewCourses'!AK61,\" \")","v":" "},{"$f":"IF('2024NewCourses'!$A61=\"Yes\",'2024NewCourses'!AL61,\" \")","v":" "},{"$f":"IF('2024NewCourses'!$A61=\"Yes\",'2024NewCourses'!AM61,\" \")","v":" "},{"$f":"IF('2024NewCourses'!$A61=\"Yes\",'2024NewCourses'!AN61,\" \")","v":" "},{"$f":"IF('2024NewCourses'!$A61=\"Yes\",'2024NewCourses'!AO61,\" \")","v":" "},{"$f":"IF('2024NewCourses'!$A61=\"Yes\",'2024NewCourses'!AP61,\" \")","v":" "},{"$f":"IF('2024NewCourses'!$A61=\"Yes\",'2024NewCourses'!AQ61,\" \")","v":" "},{"$f":"IF('2024NewCourses'!$A61=\"Yes\",'2024NewCourses'!AR61,\" \")","v":" "},{"$f":"IF('2024NewCourses'!$A61=\"Yes\",'2024NewCourses'!AR61,\" \")","v":" "},{"$f":"IF('2024NewCourses'!$A61=\"Yes\",'2024NewCourses'!AS61,\" \")","v":" "},{"$f":"IF('2024NewCourses'!$A61=\"Yes\",'2024NewCourses'!AT61,\" \")","v":" "},{"$f":"IF('2024NewCourses'!$A61=\"Yes\",'2024NewCourses'!AU61,\" \")","v":" "},{"$f":"IF('2024NewCourses'!$A61=\"Yes\",'2024NewCourses'!AV61,\" \")","v":" "},{"$f":"IF('2024NewCourses'!$A61=\"Yes\",'2024NewCourses'!AW61,\" \")","v":" "},{"$f":"IF('2024NewCourses'!$A61=\"Yes\",'2024NewCourses'!AX61,\" \")","v":" "},{"$f":"IF('2024NewCourses'!$A61=\"Yes\",'2024NewCourses'!AY61,\" \")","v":" "},{"$f":"IF('2024NewCourses'!$A61=\"Yes\",'2024NewCourses'!AZ61,\" \")","v":" "},{"$f":"IF('2024NewCourses'!$A61=\"Yes\",'2024NewCourses'!BA61,\" \")","v":" "},{"$f":"IF('2024NewCourses'!$A61=\"Yes\",'2024NewCourses'!BB61,\" \")","v":" "},{"$f":"IF('2024NewCourses'!$A61=\"Yes\",'2024NewCourses'!BC61,\" \")","v":" "},{"$f":"IF('2024NewCourses'!$A61=\"Yes\",'2024NewCourses'!BD61,\" \")","v":" "},{"$f":"IF('2024NewCourses'!$A61=\"Yes\",'2024NewCourses'!BE61,\" \")","v":" "},{"$f":"IF('2024NewCourses'!$A61=\"Yes\",'2024NewCourses'!BF61,\" \")","v":" "},{"$f":"IF('2024NewCourses'!$A61=\"Yes\",'2024NewCourses'!BG61,\" \")","v":" "},{"$f":"IF('2024NewCourses'!$A61=\"Yes\",'2024NewCourses'!BH61,\" \")","v":" "},{"$f":"IF('2024NewCourses'!$A61=\"Yes\",'2024NewCourses'!BI61,\" \")","v":" "},{"$f":"IF('2024NewCourses'!$A61=\"Yes\",'2024NewCourses'!BJ61,\" \")","v":" "}]
[{"$f":"IF('2024NewCourses'!$A62=\"Yes\",'2024NewCourses'!B62,\" \")","v":" "},{"$f":"IF('2024NewCourses'!$A62=\"Yes\",'2024NewCourses'!D62,\" \")","v":" "},{"$f":"IF('2024NewCourses'!$A62=\"Yes\",'2024NewCourses'!F62,\" \")","v":" "},{"$f":"IF('2024NewCourses'!$A62=\"Yes\",'2024NewCourses'!G62,\" \")","v":" "},{"$f":"IF('2024NewCourses'!$A62=\"Yes\",'2024NewCourses'!H62,\" \")","v":" "},{"$f":"IF('2024NewCourses'!$A62=\"Yes\",'2024NewCourses'!J62,\" \")","v":" "},{"$f":"IF('2024NewCourses'!$A62=\"Yes\",'2024NewCourses'!K62,\" \")","v":" "},{"$f":"IF('2024NewCourses'!$A62=\"Yes\",'2024NewCourses'!L62,\" \")","v":" "},{"$f":"IF('2024NewCourses'!$A62=\"Yes\",'2024NewCourses'!M62,\" \")","v":" "},{"$f":"IF('2024NewCourses'!$A62=\"Yes\",'2024NewCourses'!N62,\" \")","v":" "},{"$f":"IF('2024NewCourses'!$A62=\"Yes\",'2024NewCourses'!O62,\" \")","v":" "},{"$f":"IF('2024NewCourses'!$A62=\"Yes\",'2024NewCourses'!P62,\" \")","v":" "},{"$f":"IF('2024NewCourses'!$A62=\"Yes\",'2024NewCourses'!Q62,\" \")","v":" "},{"$f":"IF('2024NewCourses'!$A62=\"Yes\",'2024NewCourses'!R62,\" \")","v":" "},{"$f":"IF('2024NewCourses'!$A62=\"Yes\",'2024NewCourses'!S62,\" \")","v":" "},{"$f":"IF('2024NewCourses'!$A62=\"Yes\",'2024NewCourses'!T62,\" \")","v":" "},{"$f":"IF('2024NewCourses'!$A62=\"Yes\",'2024NewCourses'!U62,\" \")","v":" "},{"$f":"IF('2024NewCourses'!$A62=\"Yes\",'2024NewCourses'!V62,\" \")","v":" "},{"$f":"IF('2024NewCourses'!$A62=\"Yes\",'2024NewCourses'!W62,\" \")","v":" "},{"$f":"IF('2024NewCourses'!$A62=\"Yes\",'2024NewCourses'!X62,\" \")","v":" "},{"$f":"IF('2024NewCourses'!$A62=\"Yes\",'2024NewCourses'!Y62,\" \")","v":" "},{"$f":"IF('2024NewCourses'!$A62=\"Yes\",'2024NewCourses'!Z62,\" \")","v":" "},{"$f":"IF('2024NewCourses'!$A62=\"Yes\",'2024NewCourses'!AA62,\" \")","v":" "},{"$f":"IF('2024NewCourses'!$A62=\"Yes\",'2024NewCourses'!AB62,\" \")","v":" "},{"$f":"IF('2024NewCourses'!$A62=\"Yes\",'2024NewCourses'!AC62,\" \")","v":" "},{"$f":"IF('2024NewCourses'!$A62=\"Yes\",'2024NewCourses'!AD62,\" \")","v":" "},{"$f":"IF('2024NewCourses'!$A62=\"Yes\",'2024NewCourses'!AE62,\" \")","v":" "},{"$f":"IF('2024NewCourses'!$A62=\"Yes\",'2024NewCourses'!AF62,\" \")","v":" "},{"$f":"IF('2024NewCourses'!$A62=\"Yes\",'2024NewCourses'!AG62,\" \")","v":" "},{"$f":"IF('2024NewCourses'!$A62=\"Yes\",'2024NewCourses'!AH62,\" \")","v":" "},{"$f":"IF('2024NewCourses'!$A62=\"Yes\",'2024NewCourses'!AI62,\" \")","v":" "},{"$f":"IF('2024NewCourses'!$A62=\"Yes\",'2024NewCourses'!AJ62,\" \")","v":" "},{"$f":"IF('2024NewCourses'!$A62=\"Yes\",'2024NewCourses'!AK62,\" \")","v":" "},{"$f":"IF('2024NewCourses'!$A62=\"Yes\",'2024NewCourses'!AL62,\" \")","v":" "},{"$f":"IF('2024NewCourses'!$A62=\"Yes\",'2024NewCourses'!AM62,\" \")","v":" "},{"$f":"IF('2024NewCourses'!$A62=\"Yes\",'2024NewCourses'!AN62,\" \")","v":" "},{"$f":"IF('2024NewCourses'!$A62=\"Yes\",'2024NewCourses'!AO62,\" \")","v":" "},{"$f":"IF('2024NewCourses'!$A62=\"Yes\",'2024NewCourses'!AP62,\" \")","v":" "},{"$f":"IF('2024NewCourses'!$A62=\"Yes\",'2024NewCourses'!AQ62,\" \")","v":" "},{"$f":"IF('2024NewCourses'!$A62=\"Yes\",'2024NewCourses'!AR62,\" \")","v":" "},{"$f":"IF('2024NewCourses'!$A62=\"Yes\",'2024NewCourses'!AR62,\" \")","v":" "},{"$f":"IF('2024NewCourses'!$A62=\"Yes\",'2024NewCourses'!AS62,\" \")","v":" "},{"$f":"IF('2024NewCourses'!$A62=\"Yes\",'2024NewCourses'!AT62,\" \")","v":" "},{"$f":"IF('2024NewCourses'!$A62=\"Yes\",'2024NewCourses'!AU62,\" \")","v":" "},{"$f":"IF('2024NewCourses'!$A62=\"Yes\",'2024NewCourses'!AV62,\" \")","v":" "},{"$f":"IF('2024NewCourses'!$A62=\"Yes\",'2024NewCourses'!AW62,\" \")","v":" "},{"$f":"IF('2024NewCourses'!$A62=\"Yes\",'2024NewCourses'!AX62,\" \")","v":" "},{"$f":"IF('2024NewCourses'!$A62=\"Yes\",'2024NewCourses'!AY62,\" \")","v":" "},{"$f":"IF('2024NewCourses'!$A62=\"Yes\",'2024NewCourses'!AZ62,\" \")","v":" "},{"$f":"IF('2024NewCourses'!$A62=\"Yes\",'2024NewCourses'!BA62,\" \")","v":" "},{"$f":"IF('2024NewCourses'!$A62=\"Yes\",'2024NewCourses'!BB62,\" \")","v":" "},{"$f":"IF('2024NewCourses'!$A62=\"Yes\",'2024NewCourses'!BC62,\" \")","v":" "},{"$f":"IF('2024NewCourses'!$A62=\"Yes\",'2024NewCourses'!BD62,\" \")","v":" "},{"$f":"IF('2024NewCourses'!$A62=\"Yes\",'2024NewCourses'!BE62,\" \")","v":" "},{"$f":"IF('2024NewCourses'!$A62=\"Yes\",'2024NewCourses'!BF62,\" \")","v":" "},{"$f":"IF('2024NewCourses'!$A62=\"Yes\",'2024NewCourses'!BG62,\" \")","v":" "},{"$f":"IF('2024NewCourses'!$A62=\"Yes\",'2024NewCourses'!BH62,\" \")","v":" "},{"$f":"IF('2024NewCourses'!$A62=\"Yes\",'2024NewCourses'!BI62,\" \")","v":" "},{"$f":"IF('2024NewCourses'!$A62=\"Yes\",'2024NewCourses'!BJ62,\" \")","v":" "}]
[{"$f":"IF('2024NewCourses'!$A63=\"Yes\",'2024NewCourses'!B63,\" \")","v":" "},{"$f":"IF('2024NewCourses'!$A63=\"Yes\",'2024NewCourses'!D63,\" \")","v":" "},{"$f":"IF('2024NewCourses'!$A63=\"Yes\",'2024NewCourses'!F63,\" \")","v":" "},{"$f":"IF('2024NewCourses'!$A63=\"Yes\",'2024NewCourses'!G63,\" \")","v":" "},{"$f":"IF('2024NewCourses'!$A63=\"Yes\",'2024NewCourses'!H63,\" \")","v":" "},{"$f":"IF('2024NewCourses'!$A63=\"Yes\",'2024NewCourses'!J63,\" \")","v":" "},{"$f":"IF('2024NewCourses'!$A63=\"Yes\",'2024NewCourses'!K63,\" \")","v":" "},{"$f":"IF('2024NewCourses'!$A63=\"Yes\",'2024NewCourses'!L63,\" \")","v":" "},{"$f":"IF('2024NewCourses'!$A63=\"Yes\",'2024NewCourses'!M63,\" \")","v":" "},{"$f":"IF('2024NewCourses'!$A63=\"Yes\",'2024NewCourses'!N63,\" \")","v":" "},{"$f":"IF('2024NewCourses'!$A63=\"Yes\",'2024NewCourses'!O63,\" \")","v":" "},{"$f":"IF('2024NewCourses'!$A63=\"Yes\",'2024NewCourses'!P63,\" \")","v":" "},{"$f":"IF('2024NewCourses'!$A63=\"Yes\",'2024NewCourses'!Q63,\" \")","v":" "},{"$f":"IF('2024NewCourses'!$A63=\"Yes\",'2024NewCourses'!R63,\" \")","v":" "},{"$f":"IF('2024NewCourses'!$A63=\"Yes\",'2024NewCourses'!S63,\" \")","v":" "},{"$f":"IF('2024NewCourses'!$A63=\"Yes\",'2024NewCourses'!T63,\" \")","v":" "},{"$f":"IF('2024NewCourses'!$A63=\"Yes\",'2024NewCourses'!U63,\" \")","v":" "},{"$f":"IF('2024NewCourses'!$A63=\"Yes\",'2024NewCourses'!V63,\" \")","v":" "},{"$f":"IF('2024NewCourses'!$A63=\"Yes\",'2024NewCourses'!W63,\" \")","v":" "},{"$f":"IF('2024NewCourses'!$A63=\"Yes\",'2024NewCourses'!X63,\" \")","v":" "},{"$f":"IF('2024NewCourses'!$A63=\"Yes\",'2024NewCourses'!Y63,\" \")","v":" "},{"$f":"IF('2024NewCourses'!$A63=\"Yes\",'2024NewCourses'!Z63,\" \")","v":" "},{"$f":"IF('2024NewCourses'!$A63=\"Yes\",'2024NewCourses'!AA63,\" \")","v":" "},{"$f":"IF('2024NewCourses'!$A63=\"Yes\",'2024NewCourses'!AB63,\" \")","v":" "},{"$f":"IF('2024NewCourses'!$A63=\"Yes\",'2024NewCourses'!AC63,\" \")","v":" "},{"$f":"IF('2024NewCourses'!$A63=\"Yes\",'2024NewCourses'!AD63,\" \")","v":" "},{"$f":"IF('2024NewCourses'!$A63=\"Yes\",'2024NewCourses'!AE63,\" \")","v":" "},{"$f":"IF('2024NewCourses'!$A63=\"Yes\",'2024NewCourses'!AF63,\" \")","v":" "},{"$f":"IF('2024NewCourses'!$A63=\"Yes\",'2024NewCourses'!AG63,\" \")","v":" "},{"$f":"IF('2024NewCourses'!$A63=\"Yes\",'2024NewCourses'!AH63,\" \")","v":" "},{"$f":"IF('2024NewCourses'!$A63=\"Yes\",'2024NewCourses'!AI63,\" \")","v":" "},{"$f":"IF('2024NewCourses'!$A63=\"Yes\",'2024NewCourses'!AJ63,\" \")","v":" "},{"$f":"IF('2024NewCourses'!$A63=\"Yes\",'2024NewCourses'!AK63,\" \")","v":" "},{"$f":"IF('2024NewCourses'!$A63=\"Yes\",'2024NewCourses'!AL63,\" \")","v":" "},{"$f":"IF('2024NewCourses'!$A63=\"Yes\",'2024NewCourses'!AM63,\" \")","v":" "},{"$f":"IF('2024NewCourses'!$A63=\"Yes\",'2024NewCourses'!AN63,\" \")","v":" "},{"$f":"IF('2024NewCourses'!$A63=\"Yes\",'2024NewCourses'!AO63,\" \")","v":" "},{"$f":"IF('2024NewCourses'!$A63=\"Yes\",'2024NewCourses'!AP63,\" \")","v":" "},{"$f":"IF('2024NewCourses'!$A63=\"Yes\",'2024NewCourses'!AQ63,\" \")","v":" "},{"$f":"IF('2024NewCourses'!$A63=\"Yes\",'2024NewCourses'!AR63,\" \")","v":" "},{"$f":"IF('2024NewCourses'!$A63=\"Yes\",'2024NewCourses'!AR63,\" \")","v":" "},{"$f":"IF('2024NewCourses'!$A63=\"Yes\",'2024NewCourses'!AS63,\" \")","v":" "},{"$f":"IF('2024NewCourses'!$A63=\"Yes\",'2024NewCourses'!AT63,\" \")","v":" "},{"$f":"IF('2024NewCourses'!$A63=\"Yes\",'2024NewCourses'!AU63,\" \")","v":" "},{"$f":"IF('2024NewCourses'!$A63=\"Yes\",'2024NewCourses'!AV63,\" \")","v":" "},{"$f":"IF('2024NewCourses'!$A63=\"Yes\",'2024NewCourses'!AW63,\" \")","v":" "},{"$f":"IF('2024NewCourses'!$A63=\"Yes\",'2024NewCourses'!AX63,\" \")","v":" "},{"$f":"IF('2024NewCourses'!$A63=\"Yes\",'2024NewCourses'!AY63,\" \")","v":" "},{"$f":"IF('2024NewCourses'!$A63=\"Yes\",'2024NewCourses'!AZ63,\" \")","v":" "},{"$f":"IF('2024NewCourses'!$A63=\"Yes\",'2024NewCourses'!BA63,\" \")","v":" "},{"$f":"IF('2024NewCourses'!$A63=\"Yes\",'2024NewCourses'!BB63,\" \")","v":" "},{"$f":"IF('2024NewCourses'!$A63=\"Yes\",'2024NewCourses'!BC63,\" \")","v":" "},{"$f":"IF('2024NewCourses'!$A63=\"Yes\",'2024NewCourses'!BD63,\" \")","v":" "},{"$f":"IF('2024NewCourses'!$A63=\"Yes\",'2024NewCourses'!BE63,\" \")","v":" "},{"$f":"IF('2024NewCourses'!$A63=\"Yes\",'2024NewCourses'!BF63,\" \")","v":" "},{"$f":"IF('2024NewCourses'!$A63=\"Yes\",'2024NewCourses'!BG63,\" \")","v":" "},{"$f":"IF('2024NewCourses'!$A63=\"Yes\",'2024NewCourses'!BH63,\" \")","v":" "},{"$f":"IF('2024NewCourses'!$A63=\"Yes\",'2024NewCourses'!BI63,\" \")","v":" "},{"$f":"IF('2024NewCourses'!$A63=\"Yes\",'2024NewCourses'!BJ63,\" \")","v":" "}]
[{"$f":"IF('2024NewCourses'!$A64=\"Yes\",'2024NewCourses'!B64,\" \")","v":" "},{"$f":"IF('2024NewCourses'!$A64=\"Yes\",'2024NewCourses'!D64,\" \")","v":" "},{"$f":"IF('2024NewCourses'!$A64=\"Yes\",'2024NewCourses'!F64,\" \")","v":" "},{"$f":"IF('2024NewCourses'!$A64=\"Yes\",'2024NewCourses'!G64,\" \")","v":" "},{"$f":"IF('2024NewCourses'!$A64=\"Yes\",'2024NewCourses'!H64,\" \")","v":" "},{"$f":"IF('2024NewCourses'!$A64=\"Yes\",'2024NewCourses'!J64,\" \")","v":" "},{"$f":"IF('2024NewCourses'!$A64=\"Yes\",'2024NewCourses'!K64,\" \")","v":" "},{"$f":"IF('2024NewCourses'!$A64=\"Yes\",'2024NewCourses'!L64,\" \")","v":" "},{"$f":"IF('2024NewCourses'!$A64=\"Yes\",'2024NewCourses'!M64,\" \")","v":" "},{"$f":"IF('2024NewCourses'!$A64=\"Yes\",'2024NewCourses'!N64,\" \")","v":" "},{"$f":"IF('2024NewCourses'!$A64=\"Yes\",'2024NewCourses'!O64,\" \")","v":" "},{"$f":"IF('2024NewCourses'!$A64=\"Yes\",'2024NewCourses'!P64,\" \")","v":" "},{"$f":"IF('2024NewCourses'!$A64=\"Yes\",'2024NewCourses'!Q64,\" \")","v":" "},{"$f":"IF('2024NewCourses'!$A64=\"Yes\",'2024NewCourses'!R64,\" \")","v":" "},{"$f":"IF('2024NewCourses'!$A64=\"Yes\",'2024NewCourses'!S64,\" \")","v":" "},{"$f":"IF('2024NewCourses'!$A64=\"Yes\",'2024NewCourses'!T64,\" \")","v":" "},{"$f":"IF('2024NewCourses'!$A64=\"Yes\",'2024NewCourses'!U64,\" \")","v":" "},{"$f":"IF('2024NewCourses'!$A64=\"Yes\",'2024NewCourses'!V64,\" \")","v":" "},{"$f":"IF('2024NewCourses'!$A64=\"Yes\",'2024NewCourses'!W64,\" \")","v":" "},{"$f":"IF('2024NewCourses'!$A64=\"Yes\",'2024NewCourses'!X64,\" \")","v":" "},{"$f":"IF('2024NewCourses'!$A64=\"Yes\",'2024NewCourses'!Y64,\" \")","v":" "},{"$f":"IF('2024NewCourses'!$A64=\"Yes\",'2024NewCourses'!Z64,\" \")","v":" "},{"$f":"IF('2024NewCourses'!$A64=\"Yes\",'2024NewCourses'!AA64,\" \")","v":" "},{"$f":"IF('2024NewCourses'!$A64=\"Yes\",'2024NewCourses'!AB64,\" \")","v":" "},{"$f":"IF('2024NewCourses'!$A64=\"Yes\",'2024NewCourses'!AC64,\" \")","v":" "},{"$f":"IF('2024NewCourses'!$A64=\"Yes\",'2024NewCourses'!AD64,\" \")","v":" "},{"$f":"IF('2024NewCourses'!$A64=\"Yes\",'2024NewCourses'!AE64,\" \")","v":" "},{"$f":"IF('2024NewCourses'!$A64=\"Yes\",'2024NewCourses'!AF64,\" \")","v":" "},{"$f":"IF('2024NewCourses'!$A64=\"Yes\",'2024NewCourses'!AG64,\" \")","v":" "},{"$f":"IF('2024NewCourses'!$A64=\"Yes\",'2024NewCourses'!AH64,\" \")","v":" "},{"$f":"IF('2024NewCourses'!$A64=\"Yes\",'2024NewCourses'!AI64,\" \")","v":" "},{"$f":"IF('2024NewCourses'!$A64=\"Yes\",'2024NewCourses'!AJ64,\" \")","v":" "},{"$f":"IF('2024NewCourses'!$A64=\"Yes\",'2024NewCourses'!AK64,\" \")","v":" "},{"$f":"IF('2024NewCourses'!$A64=\"Yes\",'2024NewCourses'!AL64,\" \")","v":" "},{"$f":"IF('2024NewCourses'!$A64=\"Yes\",'2024NewCourses'!AM64,\" \")","v":" "},{"$f":"IF('2024NewCourses'!$A64=\"Yes\",'2024NewCourses'!AN64,\" \")","v":" "},{"$f":"IF('2024NewCourses'!$A64=\"Yes\",'2024NewCourses'!AO64,\" \")","v":" "},{"$f":"IF('2024NewCourses'!$A64=\"Yes\",'2024NewCourses'!AP64,\" \")","v":" "},{"$f":"IF('2024NewCourses'!$A64=\"Yes\",'2024NewCourses'!AQ64,\" \")","v":" "},{"$f":"IF('2024NewCourses'!$A64=\"Yes\",'2024NewCourses'!AR64,\" \")","v":" "},{"$f":"IF('2024NewCourses'!$A64=\"Yes\",'2024NewCourses'!AR64,\" \")","v":" "},{"$f":"IF('2024NewCourses'!$A64=\"Yes\",'2024NewCourses'!AS64,\" \")","v":" "},{"$f":"IF('2024NewCourses'!$A64=\"Yes\",'2024NewCourses'!AT64,\" \")","v":" "},{"$f":"IF('2024NewCourses'!$A64=\"Yes\",'2024NewCourses'!AU64,\" \")","v":" "},{"$f":"IF('2024NewCourses'!$A64=\"Yes\",'2024NewCourses'!AV64,\" \")","v":" "},{"$f":"IF('2024NewCourses'!$A64=\"Yes\",'2024NewCourses'!AW64,\" \")","v":" "},{"$f":"IF('2024NewCourses'!$A64=\"Yes\",'2024NewCourses'!AX64,\" \")","v":" "},{"$f":"IF('2024NewCourses'!$A64=\"Yes\",'2024NewCourses'!AY64,\" \")","v":" "},{"$f":"IF('2024NewCourses'!$A64=\"Yes\",'2024NewCourses'!AZ64,\" \")","v":" "},{"$f":"IF('2024NewCourses'!$A64=\"Yes\",'2024NewCourses'!BA64,\" \")","v":" "},{"$f":"IF('2024NewCourses'!$A64=\"Yes\",'2024NewCourses'!BB64,\" \")","v":" "},{"$f":"IF('2024NewCourses'!$A64=\"Yes\",'2024NewCourses'!BC64,\" \")","v":" "},{"$f":"IF('2024NewCourses'!$A64=\"Yes\",'2024NewCourses'!BD64,\" \")","v":" "},{"$f":"IF('2024NewCourses'!$A64=\"Yes\",'2024NewCourses'!BE64,\" \")","v":" "},{"$f":"IF('2024NewCourses'!$A64=\"Yes\",'2024NewCourses'!BF64,\" \")","v":" "},{"$f":"IF('2024NewCourses'!$A64=\"Yes\",'2024NewCourses'!BG64,\" \")","v":" "},{"$f":"IF('2024NewCourses'!$A64=\"Yes\",'2024NewCourses'!BH64,\" \")","v":" "},{"$f":"IF('2024NewCourses'!$A64=\"Yes\",'2024NewCourses'!BI64,\" \")","v":" "},{"$f":"IF('2024NewCourses'!$A64=\"Yes\",'2024NewCourses'!BJ64,\" \")","v":" "}]
[{"$f":"IF('2024NewCourses'!$A65=\"Yes\",'2024NewCourses'!B65,\" \")","v":" "},{"$f":"IF('2024NewCourses'!$A65=\"Yes\",'2024NewCourses'!D65,\" \")","v":" "},{"$f":"IF('2024NewCourses'!$A65=\"Yes\",'2024NewCourses'!F65,\" \")","v":" "},{"$f":"IF('2024NewCourses'!$A65=\"Yes\",'2024NewCourses'!G65,\" \")","v":" "},{"$f":"IF('2024NewCourses'!$A65=\"Yes\",'2024NewCourses'!H65,\" \")","v":" "},{"$f":"IF('2024NewCourses'!$A65=\"Yes\",'2024NewCourses'!J65,\" \")","v":" "},{"$f":"IF('2024NewCourses'!$A65=\"Yes\",'2024NewCourses'!K65,\" \")","v":" "},{"$f":"IF('2024NewCourses'!$A65=\"Yes\",'2024NewCourses'!L65,\" \")","v":" "},{"$f":"IF('2024NewCourses'!$A65=\"Yes\",'2024NewCourses'!M65,\" \")","v":" "},{"$f":"IF('2024NewCourses'!$A65=\"Yes\",'2024NewCourses'!N65,\" \")","v":" "},{"$f":"IF('2024NewCourses'!$A65=\"Yes\",'2024NewCourses'!O65,\" \")","v":" "},{"$f":"IF('2024NewCourses'!$A65=\"Yes\",'2024NewCourses'!P65,\" \")","v":" "},{"$f":"IF('2024NewCourses'!$A65=\"Yes\",'2024NewCourses'!Q65,\" \")","v":" "},{"$f":"IF('2024NewCourses'!$A65=\"Yes\",'2024NewCourses'!R65,\" \")","v":" "},{"$f":"IF('2024NewCourses'!$A65=\"Yes\",'2024NewCourses'!S65,\" \")","v":" "},{"$f":"IF('2024NewCourses'!$A65=\"Yes\",'2024NewCourses'!T65,\" \")","v":" "},{"$f":"IF('2024NewCourses'!$A65=\"Yes\",'2024NewCourses'!U65,\" \")","v":" "},{"$f":"IF('2024NewCourses'!$A65=\"Yes\",'2024NewCourses'!V65,\" \")","v":" "},{"$f":"IF('2024NewCourses'!$A65=\"Yes\",'2024NewCourses'!W65,\" \")","v":" "},{"$f":"IF('2024NewCourses'!$A65=\"Yes\",'2024NewCourses'!X65,\" \")","v":" "},{"$f":"IF('2024NewCourses'!$A65=\"Yes\",'2024NewCourses'!Y65,\" \")","v":" "},{"$f":"IF('2024NewCourses'!$A65=\"Yes\",'2024NewCourses'!Z65,\" \")","v":" "},{"$f":"IF('2024NewCourses'!$A65=\"Yes\",'2024NewCourses'!AA65,\" \")","v":" "},{"$f":"IF('2024NewCourses'!$A65=\"Yes\",'2024NewCourses'!AB65,\" \")","v":" "},{"$f":"IF('2024NewCourses'!$A65=\"Yes\",'2024NewCourses'!AC65,\" \")","v":" "},{"$f":"IF('2024NewCourses'!$A65=\"Yes\",'2024NewCourses'!AD65,\" \")","v":" "},{"$f":"IF('2024NewCourses'!$A65=\"Yes\",'2024NewCourses'!AE65,\" \")","v":" "},{"$f":"IF('2024NewCourses'!$A65=\"Yes\",'2024NewCourses'!AF65,\" \")","v":" "},{"$f":"IF('2024NewCourses'!$A65=\"Yes\",'2024NewCourses'!AG65,\" \")","v":" "},{"$f":"IF('2024NewCourses'!$A65=\"Yes\",'2024NewCourses'!AH65,\" \")","v":" "},{"$f":"IF('2024NewCourses'!$A65=\"Yes\",'2024NewCourses'!AI65,\" \")","v":" "},{"$f":"IF('2024NewCourses'!$A65=\"Yes\",'2024NewCourses'!AJ65,\" \")","v":" "},{"$f":"IF('2024NewCourses'!$A65=\"Yes\",'2024NewCourses'!AK65,\" \")","v":" "},{"$f":"IF('2024NewCourses'!$A65=\"Yes\",'2024NewCourses'!AL65,\" \")","v":" "},{"$f":"IF('2024NewCourses'!$A65=\"Yes\",'2024NewCourses'!AM65,\" \")","v":" "},{"$f":"IF('2024NewCourses'!$A65=\"Yes\",'2024NewCourses'!AN65,\" \")","v":" "},{"$f":"IF('2024NewCourses'!$A65=\"Yes\",'2024NewCourses'!AO65,\" \")","v":" "},{"$f":"IF('2024NewCourses'!$A65=\"Yes\",'2024NewCourses'!AP65,\" \")","v":" "},{"$f":"IF('2024NewCourses'!$A65=\"Yes\",'2024NewCourses'!AQ65,\" \")","v":" "},{"$f":"IF('2024NewCourses'!$A65=\"Yes\",'2024NewCourses'!AR65,\" \")","v":" "},{"$f":"IF('2024NewCourses'!$A65=\"Yes\",'2024NewCourses'!AR65,\" \")","v":" "},{"$f":"IF('2024NewCourses'!$A65=\"Yes\",'2024NewCourses'!AS65,\" \")","v":" "},{"$f":"IF('2024NewCourses'!$A65=\"Yes\",'2024NewCourses'!AT65,\" \")","v":" "},{"$f":"IF('2024NewCourses'!$A65=\"Yes\",'2024NewCourses'!AU65,\" \")","v":" "},{"$f":"IF('2024NewCourses'!$A65=\"Yes\",'2024NewCourses'!AV65,\" \")","v":" "},{"$f":"IF('2024NewCourses'!$A65=\"Yes\",'2024NewCourses'!AW65,\" \")","v":" "},{"$f":"IF('2024NewCourses'!$A65=\"Yes\",'2024NewCourses'!AX65,\" \")","v":" "},{"$f":"IF('2024NewCourses'!$A65=\"Yes\",'2024NewCourses'!AY65,\" \")","v":" "},{"$f":"IF('2024NewCourses'!$A65=\"Yes\",'2024NewCourses'!AZ65,\" \")","v":" "},{"$f":"IF('2024NewCourses'!$A65=\"Yes\",'2024NewCourses'!BA65,\" \")","v":" "},{"$f":"IF('2024NewCourses'!$A65=\"Yes\",'2024NewCourses'!BB65,\" \")","v":" "},{"$f":"IF('2024NewCourses'!$A65=\"Yes\",'2024NewCourses'!BC65,\" \")","v":" "},{"$f":"IF('2024NewCourses'!$A65=\"Yes\",'2024NewCourses'!BD65,\" \")","v":" "},{"$f":"IF('2024NewCourses'!$A65=\"Yes\",'2024NewCourses'!BE65,\" \")","v":" "},{"$f":"IF('2024NewCourses'!$A65=\"Yes\",'2024NewCourses'!BF65,\" \")","v":" "},{"$f":"IF('2024NewCourses'!$A65=\"Yes\",'2024NewCourses'!BG65,\" \")","v":" "},{"$f":"IF('2024NewCourses'!$A65=\"Yes\",'2024NewCourses'!BH65,\" \")","v":" "},{"$f":"IF('2024NewCourses'!$A65=\"Yes\",'2024NewCourses'!BI65,\" \")","v":" "},{"$f":"IF('2024NewCourses'!$A65=\"Yes\",'2024NewCourses'!BJ65,\" \")","v":" "}]
[{"$f":"IF('2024NewCourses'!$A66=\"Yes\",'2024NewCourses'!B66,\" \")","v":" "},{"$f":"IF('2024NewCourses'!$A66=\"Yes\",'2024NewCourses'!D66,\" \")","v":" "},{"$f":"IF('2024NewCourses'!$A66=\"Yes\",'2024NewCourses'!F66,\" \")","v":" "},{"$f":"IF('2024NewCourses'!$A66=\"Yes\",'2024NewCourses'!G66,\" \")","v":" "},{"$f":"IF('2024NewCourses'!$A66=\"Yes\",'2024NewCourses'!H66,\" \")","v":" "},{"$f":"IF('2024NewCourses'!$A66=\"Yes\",'2024NewCourses'!J66,\" \")","v":" "},{"$f":"IF('2024NewCourses'!$A66=\"Yes\",'2024NewCourses'!K66,\" \")","v":" "},{"$f":"IF('2024NewCourses'!$A66=\"Yes\",'2024NewCourses'!L66,\" \")","v":" "},{"$f":"IF('2024NewCourses'!$A66=\"Yes\",'2024NewCourses'!M66,\" \")","v":" "},{"$f":"IF('2024NewCourses'!$A66=\"Yes\",'2024NewCourses'!N66,\" \")","v":" "},{"$f":"IF('2024NewCourses'!$A66=\"Yes\",'2024NewCourses'!O66,\" \")","v":" "},{"$f":"IF('2024NewCourses'!$A66=\"Yes\",'2024NewCourses'!P66,\" \")","v":" "},{"$f":"IF('2024NewCourses'!$A66=\"Yes\",'2024NewCourses'!Q66,\" \")","v":" "},{"$f":"IF('2024NewCourses'!$A66=\"Yes\",'2024NewCourses'!R66,\" \")","v":" "},{"$f":"IF('2024NewCourses'!$A66=\"Yes\",'2024NewCourses'!S66,\" \")","v":" "},{"$f":"IF('2024NewCourses'!$A66=\"Yes\",'2024NewCourses'!T66,\" \")","v":" "},{"$f":"IF('2024NewCourses'!$A66=\"Yes\",'2024NewCourses'!U66,\" \")","v":" "},{"$f":"IF('2024NewCourses'!$A66=\"Yes\",'2024NewCourses'!V66,\" \")","v":" "},{"$f":"IF('2024NewCourses'!$A66=\"Yes\",'2024NewCourses'!W66,\" \")","v":" "},{"$f":"IF('2024NewCourses'!$A66=\"Yes\",'2024NewCourses'!X66,\" \")","v":" "},{"$f":"IF('2024NewCourses'!$A66=\"Yes\",'2024NewCourses'!Y66,\" \")","v":" "},{"$f":"IF('2024NewCourses'!$A66=\"Yes\",'2024NewCourses'!Z66,\" \")","v":" "},{"$f":"IF('2024NewCourses'!$A66=\"Yes\",'2024NewCourses'!AA66,\" \")","v":" "},{"$f":"IF('2024NewCourses'!$A66=\"Yes\",'2024NewCourses'!AB66,\" \")","v":" "},{"$f":"IF('2024NewCourses'!$A66=\"Yes\",'2024NewCourses'!AC66,\" \")","v":" "},{"$f":"IF('2024NewCourses'!$A66=\"Yes\",'2024NewCourses'!AD66,\" \")","v":" "},{"$f":"IF('2024NewCourses'!$A66=\"Yes\",'2024NewCourses'!AE66,\" \")","v":" "},{"$f":"IF('2024NewCourses'!$A66=\"Yes\",'2024NewCourses'!AF66,\" \")","v":" "},{"$f":"IF('2024NewCourses'!$A66=\"Yes\",'2024NewCourses'!AG66,\" \")","v":" "},{"$f":"IF('2024NewCourses'!$A66=\"Yes\",'2024NewCourses'!AH66,\" \")","v":" "},{"$f":"IF('2024NewCourses'!$A66=\"Yes\",'2024NewCourses'!AI66,\" \")","v":" "},{"$f":"IF('2024NewCourses'!$A66=\"Yes\",'2024NewCourses'!AJ66,\" \")","v":" "},{"$f":"IF('2024NewCourses'!$A66=\"Yes\",'2024NewCourses'!AK66,\" \")","v":" "},{"$f":"IF('2024NewCourses'!$A66=\"Yes\",'2024NewCourses'!AL66,\" \")","v":" "},{"$f":"IF('2024NewCourses'!$A66=\"Yes\",'2024NewCourses'!AM66,\" \")","v":" "},{"$f":"IF('2024NewCourses'!$A66=\"Yes\",'2024NewCourses'!AN66,\" \")","v":" "},{"$f":"IF('2024NewCourses'!$A66=\"Yes\",'2024NewCourses'!AO66,\" \")","v":" "},{"$f":"IF('2024NewCourses'!$A66=\"Yes\",'2024NewCourses'!AP66,\" \")","v":" "},{"$f":"IF('2024NewCourses'!$A66=\"Yes\",'2024NewCourses'!AQ66,\" \")","v":" "},{"$f":"IF('2024NewCourses'!$A66=\"Yes\",'2024NewCourses'!AR66,\" \")","v":" "},{"$f":"IF('2024NewCourses'!$A66=\"Yes\",'2024NewCourses'!AR66,\" \")","v":" "},{"$f":"IF('2024NewCourses'!$A66=\"Yes\",'2024NewCourses'!AS66,\" \")","v":" "},{"$f":"IF('2024NewCourses'!$A66=\"Yes\",'2024NewCourses'!AT66,\" \")","v":" "},{"$f":"IF('2024NewCourses'!$A66=\"Yes\",'2024NewCourses'!AU66,\" \")","v":" "},{"$f":"IF('2024NewCourses'!$A66=\"Yes\",'2024NewCourses'!AV66,\" \")","v":" "},{"$f":"IF('2024NewCourses'!$A66=\"Yes\",'2024NewCourses'!AW66,\" \")","v":" "},{"$f":"IF('2024NewCourses'!$A66=\"Yes\",'2024NewCourses'!AX66,\" \")","v":" "},{"$f":"IF('2024NewCourses'!$A66=\"Yes\",'2024NewCourses'!AY66,\" \")","v":" "},{"$f":"IF('2024NewCourses'!$A66=\"Yes\",'2024NewCourses'!AZ66,\" \")","v":" "},{"$f":"IF('2024NewCourses'!$A66=\"Yes\",'2024NewCourses'!BA66,\" \")","v":" "},{"$f":"IF('2024NewCourses'!$A66=\"Yes\",'2024NewCourses'!BB66,\" \")","v":" "},{"$f":"IF('2024NewCourses'!$A66=\"Yes\",'2024NewCourses'!BC66,\" \")","v":" "},{"$f":"IF('2024NewCourses'!$A66=\"Yes\",'2024NewCourses'!BD66,\" \")","v":" "},{"$f":"IF('2024NewCourses'!$A66=\"Yes\",'2024NewCourses'!BE66,\" \")","v":" "},{"$f":"IF('2024NewCourses'!$A66=\"Yes\",'2024NewCourses'!BF66,\" \")","v":" "},{"$f":"IF('2024NewCourses'!$A66=\"Yes\",'2024NewCourses'!BG66,\" \")","v":" "},{"$f":"IF('2024NewCourses'!$A66=\"Yes\",'2024NewCourses'!BH66,\" \")","v":" "},{"$f":"IF('2024NewCourses'!$A66=\"Yes\",'2024NewCourses'!BI66,\" \")","v":" "},{"$f":"IF('2024NewCourses'!$A66=\"Yes\",'2024NewCourses'!BJ66,\" \")","v":" "}]
[{"$f":"IF('2024NewCourses'!$A67=\"Yes\",'2024NewCourses'!B67,\" \")","v":" "},{"$f":"IF('2024NewCourses'!$A67=\"Yes\",'2024NewCourses'!D67,\" \")","v":" "},{"$f":"IF('2024NewCourses'!$A67=\"Yes\",'2024NewCourses'!F67,\" \")","v":" "},{"$f":"IF('2024NewCourses'!$A67=\"Yes\",'2024NewCourses'!G67,\" \")","v":" "},{"$f":"IF('2024NewCourses'!$A67=\"Yes\",'2024NewCourses'!H67,\" \")","v":" "},{"$f":"IF('2024NewCourses'!$A67=\"Yes\",'2024NewCourses'!J67,\" \")","v":" "},{"$f":"IF('2024NewCourses'!$A67=\"Yes\",'2024NewCourses'!K67,\" \")","v":" "},{"$f":"IF('2024NewCourses'!$A67=\"Yes\",'2024NewCourses'!L67,\" \")","v":" "},{"$f":"IF('2024NewCourses'!$A67=\"Yes\",'2024NewCourses'!M67,\" \")","v":" "},{"$f":"IF('2024NewCourses'!$A67=\"Yes\",'2024NewCourses'!N67,\" \")","v":" "},{"$f":"IF('2024NewCourses'!$A67=\"Yes\",'2024NewCourses'!O67,\" \")","v":" "},{"$f":"IF('2024NewCourses'!$A67=\"Yes\",'2024NewCourses'!P67,\" \")","v":" "},{"$f":"IF('2024NewCourses'!$A67=\"Yes\",'2024NewCourses'!Q67,\" \")","v":" "},{"$f":"IF('2024NewCourses'!$A67=\"Yes\",'2024NewCourses'!R67,\" \")","v":" "},{"$f":"IF('2024NewCourses'!$A67=\"Yes\",'2024NewCourses'!S67,\" \")","v":" "},{"$f":"IF('2024NewCourses'!$A67=\"Yes\",'2024NewCourses'!T67,\" \")","v":" "},{"$f":"IF('2024NewCourses'!$A67=\"Yes\",'2024NewCourses'!U67,\" \")","v":" "},{"$f":"IF('2024NewCourses'!$A67=\"Yes\",'2024NewCourses'!V67,\" \")","v":" "},{"$f":"IF('2024NewCourses'!$A67=\"Yes\",'2024NewCourses'!W67,\" \")","v":" "},{"$f":"IF('2024NewCourses'!$A67=\"Yes\",'2024NewCourses'!X67,\" \")","v":" "},{"$f":"IF('2024NewCourses'!$A67=\"Yes\",'2024NewCourses'!Y67,\" \")","v":" "},{"$f":"IF('2024NewCourses'!$A67=\"Yes\",'2024NewCourses'!Z67,\" \")","v":" "},{"$f":"IF('2024NewCourses'!$A67=\"Yes\",'2024NewCourses'!AA67,\" \")","v":" "},{"$f":"IF('2024NewCourses'!$A67=\"Yes\",'2024NewCourses'!AB67,\" \")","v":" "},{"$f":"IF('2024NewCourses'!$A67=\"Yes\",'2024NewCourses'!AC67,\" \")","v":" "},{"$f":"IF('2024NewCourses'!$A67=\"Yes\",'2024NewCourses'!AD67,\" \")","v":" "},{"$f":"IF('2024NewCourses'!$A67=\"Yes\",'2024NewCourses'!AE67,\" \")","v":" "},{"$f":"IF('2024NewCourses'!$A67=\"Yes\",'2024NewCourses'!AF67,\" \")","v":" "},{"$f":"IF('2024NewCourses'!$A67=\"Yes\",'2024NewCourses'!AG67,\" \")","v":" "},{"$f":"IF('2024NewCourses'!$A67=\"Yes\",'2024NewCourses'!AH67,\" \")","v":" "},{"$f":"IF('2024NewCourses'!$A67=\"Yes\",'2024NewCourses'!AI67,\" \")","v":" "},{"$f":"IF('2024NewCourses'!$A67=\"Yes\",'2024NewCourses'!AJ67,\" \")","v":" "},{"$f":"IF('2024NewCourses'!$A67=\"Yes\",'2024NewCourses'!AK67,\" \")","v":" "},{"$f":"IF('2024NewCourses'!$A67=\"Yes\",'2024NewCourses'!AL67,\" \")","v":" "},{"$f":"IF('2024NewCourses'!$A67=\"Yes\",'2024NewCourses'!AM67,\" \")","v":" "},{"$f":"IF('2024NewCourses'!$A67=\"Yes\",'2024NewCourses'!AN67,\" \")","v":" "},{"$f":"IF('2024NewCourses'!$A67=\"Yes\",'2024NewCourses'!AO67,\" \")","v":" "},{"$f":"IF('2024NewCourses'!$A67=\"Yes\",'2024NewCourses'!AP67,\" \")","v":" "},{"$f":"IF('2024NewCourses'!$A67=\"Yes\",'2024NewCourses'!AQ67,\" \")","v":" "},{"$f":"IF('2024NewCourses'!$A67=\"Yes\",'2024NewCourses'!AR67,\" \")","v":" "},{"$f":"IF('2024NewCourses'!$A67=\"Yes\",'2024NewCourses'!AR67,\" \")","v":" "},{"$f":"IF('2024NewCourses'!$A67=\"Yes\",'2024NewCourses'!AS67,\" \")","v":" "},{"$f":"IF('2024NewCourses'!$A67=\"Yes\",'2024NewCourses'!AT67,\" \")","v":" "},{"$f":"IF('2024NewCourses'!$A67=\"Yes\",'2024NewCourses'!AU67,\" \")","v":" "},{"$f":"IF('2024NewCourses'!$A67=\"Yes\",'2024NewCourses'!AV67,\" \")","v":" "},{"$f":"IF('2024NewCourses'!$A67=\"Yes\",'2024NewCourses'!AW67,\" \")","v":" "},{"$f":"IF('2024NewCourses'!$A67=\"Yes\",'2024NewCourses'!AX67,\" \")","v":" "},{"$f":"IF('2024NewCourses'!$A67=\"Yes\",'2024NewCourses'!AY67,\" \")","v":" "},{"$f":"IF('2024NewCourses'!$A67=\"Yes\",'2024NewCourses'!AZ67,\" \")","v":" "},{"$f":"IF('2024NewCourses'!$A67=\"Yes\",'2024NewCourses'!BA67,\" \")","v":" "},{"$f":"IF('2024NewCourses'!$A67=\"Yes\",'2024NewCourses'!BB67,\" \")","v":" "},{"$f":"IF('2024NewCourses'!$A67=\"Yes\",'2024NewCourses'!BC67,\" \")","v":" "},{"$f":"IF('2024NewCourses'!$A67=\"Yes\",'2024NewCourses'!BD67,\" \")","v":" "},{"$f":"IF('2024NewCourses'!$A67=\"Yes\",'2024NewCourses'!BE67,\" \")","v":" "},{"$f":"IF('2024NewCourses'!$A67=\"Yes\",'2024NewCourses'!BF67,\" \")","v":" "},{"$f":"IF('2024NewCourses'!$A67=\"Yes\",'2024NewCourses'!BG67,\" \")","v":" "},{"$f":"IF('2024NewCourses'!$A67=\"Yes\",'2024NewCourses'!BH67,\" \")","v":" "},{"$f":"IF('2024NewCourses'!$A67=\"Yes\",'2024NewCourses'!BI67,\" \")","v":" "},{"$f":"IF('2024NewCourses'!$A67=\"Yes\",'2024NewCourses'!BJ67,\" \")","v":" "}]
[{"$f":"IF('2024NewCourses'!$A68=\"Yes\",'2024NewCourses'!B68,\" \")","v":" "},{"$f":"IF('2024NewCourses'!$A68=\"Yes\",'2024NewCourses'!D68,\" \")","v":" "},{"$f":"IF('2024NewCourses'!$A68=\"Yes\",'2024NewCourses'!F68,\" \")","v":" "},{"$f":"IF('2024NewCourses'!$A68=\"Yes\",'2024NewCourses'!G68,\" \")","v":" "},{"$f":"IF('2024NewCourses'!$A68=\"Yes\",'2024NewCourses'!H68,\" \")","v":" "},{"$f":"IF('2024NewCourses'!$A68=\"Yes\",'2024NewCourses'!J68,\" \")","v":" "},{"$f":"IF('2024NewCourses'!$A68=\"Yes\",'2024NewCourses'!K68,\" \")","v":" "},{"$f":"IF('2024NewCourses'!$A68=\"Yes\",'2024NewCourses'!L68,\" \")","v":" "},{"$f":"IF('2024NewCourses'!$A68=\"Yes\",'2024NewCourses'!M68,\" \")","v":" "},{"$f":"IF('2024NewCourses'!$A68=\"Yes\",'2024NewCourses'!N68,\" \")","v":" "},{"$f":"IF('2024NewCourses'!$A68=\"Yes\",'2024NewCourses'!O68,\" \")","v":" "},{"$f":"IF('2024NewCourses'!$A68=\"Yes\",'2024NewCourses'!P68,\" \")","v":" "},{"$f":"IF('2024NewCourses'!$A68=\"Yes\",'2024NewCourses'!Q68,\" \")","v":" "},{"$f":"IF('2024NewCourses'!$A68=\"Yes\",'2024NewCourses'!R68,\" \")","v":" "},{"$f":"IF('2024NewCourses'!$A68=\"Yes\",'2024NewCourses'!S68,\" \")","v":" "},{"$f":"IF('2024NewCourses'!$A68=\"Yes\",'2024NewCourses'!T68,\" \")","v":" "},{"$f":"IF('2024NewCourses'!$A68=\"Yes\",'2024NewCourses'!U68,\" \")","v":" "},{"$f":"IF('2024NewCourses'!$A68=\"Yes\",'2024NewCourses'!V68,\" \")","v":" "},{"$f":"IF('2024NewCourses'!$A68=\"Yes\",'2024NewCourses'!W68,\" \")","v":" "},{"$f":"IF('2024NewCourses'!$A68=\"Yes\",'2024NewCourses'!X68,\" \")","v":" "},{"$f":"IF('2024NewCourses'!$A68=\"Yes\",'2024NewCourses'!Y68,\" \")","v":" "},{"$f":"IF('2024NewCourses'!$A68=\"Yes\",'2024NewCourses'!Z68,\" \")","v":" "},{"$f":"IF('2024NewCourses'!$A68=\"Yes\",'2024NewCourses'!AA68,\" \")","v":" "},{"$f":"IF('2024NewCourses'!$A68=\"Yes\",'2024NewCourses'!AB68,\" \")","v":" "},{"$f":"IF('2024NewCourses'!$A68=\"Yes\",'2024NewCourses'!AC68,\" \")","v":" "},{"$f":"IF('2024NewCourses'!$A68=\"Yes\",'2024NewCourses'!AD68,\" \")","v":" "},{"$f":"IF('2024NewCourses'!$A68=\"Yes\",'2024NewCourses'!AE68,\" \")","v":" "},{"$f":"IF('2024NewCourses'!$A68=\"Yes\",'2024NewCourses'!AF68,\" \")","v":" "},{"$f":"IF('2024NewCourses'!$A68=\"Yes\",'2024NewCourses'!AG68,\" \")","v":" "},{"$f":"IF('2024NewCourses'!$A68=\"Yes\",'2024NewCourses'!AH68,\" \")","v":" "},{"$f":"IF('2024NewCourses'!$A68=\"Yes\",'2024NewCourses'!AI68,\" \")","v":" "},{"$f":"IF('2024NewCourses'!$A68=\"Yes\",'2024NewCourses'!AJ68,\" \")","v":" "},{"$f":"IF('2024NewCourses'!$A68=\"Yes\",'2024NewCourses'!AK68,\" \")","v":" "},{"$f":"IF('2024NewCourses'!$A68=\"Yes\",'2024NewCourses'!AL68,\" \")","v":" "},{"$f":"IF('2024NewCourses'!$A68=\"Yes\",'2024NewCourses'!AM68,\" \")","v":" "},{"$f":"IF('2024NewCourses'!$A68=\"Yes\",'2024NewCourses'!AN68,\" \")","v":" "},{"$f":"IF('2024NewCourses'!$A68=\"Yes\",'2024NewCourses'!AO68,\" \")","v":" "},{"$f":"IF('2024NewCourses'!$A68=\"Yes\",'2024NewCourses'!AP68,\" \")","v":" "},{"$f":"IF('2024NewCourses'!$A68=\"Yes\",'2024NewCourses'!AQ68,\" \")","v":" "},{"$f":"IF('2024NewCourses'!$A68=\"Yes\",'2024NewCourses'!AR68,\" \")","v":" "},{"$f":"IF('2024NewCourses'!$A68=\"Yes\",'2024NewCourses'!AR68,\" \")","v":" "},{"$f":"IF('2024NewCourses'!$A68=\"Yes\",'2024NewCourses'!AS68,\" \")","v":" "},{"$f":"IF('2024NewCourses'!$A68=\"Yes\",'2024NewCourses'!AT68,\" \")","v":" "},{"$f":"IF('2024NewCourses'!$A68=\"Yes\",'2024NewCourses'!AU68,\" \")","v":" "},{"$f":"IF('2024NewCourses'!$A68=\"Yes\",'2024NewCourses'!AV68,\" \")","v":" "},{"$f":"IF('2024NewCourses'!$A68=\"Yes\",'2024NewCourses'!AW68,\" \")","v":" "},{"$f":"IF('2024NewCourses'!$A68=\"Yes\",'2024NewCourses'!AX68,\" \")","v":" "},{"$f":"IF('2024NewCourses'!$A68=\"Yes\",'2024NewCourses'!AY68,\" \")","v":" "},{"$f":"IF('2024NewCourses'!$A68=\"Yes\",'2024NewCourses'!AZ68,\" \")","v":" "},{"$f":"IF('2024NewCourses'!$A68=\"Yes\",'2024NewCourses'!BA68,\" \")","v":" "},{"$f":"IF('2024NewCourses'!$A68=\"Yes\",'2024NewCourses'!BB68,\" \")","v":" "},{"$f":"IF('2024NewCourses'!$A68=\"Yes\",'2024NewCourses'!BC68,\" \")","v":" "},{"$f":"IF('2024NewCourses'!$A68=\"Yes\",'2024NewCourses'!BD68,\" \")","v":" "},{"$f":"IF('2024NewCourses'!$A68=\"Yes\",'2024NewCourses'!BE68,\" \")","v":" "},{"$f":"IF('2024NewCourses'!$A68=\"Yes\",'2024NewCourses'!BF68,\" \")","v":" "},{"$f":"IF('2024NewCourses'!$A68=\"Yes\",'2024NewCourses'!BG68,\" \")","v":" "},{"$f":"IF('2024NewCourses'!$A68=\"Yes\",'2024NewCourses'!BH68,\" \")","v":" "},{"$f":"IF('2024NewCourses'!$A68=\"Yes\",'2024NewCourses'!BI68,\" \")","v":" "},{"$f":"IF('2024NewCourses'!$A68=\"Yes\",'2024NewCourses'!BJ68,\" \")","v":" "}]
[{"$f":"IF('2024NewCourses'!$A69=\"Yes\",'2024NewCourses'!B69,\" \")","v":" "},{"$f":"IF('2024NewCourses'!$A69=\"Yes\",'2024NewCourses'!D69,\" \")","v":" "},{"$f":"IF('2024NewCourses'!$A69=\"Yes\",'2024NewCourses'!F69,\" \")","v":" "},{"$f":"IF('2024NewCourses'!$A69=\"Yes\",'2024NewCourses'!G69,\" \")","v":" "},{"$f":"IF('2024NewCourses'!$A69=\"Yes\",'2024NewCourses'!H69,\" \")","v":" "},{"$f":"IF('2024NewCourses'!$A69=\"Yes\",'2024NewCourses'!J69,\" \")","v":" "},{"$f":"IF('2024NewCourses'!$A69=\"Yes\",'2024NewCourses'!K69,\" \")","v":" "},{"$f":"IF('2024NewCourses'!$A69=\"Yes\",'2024NewCourses'!L69,\" \")","v":" "},{"$f":"IF('2024NewCourses'!$A69=\"Yes\",'2024NewCourses'!M69,\" \")","v":" "},{"$f":"IF('2024NewCourses'!$A69=\"Yes\",'2024NewCourses'!N69,\" \")","v":" "},{"$f":"IF('2024NewCourses'!$A69=\"Yes\",'2024NewCourses'!O69,\" \")","v":" "},{"$f":"IF('2024NewCourses'!$A69=\"Yes\",'2024NewCourses'!P69,\" \")","v":" "},{"$f":"IF('2024NewCourses'!$A69=\"Yes\",'2024NewCourses'!Q69,\" \")","v":" "},{"$f":"IF('2024NewCourses'!$A69=\"Yes\",'2024NewCourses'!R69,\" \")","v":" "},{"$f":"IF('2024NewCourses'!$A69=\"Yes\",'2024NewCourses'!S69,\" \")","v":" "},{"$f":"IF('2024NewCourses'!$A69=\"Yes\",'2024NewCourses'!T69,\" \")","v":" "},{"$f":"IF('2024NewCourses'!$A69=\"Yes\",'2024NewCourses'!U69,\" \")","v":" "},{"$f":"IF('2024NewCourses'!$A69=\"Yes\",'2024NewCourses'!V69,\" \")","v":" "},{"$f":"IF('2024NewCourses'!$A69=\"Yes\",'2024NewCourses'!W69,\" \")","v":" "},{"$f":"IF('2024NewCourses'!$A69=\"Yes\",'2024NewCourses'!X69,\" \")","v":" "},{"$f":"IF('2024NewCourses'!$A69=\"Yes\",'2024NewCourses'!Y69,\" \")","v":" "},{"$f":"IF('2024NewCourses'!$A69=\"Yes\",'2024NewCourses'!Z69,\" \")","v":" "},{"$f":"IF('2024NewCourses'!$A69=\"Yes\",'2024NewCourses'!AA69,\" \")","v":" "},{"$f":"IF('2024NewCourses'!$A69=\"Yes\",'2024NewCourses'!AB69,\" \")","v":" "},{"$f":"IF('2024NewCourses'!$A69=\"Yes\",'2024NewCourses'!AC69,\" \")","v":" "},{"$f":"IF('2024NewCourses'!$A69=\"Yes\",'2024NewCourses'!AD69,\" \")","v":" "},{"$f":"IF('2024NewCourses'!$A69=\"Yes\",'2024NewCourses'!AE69,\" \")","v":" "},{"$f":"IF('2024NewCourses'!$A69=\"Yes\",'2024NewCourses'!AF69,\" \")","v":" "},{"$f":"IF('2024NewCourses'!$A69=\"Yes\",'2024NewCourses'!AG69,\" \")","v":" "},{"$f":"IF('2024NewCourses'!$A69=\"Yes\",'2024NewCourses'!AH69,\" \")","v":" "},{"$f":"IF('2024NewCourses'!$A69=\"Yes\",'2024NewCourses'!AI69,\" \")","v":" "},{"$f":"IF('2024NewCourses'!$A69=\"Yes\",'2024NewCourses'!AJ69,\" \")","v":" "},{"$f":"IF('2024NewCourses'!$A69=\"Yes\",'2024NewCourses'!AK69,\" \")","v":" "},{"$f":"IF('2024NewCourses'!$A69=\"Yes\",'2024NewCourses'!AL69,\" \")","v":" "},{"$f":"IF('2024NewCourses'!$A69=\"Yes\",'2024NewCourses'!AM69,\" \")","v":" "},{"$f":"IF('2024NewCourses'!$A69=\"Yes\",'2024NewCourses'!AN69,\" \")","v":" "},{"$f":"IF('2024NewCourses'!$A69=\"Yes\",'2024NewCourses'!AO69,\" \")","v":" "},{"$f":"IF('2024NewCourses'!$A69=\"Yes\",'2024NewCourses'!AP69,\" \")","v":" "},{"$f":"IF('2024NewCourses'!$A69=\"Yes\",'2024NewCourses'!AQ69,\" \")","v":" "},{"$f":"IF('2024NewCourses'!$A69=\"Yes\",'2024NewCourses'!AR69,\" \")","v":" "},{"$f":"IF('2024NewCourses'!$A69=\"Yes\",'2024NewCourses'!AR69,\" \")","v":" "},{"$f":"IF('2024NewCourses'!$A69=\"Yes\",'2024NewCourses'!AS69,\" \")","v":" "},{"$f":"IF('2024NewCourses'!$A69=\"Yes\",'2024NewCourses'!AT69,\" \")","v":" "},{"$f":"IF('2024NewCourses'!$A69=\"Yes\",'2024NewCourses'!AU69,\" \")","v":" "},{"$f":"IF('2024NewCourses'!$A69=\"Yes\",'2024NewCourses'!AV69,\" \")","v":" "},{"$f":"IF('2024NewCourses'!$A69=\"Yes\",'2024NewCourses'!AW69,\" \")","v":" "},{"$f":"IF('2024NewCourses'!$A69=\"Yes\",'2024NewCourses'!AX69,\" \")","v":" "},{"$f":"IF('2024NewCourses'!$A69=\"Yes\",'2024NewCourses'!AY69,\" \")","v":" "},{"$f":"IF('2024NewCourses'!$A69=\"Yes\",'2024NewCourses'!AZ69,\" \")","v":" "},{"$f":"IF('2024NewCourses'!$A69=\"Yes\",'2024NewCourses'!BA69,\" \")","v":" "},{"$f":"IF('2024NewCourses'!$A69=\"Yes\",'2024NewCourses'!BB69,\" \")","v":" "},{"$f":"IF('2024NewCourses'!$A69=\"Yes\",'2024NewCourses'!BC69,\" \")","v":" "},{"$f":"IF('2024NewCourses'!$A69=\"Yes\",'2024NewCourses'!BD69,\" \")","v":" "},{"$f":"IF('2024NewCourses'!$A69=\"Yes\",'2024NewCourses'!BE69,\" \")","v":" "},{"$f":"IF('2024NewCourses'!$A69=\"Yes\",'2024NewCourses'!BF69,\" \")","v":" "},{"$f":"IF('2024NewCourses'!$A69=\"Yes\",'2024NewCourses'!BG69,\" \")","v":" "},{"$f":"IF('2024NewCourses'!$A69=\"Yes\",'2024NewCourses'!BH69,\" \")","v":" "},{"$f":"IF('2024NewCourses'!$A69=\"Yes\",'2024NewCourses'!BI69,\" \")","v":" "},{"$f":"IF('2024NewCourses'!$A69=\"Yes\",'2024NewCourses'!BJ69,\" \")","v":" "}]
[{"$f":"IF('2024NewCourses'!$A70=\"Yes\",'2024NewCourses'!B70,\" \")","v":" "},{"$f":"IF('2024NewCourses'!$A70=\"Yes\",'2024NewCourses'!D70,\" \")","v":" "},{"$f":"IF('2024NewCourses'!$A70=\"Yes\",'2024NewCourses'!F70,\" \")","v":" "},{"$f":"IF('2024NewCourses'!$A70=\"Yes\",'2024NewCourses'!G70,\" \")","v":" "},{"$f":"IF('2024NewCourses'!$A70=\"Yes\",'2024NewCourses'!H70,\" \")","v":" "},{"$f":"IF('2024NewCourses'!$A70=\"Yes\",'2024NewCourses'!J70,\" \")","v":" "},{"$f":"IF('2024NewCourses'!$A70=\"Yes\",'2024NewCourses'!K70,\" \")","v":" "},{"$f":"IF('2024NewCourses'!$A70=\"Yes\",'2024NewCourses'!L70,\" \")","v":" "},{"$f":"IF('2024NewCourses'!$A70=\"Yes\",'2024NewCourses'!M70,\" \")","v":" "},{"$f":"IF('2024NewCourses'!$A70=\"Yes\",'2024NewCourses'!N70,\" \")","v":" "},{"$f":"IF('2024NewCourses'!$A70=\"Yes\",'2024NewCourses'!O70,\" \")","v":" "},{"$f":"IF('2024NewCourses'!$A70=\"Yes\",'2024NewCourses'!P70,\" \")","v":" "},{"$f":"IF('2024NewCourses'!$A70=\"Yes\",'2024NewCourses'!Q70,\" \")","v":" "},{"$f":"IF('2024NewCourses'!$A70=\"Yes\",'2024NewCourses'!R70,\" \")","v":" "},{"$f":"IF('2024NewCourses'!$A70=\"Yes\",'2024NewCourses'!S70,\" \")","v":" "},{"$f":"IF('2024NewCourses'!$A70=\"Yes\",'2024NewCourses'!T70,\" \")","v":" "},{"$f":"IF('2024NewCourses'!$A70=\"Yes\",'2024NewCourses'!U70,\" \")","v":" "},{"$f":"IF('2024NewCourses'!$A70=\"Yes\",'2024NewCourses'!V70,\" \")","v":" "},{"$f":"IF('2024NewCourses'!$A70=\"Yes\",'2024NewCourses'!W70,\" \")","v":" "},{"$f":"IF('2024NewCourses'!$A70=\"Yes\",'2024NewCourses'!X70,\" \")","v":" "},{"$f":"IF('2024NewCourses'!$A70=\"Yes\",'2024NewCourses'!Y70,\" \")","v":" "},{"$f":"IF('2024NewCourses'!$A70=\"Yes\",'2024NewCourses'!Z70,\" \")","v":" "},{"$f":"IF('2024NewCourses'!$A70=\"Yes\",'2024NewCourses'!AA70,\" \")","v":" "},{"$f":"IF('2024NewCourses'!$A70=\"Yes\",'2024NewCourses'!AB70,\" \")","v":" "},{"$f":"IF('2024NewCourses'!$A70=\"Yes\",'2024NewCourses'!AC70,\" \")","v":" "},{"$f":"IF('2024NewCourses'!$A70=\"Yes\",'2024NewCourses'!AD70,\" \")","v":" "},{"$f":"IF('2024NewCourses'!$A70=\"Yes\",'2024NewCourses'!AE70,\" \")","v":" "},{"$f":"IF('2024NewCourses'!$A70=\"Yes\",'2024NewCourses'!AF70,\" \")","v":" "},{"$f":"IF('2024NewCourses'!$A70=\"Yes\",'2024NewCourses'!AG70,\" \")","v":" "},{"$f":"IF('2024NewCourses'!$A70=\"Yes\",'2024NewCourses'!AH70,\" \")","v":" "},{"$f":"IF('2024NewCourses'!$A70=\"Yes\",'2024NewCourses'!AI70,\" \")","v":" "},{"$f":"IF('2024NewCourses'!$A70=\"Yes\",'2024NewCourses'!AJ70,\" \")","v":" "},{"$f":"IF('2024NewCourses'!$A70=\"Yes\",'2024NewCourses'!AK70,\" \")","v":" "},{"$f":"IF('2024NewCourses'!$A70=\"Yes\",'2024NewCourses'!AL70,\" \")","v":" "},{"$f":"IF('2024NewCourses'!$A70=\"Yes\",'2024NewCourses'!AM70,\" \")","v":" "},{"$f":"IF('2024NewCourses'!$A70=\"Yes\",'2024NewCourses'!AN70,\" \")","v":" "},{"$f":"IF('2024NewCourses'!$A70=\"Yes\",'2024NewCourses'!AO70,\" \")","v":" "},{"$f":"IF('2024NewCourses'!$A70=\"Yes\",'2024NewCourses'!AP70,\" \")","v":" "},{"$f":"IF('2024NewCourses'!$A70=\"Yes\",'2024NewCourses'!AQ70,\" \")","v":" "},{"$f":"IF('2024NewCourses'!$A70=\"Yes\",'2024NewCourses'!AR70,\" \")","v":" "},{"$f":"IF('2024NewCourses'!$A70=\"Yes\",'2024NewCourses'!AR70,\" \")","v":" "},{"$f":"IF('2024NewCourses'!$A70=\"Yes\",'2024NewCourses'!AS70,\" \")","v":" "},{"$f":"IF('2024NewCourses'!$A70=\"Yes\",'2024NewCourses'!AT70,\" \")","v":" "},{"$f":"IF('2024NewCourses'!$A70=\"Yes\",'2024NewCourses'!AU70,\" \")","v":" "},{"$f":"IF('2024NewCourses'!$A70=\"Yes\",'2024NewCourses'!AV70,\" \")","v":" "},{"$f":"IF('2024NewCourses'!$A70=\"Yes\",'2024NewCourses'!AW70,\" \")","v":" "},{"$f":"IF('2024NewCourses'!$A70=\"Yes\",'2024NewCourses'!AX70,\" \")","v":" "},{"$f":"IF('2024NewCourses'!$A70=\"Yes\",'2024NewCourses'!AY70,\" \")","v":" "},{"$f":"IF('2024NewCourses'!$A70=\"Yes\",'2024NewCourses'!AZ70,\" \")","v":" "},{"$f":"IF('2024NewCourses'!$A70=\"Yes\",'2024NewCourses'!BA70,\" \")","v":" "},{"$f":"IF('2024NewCourses'!$A70=\"Yes\",'2024NewCourses'!BB70,\" \")","v":" "},{"$f":"IF('2024NewCourses'!$A70=\"Yes\",'2024NewCourses'!BC70,\" \")","v":" "},{"$f":"IF('2024NewCourses'!$A70=\"Yes\",'2024NewCourses'!BD70,\" \")","v":" "},{"$f":"IF('2024NewCourses'!$A70=\"Yes\",'2024NewCourses'!BE70,\" \")","v":" "},{"$f":"IF('2024NewCourses'!$A70=\"Yes\",'2024NewCourses'!BF70,\" \")","v":" "},{"$f":"IF('2024NewCourses'!$A70=\"Yes\",'2024NewCourses'!BG70,\" \")","v":" "},{"$f":"IF('2024NewCourses'!$A70=\"Yes\",'2024NewCourses'!BH70,\" \")","v":" "},{"$f":"IF('2024NewCourses'!$A70=\"Yes\",'2024NewCourses'!BI70,\" \")","v":" "},{"$f":"IF('2024NewCourses'!$A70=\"Yes\",'2024NewCourses'!BJ70,\" \")","v":" "}]
[{"$f":"IF('2024NewCourses'!$A71=\"Yes\",'2024NewCourses'!B71,\" \")","v":" "},{"$f":"IF('2024NewCourses'!$A71=\"Yes\",'2024NewCourses'!D71,\" \")","v":" "},{"$f":"IF('2024NewCourses'!$A71=\"Yes\",'2024NewCourses'!F71,\" \")","v":" "},{"$f":"IF('2024NewCourses'!$A71=\"Yes\",'2024NewCourses'!G71,\" \")","v":" "},{"$f":"IF('2024NewCourses'!$A71=\"Yes\",'2024NewCourses'!H71,\" \")","v":" "},{"$f":"IF('2024NewCourses'!$A71=\"Yes\",'2024NewCourses'!J71,\" \")","v":" "},{"$f":"IF('2024NewCourses'!$A71=\"Yes\",'2024NewCourses'!K71,\" \")","v":" "},{"$f":"IF('2024NewCourses'!$A71=\"Yes\",'2024NewCourses'!L71,\" \")","v":" "},{"$f":"IF('2024NewCourses'!$A71=\"Yes\",'2024NewCourses'!M71,\" \")","v":" "},{"$f":"IF('2024NewCourses'!$A71=\"Yes\",'2024NewCourses'!N71,\" \")","v":" "},{"$f":"IF('2024NewCourses'!$A71=\"Yes\",'2024NewCourses'!O71,\" \")","v":" "},{"$f":"IF('2024NewCourses'!$A71=\"Yes\",'2024NewCourses'!P71,\" \")","v":" "},{"$f":"IF('2024NewCourses'!$A71=\"Yes\",'2024NewCourses'!Q71,\" \")","v":" "},{"$f":"IF('2024NewCourses'!$A71=\"Yes\",'2024NewCourses'!R71,\" \")","v":" "},{"$f":"IF('2024NewCourses'!$A71=\"Yes\",'2024NewCourses'!S71,\" \")","v":" "},{"$f":"IF('2024NewCourses'!$A71=\"Yes\",'2024NewCourses'!T71,\" \")","v":" "},{"$f":"IF('2024NewCourses'!$A71=\"Yes\",'2024NewCourses'!U71,\" \")","v":" "},{"$f":"IF('2024NewCourses'!$A71=\"Yes\",'2024NewCourses'!V71,\" \")","v":" "},{"$f":"IF('2024NewCourses'!$A71=\"Yes\",'2024NewCourses'!W71,\" \")","v":" "},{"$f":"IF('2024NewCourses'!$A71=\"Yes\",'2024NewCourses'!X71,\" \")","v":" "},{"$f":"IF('2024NewCourses'!$A71=\"Yes\",'2024NewCourses'!Y71,\" \")","v":" "},{"$f":"IF('2024NewCourses'!$A71=\"Yes\",'2024NewCourses'!Z71,\" \")","v":" "},{"$f":"IF('2024NewCourses'!$A71=\"Yes\",'2024NewCourses'!AA71,\" \")","v":" "},{"$f":"IF('2024NewCourses'!$A71=\"Yes\",'2024NewCourses'!AB71,\" \")","v":" "},{"$f":"IF('2024NewCourses'!$A71=\"Yes\",'2024NewCourses'!AC71,\" \")","v":" "},{"$f":"IF('2024NewCourses'!$A71=\"Yes\",'2024NewCourses'!AD71,\" \")","v":" "},{"$f":"IF('2024NewCourses'!$A71=\"Yes\",'2024NewCourses'!AE71,\" \")","v":" "},{"$f":"IF('2024NewCourses'!$A71=\"Yes\",'2024NewCourses'!AF71,\" \")","v":" "},{"$f":"IF('2024NewCourses'!$A71=\"Yes\",'2024NewCourses'!AG71,\" \")","v":" "},{"$f":"IF('2024NewCourses'!$A71=\"Yes\",'2024NewCourses'!AH71,\" \")","v":" "},{"$f":"IF('2024NewCourses'!$A71=\"Yes\",'2024NewCourses'!AI71,\" \")","v":" "},{"$f":"IF('2024NewCourses'!$A71=\"Yes\",'2024NewCourses'!AJ71,\" \")","v":" "},{"$f":"IF('2024NewCourses'!$A71=\"Yes\",'2024NewCourses'!AK71,\" \")","v":" "},{"$f":"IF('2024NewCourses'!$A71=\"Yes\",'2024NewCourses'!AL71,\" \")","v":" "},{"$f":"IF('2024NewCourses'!$A71=\"Yes\",'2024NewCourses'!AM71,\" \")","v":" "},{"$f":"IF('2024NewCourses'!$A71=\"Yes\",'2024NewCourses'!AN71,\" \")","v":" "},{"$f":"IF('2024NewCourses'!$A71=\"Yes\",'2024NewCourses'!AO71,\" \")","v":" "},{"$f":"IF('2024NewCourses'!$A71=\"Yes\",'2024NewCourses'!AP71,\" \")","v":" "},{"$f":"IF('2024NewCourses'!$A71=\"Yes\",'2024NewCourses'!AQ71,\" \")","v":" "},{"$f":"IF('2024NewCourses'!$A71=\"Yes\",'2024NewCourses'!AR71,\" \")","v":" "},{"$f":"IF('2024NewCourses'!$A71=\"Yes\",'2024NewCourses'!AR71,\" \")","v":" "},{"$f":"IF('2024NewCourses'!$A71=\"Yes\",'2024NewCourses'!AS71,\" \")","v":" "},{"$f":"IF('2024NewCourses'!$A71=\"Yes\",'2024NewCourses'!AT71,\" \")","v":" "},{"$f":"IF('2024NewCourses'!$A71=\"Yes\",'2024NewCourses'!AU71,\" \")","v":" "},{"$f":"IF('2024NewCourses'!$A71=\"Yes\",'2024NewCourses'!AV71,\" \")","v":" "},{"$f":"IF('2024NewCourses'!$A71=\"Yes\",'2024NewCourses'!AW71,\" \")","v":" "},{"$f":"IF('2024NewCourses'!$A71=\"Yes\",'2024NewCourses'!AX71,\" \")","v":" "},{"$f":"IF('2024NewCourses'!$A71=\"Yes\",'2024NewCourses'!AY71,\" \")","v":" "},{"$f":"IF('2024NewCourses'!$A71=\"Yes\",'2024NewCourses'!AZ71,\" \")","v":" "},{"$f":"IF('2024NewCourses'!$A71=\"Yes\",'2024NewCourses'!BA71,\" \")","v":" "},{"$f":"IF('2024NewCourses'!$A71=\"Yes\",'2024NewCourses'!BB71,\" \")","v":" "},{"$f":"IF('2024NewCourses'!$A71=\"Yes\",'2024NewCourses'!BC71,\" \")","v":" "},{"$f":"IF('2024NewCourses'!$A71=\"Yes\",'2024NewCourses'!BD71,\" \")","v":" "},{"$f":"IF('2024NewCourses'!$A71=\"Yes\",'2024NewCourses'!BE71,\" \")","v":" "},{"$f":"IF('2024NewCourses'!$A71=\"Yes\",'2024NewCourses'!BF71,\" \")","v":" "},{"$f":"IF('2024NewCourses'!$A71=\"Yes\",'2024NewCourses'!BG71,\" \")","v":" "},{"$f":"IF('2024NewCourses'!$A71=\"Yes\",'2024NewCourses'!BH71,\" \")","v":" "},{"$f":"IF('2024NewCourses'!$A71=\"Yes\",'2024NewCourses'!BI71,\" \")","v":" "},{"$f":"IF('2024NewCourses'!$A71=\"Yes\",'2024NewCourses'!BJ71,\" \")","v":" "}]
[{"$f":"IF('2024NewCourses'!$A72=\"Yes\",'2024NewCourses'!B72,\" \")","v":" "},{"$f":"IF('2024NewCourses'!$A72=\"Yes\",'2024NewCourses'!D72,\" \")","v":" "},{"$f":"IF('2024NewCourses'!$A72=\"Yes\",'2024NewCourses'!F72,\" \")","v":" "},{"$f":"IF('2024NewCourses'!$A72=\"Yes\",'2024NewCourses'!G72,\" \")","v":" "},{"$f":"IF('2024NewCourses'!$A72=\"Yes\",'2024NewCourses'!H72,\" \")","v":" "},{"$f":"IF('2024NewCourses'!$A72=\"Yes\",'2024NewCourses'!J72,\" \")","v":" "},{"$f":"IF('2024NewCourses'!$A72=\"Yes\",'2024NewCourses'!K72,\" \")","v":" "},{"$f":"IF('2024NewCourses'!$A72=\"Yes\",'2024NewCourses'!L72,\" \")","v":" "},{"$f":"IF('2024NewCourses'!$A72=\"Yes\",'2024NewCourses'!M72,\" \")","v":" "},{"$f":"IF('2024NewCourses'!$A72=\"Yes\",'2024NewCourses'!N72,\" \")","v":" "},{"$f":"IF('2024NewCourses'!$A72=\"Yes\",'2024NewCourses'!O72,\" \")","v":" "},{"$f":"IF('2024NewCourses'!$A72=\"Yes\",'2024NewCourses'!P72,\" \")","v":" "},{"$f":"IF('2024NewCourses'!$A72=\"Yes\",'2024NewCourses'!Q72,\" \")","v":" "},{"$f":"IF('2024NewCourses'!$A72=\"Yes\",'2024NewCourses'!R72,\" \")","v":" "},{"$f":"IF('2024NewCourses'!$A72=\"Yes\",'2024NewCourses'!S72,\" \")","v":" "},{"$f":"IF('2024NewCourses'!$A72=\"Yes\",'2024NewCourses'!T72,\" \")","v":" "},{"$f":"IF('2024NewCourses'!$A72=\"Yes\",'2024NewCourses'!U72,\" \")","v":" "},{"$f":"IF('2024NewCourses'!$A72=\"Yes\",'2024NewCourses'!V72,\" \")","v":" "},{"$f":"IF('2024NewCourses'!$A72=\"Yes\",'2024NewCourses'!W72,\" \")","v":" "},{"$f":"IF('2024NewCourses'!$A72=\"Yes\",'2024NewCourses'!X72,\" \")","v":" "},{"$f":"IF('2024NewCourses'!$A72=\"Yes\",'2024NewCourses'!Y72,\" \")","v":" "},{"$f":"IF('2024NewCourses'!$A72=\"Yes\",'2024NewCourses'!Z72,\" \")","v":" "},{"$f":"IF('2024NewCourses'!$A72=\"Yes\",'2024NewCourses'!AA72,\" \")","v":" "},{"$f":"IF('2024NewCourses'!$A72=\"Yes\",'2024NewCourses'!AB72,\" \")","v":" "},{"$f":"IF('2024NewCourses'!$A72=\"Yes\",'2024NewCourses'!AC72,\" \")","v":" "},{"$f":"IF('2024NewCourses'!$A72=\"Yes\",'2024NewCourses'!AD72,\" \")","v":" "},{"$f":"IF('2024NewCourses'!$A72=\"Yes\",'2024NewCourses'!AE72,\" \")","v":" "},{"$f":"IF('2024NewCourses'!$A72=\"Yes\",'2024NewCourses'!AF72,\" \")","v":" "},{"$f":"IF('2024NewCourses'!$A72=\"Yes\",'2024NewCourses'!AG72,\" \")","v":" "},{"$f":"IF('2024NewCourses'!$A72=\"Yes\",'2024NewCourses'!AH72,\" \")","v":" "},{"$f":"IF('2024NewCourses'!$A72=\"Yes\",'2024NewCourses'!AI72,\" \")","v":" "},{"$f":"IF('2024NewCourses'!$A72=\"Yes\",'2024NewCourses'!AJ72,\" \")","v":" "},{"$f":"IF('2024NewCourses'!$A72=\"Yes\",'2024NewCourses'!AK72,\" \")","v":" "},{"$f":"IF('2024NewCourses'!$A72=\"Yes\",'2024NewCourses'!AL72,\" \")","v":" "},{"$f":"IF('2024NewCourses'!$A72=\"Yes\",'2024NewCourses'!AM72,\" \")","v":" "},{"$f":"IF('2024NewCourses'!$A72=\"Yes\",'2024NewCourses'!AN72,\" \")","v":" "},{"$f":"IF('2024NewCourses'!$A72=\"Yes\",'2024NewCourses'!AO72,\" \")","v":" "},{"$f":"IF('2024NewCourses'!$A72=\"Yes\",'2024NewCourses'!AP72,\" \")","v":" "},{"$f":"IF('2024NewCourses'!$A72=\"Yes\",'2024NewCourses'!AQ72,\" \")","v":" "},{"$f":"IF('2024NewCourses'!$A72=\"Yes\",'2024NewCourses'!AR72,\" \")","v":" "},{"$f":"IF('2024NewCourses'!$A72=\"Yes\",'2024NewCourses'!AR72,\" \")","v":" "},{"$f":"IF('2024NewCourses'!$A72=\"Yes\",'2024NewCourses'!AS72,\" \")","v":" "},{"$f":"IF('2024NewCourses'!$A72=\"Yes\",'2024NewCourses'!AT72,\" \")","v":" "},{"$f":"IF('2024NewCourses'!$A72=\"Yes\",'2024NewCourses'!AU72,\" \")","v":" "},{"$f":"IF('2024NewCourses'!$A72=\"Yes\",'2024NewCourses'!AV72,\" \")","v":" "},{"$f":"IF('2024NewCourses'!$A72=\"Yes\",'2024NewCourses'!AW72,\" \")","v":" "},{"$f":"IF('2024NewCourses'!$A72=\"Yes\",'2024NewCourses'!AX72,\" \")","v":" "},{"$f":"IF('2024NewCourses'!$A72=\"Yes\",'2024NewCourses'!AY72,\" \")","v":" "},{"$f":"IF('2024NewCourses'!$A72=\"Yes\",'2024NewCourses'!AZ72,\" \")","v":" "},{"$f":"IF('2024NewCourses'!$A72=\"Yes\",'2024NewCourses'!BA72,\" \")","v":" "},{"$f":"IF('2024NewCourses'!$A72=\"Yes\",'2024NewCourses'!BB72,\" \")","v":" "},{"$f":"IF('2024NewCourses'!$A72=\"Yes\",'2024NewCourses'!BC72,\" \")","v":" "},{"$f":"IF('2024NewCourses'!$A72=\"Yes\",'2024NewCourses'!BD72,\" \")","v":" "},{"$f":"IF('2024NewCourses'!$A72=\"Yes\",'2024NewCourses'!BE72,\" \")","v":" "},{"$f":"IF('2024NewCourses'!$A72=\"Yes\",'2024NewCourses'!BF72,\" \")","v":" "},{"$f":"IF('2024NewCourses'!$A72=\"Yes\",'2024NewCourses'!BG72,\" \")","v":" "},{"$f":"IF('2024NewCourses'!$A72=\"Yes\",'2024NewCourses'!BH72,\" \")","v":" "},{"$f":"IF('2024NewCourses'!$A72=\"Yes\",'2024NewCourses'!BI72,\" \")","v":" "},{"$f":"IF('2024NewCourses'!$A72=\"Yes\",'2024NewCourses'!BJ72,\" \")","v":" "}]
[{"$f":"IF('2024NewCourses'!$A73=\"Yes\",'2024NewCourses'!B73,\" \")","v":" "},{"$f":"IF('2024NewCourses'!$A73=\"Yes\",'2024NewCourses'!D73,\" \")","v":" "},{"$f":"IF('2024NewCourses'!$A73=\"Yes\",'2024NewCourses'!F73,\" \")","v":" "},{"$f":"IF('2024NewCourses'!$A73=\"Yes\",'2024NewCourses'!G73,\" \")","v":" "},{"$f":"IF('2024NewCourses'!$A73=\"Yes\",'2024NewCourses'!H73,\" \")","v":" "},{"$f":"IF('2024NewCourses'!$A73=\"Yes\",'2024NewCourses'!J73,\" \")","v":" "},{"$f":"IF('2024NewCourses'!$A73=\"Yes\",'2024NewCourses'!K73,\" \")","v":" "},{"$f":"IF('2024NewCourses'!$A73=\"Yes\",'2024NewCourses'!L73,\" \")","v":" "},{"$f":"IF('2024NewCourses'!$A73=\"Yes\",'2024NewCourses'!M73,\" \")","v":" "},{"$f":"IF('2024NewCourses'!$A73=\"Yes\",'2024NewCourses'!N73,\" \")","v":" "},{"$f":"IF('2024NewCourses'!$A73=\"Yes\",'2024NewCourses'!O73,\" \")","v":" "},{"$f":"IF('2024NewCourses'!$A73=\"Yes\",'2024NewCourses'!P73,\" \")","v":" "},{"$f":"IF('2024NewCourses'!$A73=\"Yes\",'2024NewCourses'!Q73,\" \")","v":" "},{"$f":"IF('2024NewCourses'!$A73=\"Yes\",'2024NewCourses'!R73,\" \")","v":" "},{"$f":"IF('2024NewCourses'!$A73=\"Yes\",'2024NewCourses'!S73,\" \")","v":" "},{"$f":"IF('2024NewCourses'!$A73=\"Yes\",'2024NewCourses'!T73,\" \")","v":" "},{"$f":"IF('2024NewCourses'!$A73=\"Yes\",'2024NewCourses'!U73,\" \")","v":" "},{"$f":"IF('2024NewCourses'!$A73=\"Yes\",'2024NewCourses'!V73,\" \")","v":" "},{"$f":"IF('2024NewCourses'!$A73=\"Yes\",'2024NewCourses'!W73,\" \")","v":" "},{"$f":"IF('2024NewCourses'!$A73=\"Yes\",'2024NewCourses'!X73,\" \")","v":" "},{"$f":"IF('2024NewCourses'!$A73=\"Yes\",'2024NewCourses'!Y73,\" \")","v":" "},{"$f":"IF('2024NewCourses'!$A73=\"Yes\",'2024NewCourses'!Z73,\" \")","v":" "},{"$f":"IF('2024NewCourses'!$A73=\"Yes\",'2024NewCourses'!AA73,\" \")","v":" "},{"$f":"IF('2024NewCourses'!$A73=\"Yes\",'2024NewCourses'!AB73,\" \")","v":" "},{"$f":"IF('2024NewCourses'!$A73=\"Yes\",'2024NewCourses'!AC73,\" \")","v":" "},{"$f":"IF('2024NewCourses'!$A73=\"Yes\",'2024NewCourses'!AD73,\" \")","v":" "},{"$f":"IF('2024NewCourses'!$A73=\"Yes\",'2024NewCourses'!AE73,\" \")","v":" "},{"$f":"IF('2024NewCourses'!$A73=\"Yes\",'2024NewCourses'!AF73,\" \")","v":" "},{"$f":"IF('2024NewCourses'!$A73=\"Yes\",'2024NewCourses'!AG73,\" \")","v":" "},{"$f":"IF('2024NewCourses'!$A73=\"Yes\",'2024NewCourses'!AH73,\" \")","v":" "},{"$f":"IF('2024NewCourses'!$A73=\"Yes\",'2024NewCourses'!AI73,\" \")","v":" "},{"$f":"IF('2024NewCourses'!$A73=\"Yes\",'2024NewCourses'!AJ73,\" \")","v":" "},{"$f":"IF('2024NewCourses'!$A73=\"Yes\",'2024NewCourses'!AK73,\" \")","v":" "},{"$f":"IF('2024NewCourses'!$A73=\"Yes\",'2024NewCourses'!AL73,\" \")","v":" "},{"$f":"IF('2024NewCourses'!$A73=\"Yes\",'2024NewCourses'!AM73,\" \")","v":" "},{"$f":"IF('2024NewCourses'!$A73=\"Yes\",'2024NewCourses'!AN73,\" \")","v":" "},{"$f":"IF('2024NewCourses'!$A73=\"Yes\",'2024NewCourses'!AO73,\" \")","v":" "},{"$f":"IF('2024NewCourses'!$A73=\"Yes\",'2024NewCourses'!AP73,\" \")","v":" "},{"$f":"IF('2024NewCourses'!$A73=\"Yes\",'2024NewCourses'!AQ73,\" \")","v":" "},{"$f":"IF('2024NewCourses'!$A73=\"Yes\",'2024NewCourses'!AR73,\" \")","v":" "},{"$f":"IF('2024NewCourses'!$A73=\"Yes\",'2024NewCourses'!AR73,\" \")","v":" "},{"$f":"IF('2024NewCourses'!$A73=\"Yes\",'2024NewCourses'!AS73,\" \")","v":" "},{"$f":"IF('2024NewCourses'!$A73=\"Yes\",'2024NewCourses'!AT73,\" \")","v":" "},{"$f":"IF('2024NewCourses'!$A73=\"Yes\",'2024NewCourses'!AU73,\" \")","v":" "},{"$f":"IF('2024NewCourses'!$A73=\"Yes\",'2024NewCourses'!AV73,\" \")","v":" "},{"$f":"IF('2024NewCourses'!$A73=\"Yes\",'2024NewCourses'!AW73,\" \")","v":" "},{"$f":"IF('2024NewCourses'!$A73=\"Yes\",'2024NewCourses'!AX73,\" \")","v":" "},{"$f":"IF('2024NewCourses'!$A73=\"Yes\",'2024NewCourses'!AY73,\" \")","v":" "},{"$f":"IF('2024NewCourses'!$A73=\"Yes\",'2024NewCourses'!AZ73,\" \")","v":" "},{"$f":"IF('2024NewCourses'!$A73=\"Yes\",'2024NewCourses'!BA73,\" \")","v":" "},{"$f":"IF('2024NewCourses'!$A73=\"Yes\",'2024NewCourses'!BB73,\" \")","v":" "},{"$f":"IF('2024NewCourses'!$A73=\"Yes\",'2024NewCourses'!BC73,\" \")","v":" "},{"$f":"IF('2024NewCourses'!$A73=\"Yes\",'2024NewCourses'!BD73,\" \")","v":" "},{"$f":"IF('2024NewCourses'!$A73=\"Yes\",'2024NewCourses'!BE73,\" \")","v":" "},{"$f":"IF('2024NewCourses'!$A73=\"Yes\",'2024NewCourses'!BF73,\" \")","v":" "},{"$f":"IF('2024NewCourses'!$A73=\"Yes\",'2024NewCourses'!BG73,\" \")","v":" "},{"$f":"IF('2024NewCourses'!$A73=\"Yes\",'2024NewCourses'!BH73,\" \")","v":" "},{"$f":"IF('2024NewCourses'!$A73=\"Yes\",'2024NewCourses'!BI73,\" \")","v":" "},{"$f":"IF('2024NewCourses'!$A73=\"Yes\",'2024NewCourses'!BJ73,\" \")","v":" "}]
[{"$f":"IF('2024NewCourses'!$A75=\"Yes\",'2024NewCourses'!B75,\" \")","v":" "},{"$f":"IF('2024NewCourses'!$A75=\"Yes\",'2024NewCourses'!D75,\" \")","v":" "},{"$f":"IF('2024NewCourses'!$A75=\"Yes\",'2024NewCourses'!F75,\" \")","v":" "},{"$f":"IF('2024NewCourses'!$A75=\"Yes\",'2024NewCourses'!G75,\" \")","v":" "},{"$f":"IF('2024NewCourses'!$A75=\"Yes\",'2024NewCourses'!H75,\" \")","v":" "},{"$f":"IF('2024NewCourses'!$A75=\"Yes\",'2024NewCourses'!J75,\" \")","v":" "},{"$f":"IF('2024NewCourses'!$A75=\"Yes\",'2024NewCourses'!K75,\" \")","v":" "},{"$f":"IF('2024NewCourses'!$A75=\"Yes\",'2024NewCourses'!L75,\" \")","v":" "},{"$f":"IF('2024NewCourses'!$A75=\"Yes\",'2024NewCourses'!M75,\" \")","v":" "},{"$f":"IF('2024NewCourses'!$A75=\"Yes\",'2024NewCourses'!N75,\" \")","v":" "},{"$f":"IF('2024NewCourses'!$A75=\"Yes\",'2024NewCourses'!O75,\" \")","v":" "},{"$f":"IF('2024NewCourses'!$A75=\"Yes\",'2024NewCourses'!P75,\" \")","v":" "},{"$f":"IF('2024NewCourses'!$A75=\"Yes\",'2024NewCourses'!Q75,\" \")","v":" "},{"$f":"IF('2024NewCourses'!$A75=\"Yes\",'2024NewCourses'!R75,\" \")","v":" "},{"$f":"IF('2024NewCourses'!$A75=\"Yes\",'2024NewCourses'!S75,\" \")","v":" "},{"$f":"IF('2024NewCourses'!$A75=\"Yes\",'2024NewCourses'!T75,\" \")","v":" "},{"$f":"IF('2024NewCourses'!$A75=\"Yes\",'2024NewCourses'!U75,\" \")","v":" "},{"$f":"IF('2024NewCourses'!$A75=\"Yes\",'2024NewCourses'!V75,\" \")","v":" "},{"$f":"IF('2024NewCourses'!$A75=\"Yes\",'2024NewCourses'!W75,\" \")","v":" "},{"$f":"IF('2024NewCourses'!$A75=\"Yes\",'2024NewCourses'!X75,\" \")","v":" "},{"$f":"IF('2024NewCourses'!$A75=\"Yes\",'2024NewCourses'!Y75,\" \")","v":" "},{"$f":"IF('2024NewCourses'!$A75=\"Yes\",'2024NewCourses'!Z75,\" \")","v":" "},{"$f":"IF('2024NewCourses'!$A75=\"Yes\",'2024NewCourses'!AA75,\" \")","v":" "},{"$f":"IF('2024NewCourses'!$A75=\"Yes\",'2024NewCourses'!AB75,\" \")","v":" "},{"$f":"IF('2024NewCourses'!$A75=\"Yes\",'2024NewCourses'!AC75,\" \")","v":" "},{"$f":"IF('2024NewCourses'!$A75=\"Yes\",'2024NewCourses'!AD75,\" \")","v":" "},{"$f":"IF('2024NewCourses'!$A75=\"Yes\",'2024NewCourses'!AE75,\" \")","v":" "},{"$f":"IF('2024NewCourses'!$A75=\"Yes\",'2024NewCourses'!AF75,\" \")","v":" "},{"$f":"IF('2024NewCourses'!$A75=\"Yes\",'2024NewCourses'!AG75,\" \")","v":" "},{"$f":"IF('2024NewCourses'!$A75=\"Yes\",'2024NewCourses'!AH75,\" \")","v":" "},{"$f":"IF('2024NewCourses'!$A75=\"Yes\",'2024NewCourses'!AI75,\" \")","v":" "},{"$f":"IF('2024NewCourses'!$A75=\"Yes\",'2024NewCourses'!AJ75,\" \")","v":" "},{"$f":"IF('2024NewCourses'!$A75=\"Yes\",'2024NewCourses'!AK75,\" \")","v":" "},{"$f":"IF('2024NewCourses'!$A75=\"Yes\",'2024NewCourses'!AL75,\" \")","v":" "},{"$f":"IF('2024NewCourses'!$A75=\"Yes\",'2024NewCourses'!AM75,\" \")","v":" "},{"$f":"IF('2024NewCourses'!$A75=\"Yes\",'2024NewCourses'!AN75,\" \")","v":" "},{"$f":"IF('2024NewCourses'!$A75=\"Yes\",'2024NewCourses'!AO75,\" \")","v":" "},{"$f":"IF('2024NewCourses'!$A75=\"Yes\",'2024NewCourses'!AP75,\" \")","v":" "},{"$f":"IF('2024NewCourses'!$A75=\"Yes\",'2024NewCourses'!AQ75,\" \")","v":" "},{"$f":"IF('2024NewCourses'!$A75=\"Yes\",'2024NewCourses'!AR75,\" \")","v":" "},{"$f":"IF('2024NewCourses'!$A75=\"Yes\",'2024NewCourses'!AR75,\" \")","v":" "},{"$f":"IF('2024NewCourses'!$A75=\"Yes\",'2024NewCourses'!AS75,\" \")","v":" "},{"$f":"IF('2024NewCourses'!$A75=\"Yes\",'2024NewCourses'!AT75,\" \")","v":" "},{"$f":"IF('2024NewCourses'!$A75=\"Yes\",'2024NewCourses'!AU75,\" \")","v":" "},{"$f":"IF('2024NewCourses'!$A75=\"Yes\",'2024NewCourses'!AV75,\" \")","v":" "},{"$f":"IF('2024NewCourses'!$A75=\"Yes\",'2024NewCourses'!AW75,\" \")","v":" "},{"$f":"IF('2024NewCourses'!$A75=\"Yes\",'2024NewCourses'!AX75,\" \")","v":" "},{"$f":"IF('2024NewCourses'!$A75=\"Yes\",'2024NewCourses'!AY75,\" \")","v":" "},{"$f":"IF('2024NewCourses'!$A75=\"Yes\",'2024NewCourses'!AZ75,\" \")","v":" "},{"$f":"IF('2024NewCourses'!$A75=\"Yes\",'2024NewCourses'!BA75,\" \")","v":" "},{"$f":"IF('2024NewCourses'!$A75=\"Yes\",'2024NewCourses'!BB75,\" \")","v":" "},{"$f":"IF('2024NewCourses'!$A75=\"Yes\",'2024NewCourses'!BC75,\" \")","v":" "},{"$f":"IF('2024NewCourses'!$A75=\"Yes\",'2024NewCourses'!BD75,\" \")","v":" "},{"$f":"IF('2024NewCourses'!$A75=\"Yes\",'2024NewCourses'!BE75,\" \")","v":" "},{"$f":"IF('2024NewCourses'!$A75=\"Yes\",'2024NewCourses'!BF75,\" \")","v":" "},{"$f":"IF('2024NewCourses'!$A75=\"Yes\",'2024NewCourses'!BG75,\" \")","v":" "},{"$f":"IF('2024NewCourses'!$A75=\"Yes\",'2024NewCourses'!BH75,\" \")","v":" "},{"$f":"IF('2024NewCourses'!$A75=\"Yes\",'2024NewCourses'!BI75,\" \")","v":" "},{"$f":"IF('2024NewCourses'!$A75=\"Yes\",'2024NewCourses'!BJ75,\" \")","v":" "}]
[{"$f":"IF('2024NewCourses'!$A76=\"Yes\",'2024NewCourses'!B76,\" \")","v":" "},{"$f":"IF('2024NewCourses'!$A76=\"Yes\",'2024NewCourses'!D76,\" \")","v":" "},{"$f":"IF('2024NewCourses'!$A76=\"Yes\",'2024NewCourses'!F76,\" \")","v":" "},{"$f":"IF('2024NewCourses'!$A76=\"Yes\",'2024NewCourses'!G76,\" \")","v":" "},{"$f":"IF('2024NewCourses'!$A76=\"Yes\",'2024NewCourses'!H76,\" \")","v":" "},{"$f":"IF('2024NewCourses'!$A76=\"Yes\",'2024NewCourses'!J76,\" \")","v":" "},{"$f":"IF('2024NewCourses'!$A76=\"Yes\",'2024NewCourses'!K76,\" \")","v":" "},{"$f":"IF('2024NewCourses'!$A76=\"Yes\",'2024NewCourses'!L76,\" \")","v":" "},{"$f":"IF('2024NewCourses'!$A76=\"Yes\",'2024NewCourses'!M76,\" \")","v":" "},{"$f":"IF('2024NewCourses'!$A76=\"Yes\",'2024NewCourses'!N76,\" \")","v":" "},{"$f":"IF('2024NewCourses'!$A76=\"Yes\",'2024NewCourses'!O76,\" \")","v":" "},{"$f":"IF('2024NewCourses'!$A76=\"Yes\",'2024NewCourses'!P76,\" \")","v":" "},{"$f":"IF('2024NewCourses'!$A76=\"Yes\",'2024NewCourses'!Q76,\" \")","v":" "},{"$f":"IF('2024NewCourses'!$A76=\"Yes\",'2024NewCourses'!R76,\" \")","v":" "},{"$f":"IF('2024NewCourses'!$A76=\"Yes\",'2024NewCourses'!S76,\" \")","v":" "},{"$f":"IF('2024NewCourses'!$A76=\"Yes\",'2024NewCourses'!T76,\" \")","v":" "},{"$f":"IF('2024NewCourses'!$A76=\"Yes\",'2024NewCourses'!U76,\" \")","v":" "},{"$f":"IF('2024NewCourses'!$A76=\"Yes\",'2024NewCourses'!V76,\" \")","v":" "},{"$f":"IF('2024NewCourses'!$A76=\"Yes\",'2024NewCourses'!W76,\" \")","v":" "},{"$f":"IF('2024NewCourses'!$A76=\"Yes\",'2024NewCourses'!X76,\" \")","v":" "},{"$f":"IF('2024NewCourses'!$A76=\"Yes\",'2024NewCourses'!Y76,\" \")","v":" "},{"$f":"IF('2024NewCourses'!$A76=\"Yes\",'2024NewCourses'!Z76,\" \")","v":" "},{"$f":"IF('2024NewCourses'!$A76=\"Yes\",'2024NewCourses'!AA76,\" \")","v":" "},{"$f":"IF('2024NewCourses'!$A76=\"Yes\",'2024NewCourses'!AB76,\" \")","v":" "},{"$f":"IF('2024NewCourses'!$A76=\"Yes\",'2024NewCourses'!AC76,\" \")","v":" "},{"$f":"IF('2024NewCourses'!$A76=\"Yes\",'2024NewCourses'!AD76,\" \")","v":" "},{"$f":"IF('2024NewCourses'!$A76=\"Yes\",'2024NewCourses'!AE76,\" \")","v":" "},{"$f":"IF('2024NewCourses'!$A76=\"Yes\",'2024NewCourses'!AF76,\" \")","v":" "},{"$f":"IF('2024NewCourses'!$A76=\"Yes\",'2024NewCourses'!AG76,\" \")","v":" "},{"$f":"IF('2024NewCourses'!$A76=\"Yes\",'2024NewCourses'!AH76,\" \")","v":" "},{"$f":"IF('2024NewCourses'!$A76=\"Yes\",'2024NewCourses'!AI76,\" \")","v":" "},{"$f":"IF('2024NewCourses'!$A76=\"Yes\",'2024NewCourses'!AJ76,\" \")","v":" "},{"$f":"IF('2024NewCourses'!$A76=\"Yes\",'2024NewCourses'!AK76,\" \")","v":" "},{"$f":"IF('2024NewCourses'!$A76=\"Yes\",'2024NewCourses'!AL76,\" \")","v":" "},{"$f":"IF('2024NewCourses'!$A76=\"Yes\",'2024NewCourses'!AM76,\" \")","v":" "},{"$f":"IF('2024NewCourses'!$A76=\"Yes\",'2024NewCourses'!AN76,\" \")","v":" "},{"$f":"IF('2024NewCourses'!$A76=\"Yes\",'2024NewCourses'!AO76,\" \")","v":" "},{"$f":"IF('2024NewCourses'!$A76=\"Yes\",'2024NewCourses'!AP76,\" \")","v":" "},{"$f":"IF('2024NewCourses'!$A76=\"Yes\",'2024NewCourses'!AQ76,\" \")","v":" "},{"$f":"IF('2024NewCourses'!$A76=\"Yes\",'2024NewCourses'!AR76,\" \")","v":" "},{"$f":"IF('2024NewCourses'!$A76=\"Yes\",'2024NewCourses'!AR76,\" \")","v":" "},{"$f":"IF('2024NewCourses'!$A76=\"Yes\",'2024NewCourses'!AS76,\" \")","v":" "},{"$f":"IF('2024NewCourses'!$A76=\"Yes\",'2024NewCourses'!AT76,\" \")","v":" "},{"$f":"IF('2024NewCourses'!$A76=\"Yes\",'2024NewCourses'!AU76,\" \")","v":" "},{"$f":"IF('2024NewCourses'!$A76=\"Yes\",'2024NewCourses'!AV76,\" \")","v":" "},{"$f":"IF('2024NewCourses'!$A76=\"Yes\",'2024NewCourses'!AW76,\" \")","v":" "},{"$f":"IF('2024NewCourses'!$A76=\"Yes\",'2024NewCourses'!AX76,\" \")","v":" "},{"$f":"IF('2024NewCourses'!$A76=\"Yes\",'2024NewCourses'!AY76,\" \")","v":" "},{"$f":"IF('2024NewCourses'!$A76=\"Yes\",'2024NewCourses'!AZ76,\" \")","v":" "},{"$f":"IF('2024NewCourses'!$A76=\"Yes\",'2024NewCourses'!BA76,\" \")","v":" "},{"$f":"IF('2024NewCourses'!$A76=\"Yes\",'2024NewCourses'!BB76,\" \")","v":" "},{"$f":"IF('2024NewCourses'!$A76=\"Yes\",'2024NewCourses'!BC76,\" \")","v":" "},{"$f":"IF('2024NewCourses'!$A76=\"Yes\",'2024NewCourses'!BD76,\" \")","v":" "},{"$f":"IF('2024NewCourses'!$A76=\"Yes\",'2024NewCourses'!BE76,\" \")","v":" "},{"$f":"IF('2024NewCourses'!$A76=\"Yes\",'2024NewCourses'!BF76,\" \")","v":" "},{"$f":"IF('2024NewCourses'!$A76=\"Yes\",'2024NewCourses'!BG76,\" \")","v":" "},{"$f":"IF('2024NewCourses'!$A76=\"Yes\",'2024NewCourses'!BH76,\" \")","v":" "},{"$f":"IF('2024NewCourses'!$A76=\"Yes\",'2024NewCourses'!BI76,\" \")","v":" "},{"$f":"IF('2024NewCourses'!$A76=\"Yes\",'2024NewCourses'!BJ76,\" \")","v":" "}]
[{"$f":"IF('2024NewCourses'!$A77=\"Yes\",'2024NewCourses'!B77,\" \")","v":" "},{"$f":"IF('2024NewCourses'!$A77=\"Yes\",'2024NewCourses'!D77,\" \")","v":" "},{"$f":"IF('2024NewCourses'!$A77=\"Yes\",'2024NewCourses'!F77,\" \")","v":" "},{"$f":"IF('2024NewCourses'!$A77=\"Yes\",'2024NewCourses'!G77,\" \")","v":" "},{"$f":"IF('2024NewCourses'!$A77=\"Yes\",'2024NewCourses'!H77,\" \")","v":" "},{"$f":"IF('2024NewCourses'!$A77=\"Yes\",'2024NewCourses'!J77,\" \")","v":" "},{"$f":"IF('2024NewCourses'!$A77=\"Yes\",'2024NewCourses'!K77,\" \")","v":" "},{"$f":"IF('2024NewCourses'!$A77=\"Yes\",'2024NewCourses'!L77,\" \")","v":" "},{"$f":"IF('2024NewCourses'!$A77=\"Yes\",'2024NewCourses'!M77,\" \")","v":" "},{"$f":"IF('2024NewCourses'!$A77=\"Yes\",'2024NewCourses'!N77,\" \")","v":" "},{"$f":"IF('2024NewCourses'!$A77=\"Yes\",'2024NewCourses'!O77,\" \")","v":" "},{"$f":"IF('2024NewCourses'!$A77=\"Yes\",'2024NewCourses'!P77,\" \")","v":" "},{"$f":"IF('2024NewCourses'!$A77=\"Yes\",'2024NewCourses'!Q77,\" \")","v":" "},{"$f":"IF('2024NewCourses'!$A77=\"Yes\",'2024NewCourses'!R77,\" \")","v":" "},{"$f":"IF('2024NewCourses'!$A77=\"Yes\",'2024NewCourses'!S77,\" \")","v":" "},{"$f":"IF('2024NewCourses'!$A77=\"Yes\",'2024NewCourses'!T77,\" \")","v":" "},{"$f":"IF('2024NewCourses'!$A77=\"Yes\",'2024NewCourses'!U77,\" \")","v":" "},{"$f":"IF('2024NewCourses'!$A77=\"Yes\",'2024NewCourses'!V77,\" \")","v":" "},{"$f":"IF('2024NewCourses'!$A77=\"Yes\",'2024NewCourses'!W77,\" \")","v":" "},{"$f":"IF('2024NewCourses'!$A77=\"Yes\",'2024NewCourses'!X77,\" \")","v":" "},{"$f":"IF('2024NewCourses'!$A77=\"Yes\",'2024NewCourses'!Y77,\" \")","v":" "},{"$f":"IF('2024NewCourses'!$A77=\"Yes\",'2024NewCourses'!Z77,\" \")","v":" "},{"$f":"IF('2024NewCourses'!$A77=\"Yes\",'2024NewCourses'!AA77,\" \")","v":" "},{"$f":"IF('2024NewCourses'!$A77=\"Yes\",'2024NewCourses'!AB77,\" \")","v":" "},{"$f":"IF('2024NewCourses'!$A77=\"Yes\",'2024NewCourses'!AC77,\" \")","v":" "},{"$f":"IF('2024NewCourses'!$A77=\"Yes\",'2024NewCourses'!AD77,\" \")","v":" "},{"$f":"IF('2024NewCourses'!$A77=\"Yes\",'2024NewCourses'!AE77,\" \")","v":" "},{"$f":"IF('2024NewCourses'!$A77=\"Yes\",'2024NewCourses'!AF77,\" \")","v":" "},{"$f":"IF('2024NewCourses'!$A77=\"Yes\",'2024NewCourses'!AG77,\" \")","v":" "},{"$f":"IF('2024NewCourses'!$A77=\"Yes\",'2024NewCourses'!AH77,\" \")","v":" "},{"$f":"IF('2024NewCourses'!$A77=\"Yes\",'2024NewCourses'!AI77,\" \")","v":" "},{"$f":"IF('2024NewCourses'!$A77=\"Yes\",'2024NewCourses'!AJ77,\" \")","v":" "},{"$f":"IF('2024NewCourses'!$A77=\"Yes\",'2024NewCourses'!AK77,\" \")","v":" "},{"$f":"IF('2024NewCourses'!$A77=\"Yes\",'2024NewCourses'!AL77,\" \")","v":" "},{"$f":"IF('2024NewCourses'!$A77=\"Yes\",'2024NewCourses'!AM77,\" \")","v":" "},{"$f":"IF('2024NewCourses'!$A77=\"Yes\",'2024NewCourses'!AN77,\" \")","v":" "},{"$f":"IF('2024NewCourses'!$A77=\"Yes\",'2024NewCourses'!AO77,\" \")","v":" "},{"$f":"IF('2024NewCourses'!$A77=\"Yes\",'2024NewCourses'!AP77,\" \")","v":" "},{"$f":"IF('2024NewCourses'!$A77=\"Yes\",'2024NewCourses'!AQ77,\" \")","v":" "},{"$f":"IF('2024NewCourses'!$A77=\"Yes\",'2024NewCourses'!AR77,\" \")","v":" "},{"$f":"IF('2024NewCourses'!$A77=\"Yes\",'2024NewCourses'!AR77,\" \")","v":" "},{"$f":"IF('2024NewCourses'!$A77=\"Yes\",'2024NewCourses'!AS77,\" \")","v":" "},{"$f":"IF('2024NewCourses'!$A77=\"Yes\",'2024NewCourses'!AT77,\" \")","v":" "},{"$f":"IF('2024NewCourses'!$A77=\"Yes\",'2024NewCourses'!AU77,\" \")","v":" "},{"$f":"IF('2024NewCourses'!$A77=\"Yes\",'2024NewCourses'!AV77,\" \")","v":" "},{"$f":"IF('2024NewCourses'!$A77=\"Yes\",'2024NewCourses'!AW77,\" \")","v":" "},{"$f":"IF('2024NewCourses'!$A77=\"Yes\",'2024NewCourses'!AX77,\" \")","v":" "},{"$f":"IF('2024NewCourses'!$A77=\"Yes\",'2024NewCourses'!AY77,\" \")","v":" "},{"$f":"IF('2024NewCourses'!$A77=\"Yes\",'2024NewCourses'!AZ77,\" \")","v":" "},{"$f":"IF('2024NewCourses'!$A77=\"Yes\",'2024NewCourses'!BA77,\" \")","v":" "},{"$f":"IF('2024NewCourses'!$A77=\"Yes\",'2024NewCourses'!BB77,\" \")","v":" "},{"$f":"IF('2024NewCourses'!$A77=\"Yes\",'2024NewCourses'!BC77,\" \")","v":" "},{"$f":"IF('2024NewCourses'!$A77=\"Yes\",'2024NewCourses'!BD77,\" \")","v":" "},{"$f":"IF('2024NewCourses'!$A77=\"Yes\",'2024NewCourses'!BE77,\" \")","v":" "},{"$f":"IF('2024NewCourses'!$A77=\"Yes\",'2024NewCourses'!BF77,\" \")","v":" "},{"$f":"IF('2024NewCourses'!$A77=\"Yes\",'2024NewCourses'!BG77,\" \")","v":" "},{"$f":"IF('2024NewCourses'!$A77=\"Yes\",'2024NewCourses'!BH77,\" \")","v":" "},{"$f":"IF('2024NewCourses'!$A77=\"Yes\",'2024NewCourses'!BI77,\" \")","v":" "},{"$f":"IF('2024NewCourses'!$A77=\"Yes\",'2024NewCourses'!BJ77,\" \")","v":" "}]
[{"$f":"IF('2024NewCourses'!$A78=\"Yes\",'2024NewCourses'!B78,\" \")","v":" "},{"$f":"IF('2024NewCourses'!$A78=\"Yes\",'2024NewCourses'!D78,\" \")","v":" "},{"$f":"IF('2024NewCourses'!$A78=\"Yes\",'2024NewCourses'!F78,\" \")","v":" "},{"$f":"IF('2024NewCourses'!$A78=\"Yes\",'2024NewCourses'!G78,\" \")","v":" "},{"$f":"IF('2024NewCourses'!$A78=\"Yes\",'2024NewCourses'!H78,\" \")","v":" "},{"$f":"IF('2024NewCourses'!$A78=\"Yes\",'2024NewCourses'!J78,\" \")","v":" "},{"$f":"IF('2024NewCourses'!$A78=\"Yes\",'2024NewCourses'!K78,\" \")","v":" "},{"$f":"IF('2024NewCourses'!$A78=\"Yes\",'2024NewCourses'!L78,\" \")","v":" "},{"$f":"IF('2024NewCourses'!$A78=\"Yes\",'2024NewCourses'!M78,\" \")","v":" "},{"$f":"IF('2024NewCourses'!$A78=\"Yes\",'2024NewCourses'!N78,\" \")","v":" "},{"$f":"IF('2024NewCourses'!$A78=\"Yes\",'2024NewCourses'!O78,\" \")","v":" "},{"$f":"IF('2024NewCourses'!$A78=\"Yes\",'2024NewCourses'!P78,\" \")","v":" "},{"$f":"IF('2024NewCourses'!$A78=\"Yes\",'2024NewCourses'!Q78,\" \")","v":" "},{"$f":"IF('2024NewCourses'!$A78=\"Yes\",'2024NewCourses'!R78,\" \")","v":" "},{"$f":"IF('2024NewCourses'!$A78=\"Yes\",'2024NewCourses'!S78,\" \")","v":" "},{"$f":"IF('2024NewCourses'!$A78=\"Yes\",'2024NewCourses'!T78,\" \")","v":" "},{"$f":"IF('2024NewCourses'!$A78=\"Yes\",'2024NewCourses'!U78,\" \")","v":" "},{"$f":"IF('2024NewCourses'!$A78=\"Yes\",'2024NewCourses'!V78,\" \")","v":" "},{"$f":"IF('2024NewCourses'!$A78=\"Yes\",'2024NewCourses'!W78,\" \")","v":" "},{"$f":"IF('2024NewCourses'!$A78=\"Yes\",'2024NewCourses'!X78,\" \")","v":" "},{"$f":"IF('2024NewCourses'!$A78=\"Yes\",'2024NewCourses'!Y78,\" \")","v":" "},{"$f":"IF('2024NewCourses'!$A78=\"Yes\",'2024NewCourses'!Z78,\" \")","v":" "},{"$f":"IF('2024NewCourses'!$A78=\"Yes\",'2024NewCourses'!AA78,\" \")","v":" "},{"$f":"IF('2024NewCourses'!$A78=\"Yes\",'2024NewCourses'!AB78,\" \")","v":" "},{"$f":"IF('2024NewCourses'!$A78=\"Yes\",'2024NewCourses'!AC78,\" \")","v":" "},{"$f":"IF('2024NewCourses'!$A78=\"Yes\",'2024NewCourses'!AD78,\" \")","v":" "},{"$f":"IF('2024NewCourses'!$A78=\"Yes\",'2024NewCourses'!AE78,\" \")","v":" "},{"$f":"IF('2024NewCourses'!$A78=\"Yes\",'2024NewCourses'!AF78,\" \")","v":" "},{"$f":"IF('2024NewCourses'!$A78=\"Yes\",'2024NewCourses'!AG78,\" \")","v":" "},{"$f":"IF('2024NewCourses'!$A78=\"Yes\",'2024NewCourses'!AH78,\" \")","v":" "},{"$f":"IF('2024NewCourses'!$A78=\"Yes\",'2024NewCourses'!AI78,\" \")","v":" "},{"$f":"IF('2024NewCourses'!$A78=\"Yes\",'2024NewCourses'!AJ78,\" \")","v":" "},{"$f":"IF('2024NewCourses'!$A78=\"Yes\",'2024NewCourses'!AK78,\" \")","v":" "},{"$f":"IF('2024NewCourses'!$A78=\"Yes\",'2024NewCourses'!AL78,\" \")","v":" "},{"$f":"IF('2024NewCourses'!$A78=\"Yes\",'2024NewCourses'!AM78,\" \")","v":" "},{"$f":"IF('2024NewCourses'!$A78=\"Yes\",'2024NewCourses'!AN78,\" \")","v":" "},{"$f":"IF('2024NewCourses'!$A78=\"Yes\",'2024NewCourses'!AO78,\" \")","v":" "},{"$f":"IF('2024NewCourses'!$A78=\"Yes\",'2024NewCourses'!AP78,\" \")","v":" "},{"$f":"IF('2024NewCourses'!$A78=\"Yes\",'2024NewCourses'!AQ78,\" \")","v":" "},{"$f":"IF('2024NewCourses'!$A78=\"Yes\",'2024NewCourses'!AR78,\" \")","v":" "},{"$f":"IF('2024NewCourses'!$A78=\"Yes\",'2024NewCourses'!AR78,\" \")","v":" "},{"$f":"IF('2024NewCourses'!$A78=\"Yes\",'2024NewCourses'!AS78,\" \")","v":" "},{"$f":"IF('2024NewCourses'!$A78=\"Yes\",'2024NewCourses'!AT78,\" \")","v":" "},{"$f":"IF('2024NewCourses'!$A78=\"Yes\",'2024NewCourses'!AU78,\" \")","v":" "},{"$f":"IF('2024NewCourses'!$A78=\"Yes\",'2024NewCourses'!AV78,\" \")","v":" "},{"$f":"IF('2024NewCourses'!$A78=\"Yes\",'2024NewCourses'!AW78,\" \")","v":" "},{"$f":"IF('2024NewCourses'!$A78=\"Yes\",'2024NewCourses'!AX78,\" \")","v":" "},{"$f":"IF('2024NewCourses'!$A78=\"Yes\",'2024NewCourses'!AY78,\" \")","v":" "},{"$f":"IF('2024NewCourses'!$A78=\"Yes\",'2024NewCourses'!AZ78,\" \")","v":" "},{"$f":"IF('2024NewCourses'!$A78=\"Yes\",'2024NewCourses'!BA78,\" \")","v":" "},{"$f":"IF('2024NewCourses'!$A78=\"Yes\",'2024NewCourses'!BB78,\" \")","v":" "},{"$f":"IF('2024NewCourses'!$A78=\"Yes\",'2024NewCourses'!BC78,\" \")","v":" "},{"$f":"IF('2024NewCourses'!$A78=\"Yes\",'2024NewCourses'!BD78,\" \")","v":" "},{"$f":"IF('2024NewCourses'!$A78=\"Yes\",'2024NewCourses'!BE78,\" \")","v":" "},{"$f":"IF('2024NewCourses'!$A78=\"Yes\",'2024NewCourses'!BF78,\" \")","v":" "},{"$f":"IF('2024NewCourses'!$A78=\"Yes\",'2024NewCourses'!BG78,\" \")","v":" "},{"$f":"IF('2024NewCourses'!$A78=\"Yes\",'2024NewCourses'!BH78,\" \")","v":" "},{"$f":"IF('2024NewCourses'!$A78=\"Yes\",'2024NewCourses'!BI78,\" \")","v":" "},{"$f":"IF('2024NewCourses'!$A78=\"Yes\",'2024NewCourses'!BJ78,\" \")","v":" "}]
[{"$f":"IF('2024NewCourses'!$A79=\"Yes\",'2024NewCourses'!B79,\" \")","v":" "},{"$f":"IF('2024NewCourses'!$A79=\"Yes\",'2024NewCourses'!D79,\" \")","v":" "},{"$f":"IF('2024NewCourses'!$A79=\"Yes\",'2024NewCourses'!F79,\" \")","v":" "},{"$f":"IF('2024NewCourses'!$A79=\"Yes\",'2024NewCourses'!G79,\" \")","v":" "},{"$f":"IF('2024NewCourses'!$A79=\"Yes\",'2024NewCourses'!H79,\" \")","v":" "},{"$f":"IF('2024NewCourses'!$A79=\"Yes\",'2024NewCourses'!J79,\" \")","v":" "},{"$f":"IF('2024NewCourses'!$A79=\"Yes\",'2024NewCourses'!K79,\" \")","v":" "},{"$f":"IF('2024NewCourses'!$A79=\"Yes\",'2024NewCourses'!L79,\" \")","v":" "},{"$f":"IF('2024NewCourses'!$A79=\"Yes\",'2024NewCourses'!M79,\" \")","v":" "},{"$f":"IF('2024NewCourses'!$A79=\"Yes\",'2024NewCourses'!N79,\" \")","v":" "},{"$f":"IF('2024NewCourses'!$A79=\"Yes\",'2024NewCourses'!O79,\" \")","v":" "},{"$f":"IF('2024NewCourses'!$A79=\"Yes\",'2024NewCourses'!P79,\" \")","v":" "},{"$f":"IF('2024NewCourses'!$A79=\"Yes\",'2024NewCourses'!Q79,\" \")","v":" "},{"$f":"IF('2024NewCourses'!$A79=\"Yes\",'2024NewCourses'!R79,\" \")","v":" "},{"$f":"IF('2024NewCourses'!$A79=\"Yes\",'2024NewCourses'!S79,\" \")","v":" "},{"$f":"IF('2024NewCourses'!$A79=\"Yes\",'2024NewCourses'!T79,\" \")","v":" "},{"$f":"IF('2024NewCourses'!$A79=\"Yes\",'2024NewCourses'!U79,\" \")","v":" "},{"$f":"IF('2024NewCourses'!$A79=\"Yes\",'2024NewCourses'!V79,\" \")","v":" "},{"$f":"IF('2024NewCourses'!$A79=\"Yes\",'2024NewCourses'!W79,\" \")","v":" "},{"$f":"IF('2024NewCourses'!$A79=\"Yes\",'2024NewCourses'!X79,\" \")","v":" "},{"$f":"IF('2024NewCourses'!$A79=\"Yes\",'2024NewCourses'!Y79,\" \")","v":" "},{"$f":"IF('2024NewCourses'!$A79=\"Yes\",'2024NewCourses'!Z79,\" \")","v":" "},{"$f":"IF('2024NewCourses'!$A79=\"Yes\",'2024NewCourses'!AA79,\" \")","v":" "},{"$f":"IF('2024NewCourses'!$A79=\"Yes\",'2024NewCourses'!AB79,\" \")","v":" "},{"$f":"IF('2024NewCourses'!$A79=\"Yes\",'2024NewCourses'!AC79,\" \")","v":" "},{"$f":"IF('2024NewCourses'!$A79=\"Yes\",'2024NewCourses'!AD79,\" \")","v":" "},{"$f":"IF('2024NewCourses'!$A79=\"Yes\",'2024NewCourses'!AE79,\" \")","v":" "},{"$f":"IF('2024NewCourses'!$A79=\"Yes\",'2024NewCourses'!AF79,\" \")","v":" "},{"$f":"IF('2024NewCourses'!$A79=\"Yes\",'2024NewCourses'!AG79,\" \")","v":" "},{"$f":"IF('2024NewCourses'!$A79=\"Yes\",'2024NewCourses'!AH79,\" \")","v":" "},{"$f":"IF('2024NewCourses'!$A79=\"Yes\",'2024NewCourses'!AI79,\" \")","v":" "},{"$f":"IF('2024NewCourses'!$A79=\"Yes\",'2024NewCourses'!AJ79,\" \")","v":" "},{"$f":"IF('2024NewCourses'!$A79=\"Yes\",'2024NewCourses'!AK79,\" \")","v":" "},{"$f":"IF('2024NewCourses'!$A79=\"Yes\",'2024NewCourses'!AL79,\" \")","v":" "},{"$f":"IF('2024NewCourses'!$A79=\"Yes\",'2024NewCourses'!AM79,\" \")","v":" "},{"$f":"IF('2024NewCourses'!$A79=\"Yes\",'2024NewCourses'!AN79,\" \")","v":" "},{"$f":"IF('2024NewCourses'!$A79=\"Yes\",'2024NewCourses'!AO79,\" \")","v":" "},{"$f":"IF('2024NewCourses'!$A79=\"Yes\",'2024NewCourses'!AP79,\" \")","v":" "},{"$f":"IF('2024NewCourses'!$A79=\"Yes\",'2024NewCourses'!AQ79,\" \")","v":" "},{"$f":"IF('2024NewCourses'!$A79=\"Yes\",'2024NewCourses'!AR79,\" \")","v":" "},{"$f":"IF('2024NewCourses'!$A79=\"Yes\",'2024NewCourses'!AR79,\" \")","v":" "},{"$f":"IF('2024NewCourses'!$A79=\"Yes\",'2024NewCourses'!AS79,\" \")","v":" "},{"$f":"IF('2024NewCourses'!$A79=\"Yes\",'2024NewCourses'!AT79,\" \")","v":" "},{"$f":"IF('2024NewCourses'!$A79=\"Yes\",'2024NewCourses'!AU79,\" \")","v":" "},{"$f":"IF('2024NewCourses'!$A79=\"Yes\",'2024NewCourses'!AV79,\" \")","v":" "},{"$f":"IF('2024NewCourses'!$A79=\"Yes\",'2024NewCourses'!AW79,\" \")","v":" "},{"$f":"IF('2024NewCourses'!$A79=\"Yes\",'2024NewCourses'!AX79,\" \")","v":" "},{"$f":"IF('2024NewCourses'!$A79=\"Yes\",'2024NewCourses'!AY79,\" \")","v":" "},{"$f":"IF('2024NewCourses'!$A79=\"Yes\",'2024NewCourses'!AZ79,\" \")","v":" "},{"$f":"IF('2024NewCourses'!$A79=\"Yes\",'2024NewCourses'!BA79,\" \")","v":" "},{"$f":"IF('2024NewCourses'!$A79=\"Yes\",'2024NewCourses'!BB79,\" \")","v":" "},{"$f":"IF('2024NewCourses'!$A79=\"Yes\",'2024NewCourses'!BC79,\" \")","v":" "},{"$f":"IF('2024NewCourses'!$A79=\"Yes\",'2024NewCourses'!BD79,\" \")","v":" "},{"$f":"IF('2024NewCourses'!$A79=\"Yes\",'2024NewCourses'!BE79,\" \")","v":" "},{"$f":"IF('2024NewCourses'!$A79=\"Yes\",'2024NewCourses'!BF79,\" \")","v":" "},{"$f":"IF('2024NewCourses'!$A79=\"Yes\",'2024NewCourses'!BG79,\" \")","v":" "},{"$f":"IF('2024NewCourses'!$A79=\"Yes\",'2024NewCourses'!BH79,\" \")","v":" "},{"$f":"IF('2024NewCourses'!$A79=\"Yes\",'2024NewCourses'!BI79,\" \")","v":" "},{"$f":"IF('2024NewCourses'!$A79=\"Yes\",'2024NewCourses'!BJ79,\" \")","v":" "}]
[{"$f":"IF('2024NewCourses'!$A80=\"Yes\",'2024NewCourses'!B80,\" \")","v":" "},{"$f":"IF('2024NewCourses'!$A80=\"Yes\",'2024NewCourses'!D80,\" \")","v":" "},{"$f":"IF('2024NewCourses'!$A80=\"Yes\",'2024NewCourses'!F80,\" \")","v":" "},{"$f":"IF('2024NewCourses'!$A80=\"Yes\",'2024NewCourses'!G80,\" \")","v":" "},{"$f":"IF('2024NewCourses'!$A80=\"Yes\",'2024NewCourses'!H80,\" \")","v":" "},{"$f":"IF('2024NewCourses'!$A80=\"Yes\",'2024NewCourses'!J80,\" \")","v":" "},{"$f":"IF('2024NewCourses'!$A80=\"Yes\",'2024NewCourses'!K80,\" \")","v":" "},{"$f":"IF('2024NewCourses'!$A80=\"Yes\",'2024NewCourses'!L80,\" \")","v":" "},{"$f":"IF('2024NewCourses'!$A80=\"Yes\",'2024NewCourses'!M80,\" \")","v":" "},{"$f":"IF('2024NewCourses'!$A80=\"Yes\",'2024NewCourses'!N80,\" \")","v":" "},{"$f":"IF('2024NewCourses'!$A80=\"Yes\",'2024NewCourses'!O80,\" \")","v":" "},{"$f":"IF('2024NewCourses'!$A80=\"Yes\",'2024NewCourses'!P80,\" \")","v":" "},{"$f":"IF('2024NewCourses'!$A80=\"Yes\",'2024NewCourses'!Q80,\" \")","v":" "},{"$f":"IF('2024NewCourses'!$A80=\"Yes\",'2024NewCourses'!R80,\" \")","v":" "},{"$f":"IF('2024NewCourses'!$A80=\"Yes\",'2024NewCourses'!S80,\" \")","v":" "},{"$f":"IF('2024NewCourses'!$A80=\"Yes\",'2024NewCourses'!T80,\" \")","v":" "},{"$f":"IF('2024NewCourses'!$A80=\"Yes\",'2024NewCourses'!U80,\" \")","v":" "},{"$f":"IF('2024NewCourses'!$A80=\"Yes\",'2024NewCourses'!V80,\" \")","v":" "},{"$f":"IF('2024NewCourses'!$A80=\"Yes\",'2024NewCourses'!W80,\" \")","v":" "},{"$f":"IF('2024NewCourses'!$A80=\"Yes\",'2024NewCourses'!X80,\" \")","v":" "},{"$f":"IF('2024NewCourses'!$A80=\"Yes\",'2024NewCourses'!Y80,\" \")","v":" "},{"$f":"IF('2024NewCourses'!$A80=\"Yes\",'2024NewCourses'!Z80,\" \")","v":" "},{"$f":"IF('2024NewCourses'!$A80=\"Yes\",'2024NewCourses'!AA80,\" \")","v":" "},{"$f":"IF('2024NewCourses'!$A80=\"Yes\",'2024NewCourses'!AB80,\" \")","v":" "},{"$f":"IF('2024NewCourses'!$A80=\"Yes\",'2024NewCourses'!AC80,\" \")","v":" "},{"$f":"IF('2024NewCourses'!$A80=\"Yes\",'2024NewCourses'!AD80,\" \")","v":" "},{"$f":"IF('2024NewCourses'!$A80=\"Yes\",'2024NewCourses'!AE80,\" \")","v":" "},{"$f":"IF('2024NewCourses'!$A80=\"Yes\",'2024NewCourses'!AF80,\" \")","v":" "},{"$f":"IF('2024NewCourses'!$A80=\"Yes\",'2024NewCourses'!AG80,\" \")","v":" "},{"$f":"IF('2024NewCourses'!$A80=\"Yes\",'2024NewCourses'!AH80,\" \")","v":" "},{"$f":"IF('2024NewCourses'!$A80=\"Yes\",'2024NewCourses'!AI80,\" \")","v":" "},{"$f":"IF('2024NewCourses'!$A80=\"Yes\",'2024NewCourses'!AJ80,\" \")","v":" "},{"$f":"IF('2024NewCourses'!$A80=\"Yes\",'2024NewCourses'!AK80,\" \")","v":" "},{"$f":"IF('2024NewCourses'!$A80=\"Yes\",'2024NewCourses'!AL80,\" \")","v":" "},{"$f":"IF('2024NewCourses'!$A80=\"Yes\",'2024NewCourses'!AM80,\" \")","v":" "},{"$f":"IF('2024NewCourses'!$A80=\"Yes\",'2024NewCourses'!AN80,\" \")","v":" "},{"$f":"IF('2024NewCourses'!$A80=\"Yes\",'2024NewCourses'!AO80,\" \")","v":" "},{"$f":"IF('2024NewCourses'!$A80=\"Yes\",'2024NewCourses'!AP80,\" \")","v":" "},{"$f":"IF('2024NewCourses'!$A80=\"Yes\",'2024NewCourses'!AQ80,\" \")","v":" "},{"$f":"IF('2024NewCourses'!$A80=\"Yes\",'2024NewCourses'!AR80,\" \")","v":" "},{"$f":"IF('2024NewCourses'!$A80=\"Yes\",'2024NewCourses'!AR80,\" \")","v":" "},{"$f":"IF('2024NewCourses'!$A80=\"Yes\",'2024NewCourses'!AS80,\" \")","v":" "},{"$f":"IF('2024NewCourses'!$A80=\"Yes\",'2024NewCourses'!AT80,\" \")","v":" "},{"$f":"IF('2024NewCourses'!$A80=\"Yes\",'2024NewCourses'!AU80,\" \")","v":" "},{"$f":"IF('2024NewCourses'!$A80=\"Yes\",'2024NewCourses'!AV80,\" \")","v":" "},{"$f":"IF('2024NewCourses'!$A80=\"Yes\",'2024NewCourses'!AW80,\" \")","v":" "},{"$f":"IF('2024NewCourses'!$A80=\"Yes\",'2024NewCourses'!AX80,\" \")","v":" "},{"$f":"IF('2024NewCourses'!$A80=\"Yes\",'2024NewCourses'!AY80,\" \")","v":" "},{"$f":"IF('2024NewCourses'!$A80=\"Yes\",'2024NewCourses'!AZ80,\" \")","v":" "},{"$f":"IF('2024NewCourses'!$A80=\"Yes\",'2024NewCourses'!BA80,\" \")","v":" "},{"$f":"IF('2024NewCourses'!$A80=\"Yes\",'2024NewCourses'!BB80,\" \")","v":" "},{"$f":"IF('2024NewCourses'!$A80=\"Yes\",'2024NewCourses'!BC80,\" \")","v":" "},{"$f":"IF('2024NewCourses'!$A80=\"Yes\",'2024NewCourses'!BD80,\" \")","v":" "},{"$f":"IF('2024NewCourses'!$A80=\"Yes\",'2024NewCourses'!BE80,\" \")","v":" "},{"$f":"IF('2024NewCourses'!$A80=\"Yes\",'2024NewCourses'!BF80,\" \")","v":" "},{"$f":"IF('2024NewCourses'!$A80=\"Yes\",'2024NewCourses'!BG80,\" \")","v":" "},{"$f":"IF('2024NewCourses'!$A80=\"Yes\",'2024NewCourses'!BH80,\" \")","v":" "},{"$f":"IF('2024NewCourses'!$A80=\"Yes\",'2024NewCourses'!BI80,\" \")","v":" "},{"$f":"IF('2024NewCourses'!$A80=\"Yes\",'2024NewCourses'!BJ80,\" \")","v":" "}]
[{"$f":"IF('2024NewCourses'!$A81=\"Yes\",'2024NewCourses'!B81,\" \")","v":" "},{"$f":"IF('2024NewCourses'!$A81=\"Yes\",'2024NewCourses'!D81,\" \")","v":" "},{"$f":"IF('2024NewCourses'!$A81=\"Yes\",'2024NewCourses'!F81,\" \")","v":" "},{"$f":"IF('2024NewCourses'!$A81=\"Yes\",'2024NewCourses'!G81,\" \")","v":" "},{"$f":"IF('2024NewCourses'!$A81=\"Yes\",'2024NewCourses'!H81,\" \")","v":" "},{"$f":"IF('2024NewCourses'!$A81=\"Yes\",'2024NewCourses'!J81,\" \")","v":" "},{"$f":"IF('2024NewCourses'!$A81=\"Yes\",'2024NewCourses'!K81,\" \")","v":" "},{"$f":"IF('2024NewCourses'!$A81=\"Yes\",'2024NewCourses'!L81,\" \")","v":" "},{"$f":"IF('2024NewCourses'!$A81=\"Yes\",'2024NewCourses'!M81,\" \")","v":" "},{"$f":"IF('2024NewCourses'!$A81=\"Yes\",'2024NewCourses'!N81,\" \")","v":" "},{"$f":"IF('2024NewCourses'!$A81=\"Yes\",'2024NewCourses'!O81,\" \")","v":" "},{"$f":"IF('2024NewCourses'!$A81=\"Yes\",'2024NewCourses'!P81,\" \")","v":" "},{"$f":"IF('2024NewCourses'!$A81=\"Yes\",'2024NewCourses'!Q81,\" \")","v":" "},{"$f":"IF('2024NewCourses'!$A81=\"Yes\",'2024NewCourses'!R81,\" \")","v":" "},{"$f":"IF('2024NewCourses'!$A81=\"Yes\",'2024NewCourses'!S81,\" \")","v":" "},{"$f":"IF('2024NewCourses'!$A81=\"Yes\",'2024NewCourses'!T81,\" \")","v":" "},{"$f":"IF('2024NewCourses'!$A81=\"Yes\",'2024NewCourses'!U81,\" \")","v":" "},{"$f":"IF('2024NewCourses'!$A81=\"Yes\",'2024NewCourses'!V81,\" \")","v":" "},{"$f":"IF('2024NewCourses'!$A81=\"Yes\",'2024NewCourses'!W81,\" \")","v":" "},{"$f":"IF('2024NewCourses'!$A81=\"Yes\",'2024NewCourses'!X81,\" \")","v":" "},{"$f":"IF('2024NewCourses'!$A81=\"Yes\",'2024NewCourses'!Y81,\" \")","v":" "},{"$f":"IF('2024NewCourses'!$A81=\"Yes\",'2024NewCourses'!Z81,\" \")","v":" "},{"$f":"IF('2024NewCourses'!$A81=\"Yes\",'2024NewCourses'!AA81,\" \")","v":" "},{"$f":"IF('2024NewCourses'!$A81=\"Yes\",'2024NewCourses'!AB81,\" \")","v":" "},{"$f":"IF('2024NewCourses'!$A81=\"Yes\",'2024NewCourses'!AC81,\" \")","v":" "},{"$f":"IF('2024NewCourses'!$A81=\"Yes\",'2024NewCourses'!AD81,\" \")","v":" "},{"$f":"IF('2024NewCourses'!$A81=\"Yes\",'2024NewCourses'!AE81,\" \")","v":" "},{"$f":"IF('2024NewCourses'!$A81=\"Yes\",'2024NewCourses'!AF81,\" \")","v":" "},{"$f":"IF('2024NewCourses'!$A81=\"Yes\",'2024NewCourses'!AG81,\" \")","v":" "},{"$f":"IF('2024NewCourses'!$A81=\"Yes\",'2024NewCourses'!AH81,\" \")","v":" "},{"$f":"IF('2024NewCourses'!$A81=\"Yes\",'2024NewCourses'!AI81,\" \")","v":" "},{"$f":"IF('2024NewCourses'!$A81=\"Yes\",'2024NewCourses'!AJ81,\" \")","v":" "},{"$f":"IF('2024NewCourses'!$A81=\"Yes\",'2024NewCourses'!AK81,\" \")","v":" "},{"$f":"IF('2024NewCourses'!$A81=\"Yes\",'2024NewCourses'!AL81,\" \")","v":" "},{"$f":"IF('2024NewCourses'!$A81=\"Yes\",'2024NewCourses'!AM81,\" \")","v":" "},{"$f":"IF('2024NewCourses'!$A81=\"Yes\",'2024NewCourses'!AN81,\" \")","v":" "},{"$f":"IF('2024NewCourses'!$A81=\"Yes\",'2024NewCourses'!AO81,\" \")","v":" "},{"$f":"IF('2024NewCourses'!$A81=\"Yes\",'2024NewCourses'!AP81,\" \")","v":" "},{"$f":"IF('2024NewCourses'!$A81=\"Yes\",'2024NewCourses'!AQ81,\" \")","v":" "},{"$f":"IF('2024NewCourses'!$A81=\"Yes\",'2024NewCourses'!AR81,\" \")","v":" "},{"$f":"IF('2024NewCourses'!$A81=\"Yes\",'2024NewCourses'!AR81,\" \")","v":" "},{"$f":"IF('2024NewCourses'!$A81=\"Yes\",'2024NewCourses'!AS81,\" \")","v":" "},{"$f":"IF('2024NewCourses'!$A81=\"Yes\",'2024NewCourses'!AT81,\" \")","v":" "},{"$f":"IF('2024NewCourses'!$A81=\"Yes\",'2024NewCourses'!AU81,\" \")","v":" "},{"$f":"IF('2024NewCourses'!$A81=\"Yes\",'2024NewCourses'!AV81,\" \")","v":" "},{"$f":"IF('2024NewCourses'!$A81=\"Yes\",'2024NewCourses'!AW81,\" \")","v":" "},{"$f":"IF('2024NewCourses'!$A81=\"Yes\",'2024NewCourses'!AX81,\" \")","v":" "},{"$f":"IF('2024NewCourses'!$A81=\"Yes\",'2024NewCourses'!AY81,\" \")","v":" "},{"$f":"IF('2024NewCourses'!$A81=\"Yes\",'2024NewCourses'!AZ81,\" \")","v":" "},{"$f":"IF('2024NewCourses'!$A81=\"Yes\",'2024NewCourses'!BA81,\" \")","v":" "},{"$f":"IF('2024NewCourses'!$A81=\"Yes\",'2024NewCourses'!BB81,\" \")","v":" "},{"$f":"IF('2024NewCourses'!$A81=\"Yes\",'2024NewCourses'!BC81,\" \")","v":" "},{"$f":"IF('2024NewCourses'!$A81=\"Yes\",'2024NewCourses'!BD81,\" \")","v":" "},{"$f":"IF('2024NewCourses'!$A81=\"Yes\",'2024NewCourses'!BE81,\" \")","v":" "},{"$f":"IF('2024NewCourses'!$A81=\"Yes\",'2024NewCourses'!BF81,\" \")","v":" "},{"$f":"IF('2024NewCourses'!$A81=\"Yes\",'2024NewCourses'!BG81,\" \")","v":" "},{"$f":"IF('2024NewCourses'!$A81=\"Yes\",'2024NewCourses'!BH81,\" \")","v":" "},{"$f":"IF('2024NewCourses'!$A81=\"Yes\",'2024NewCourses'!BI81,\" \")","v":" "},{"$f":"IF('2024NewCourses'!$A81=\"Yes\",'2024NewCourses'!BJ81,\" \")","v":" "}]
[{"$f":"IF('2024NewCourses'!$A82=\"Yes\",'2024NewCourses'!B82,\" \")","v":" "},{"$f":"IF('2024NewCourses'!$A82=\"Yes\",'2024NewCourses'!D82,\" \")","v":" "},{"$f":"IF('2024NewCourses'!$A82=\"Yes\",'2024NewCourses'!F82,\" \")","v":" "},{"$f":"IF('2024NewCourses'!$A82=\"Yes\",'2024NewCourses'!G82,\" \")","v":" "},{"$f":"IF('2024NewCourses'!$A82=\"Yes\",'2024NewCourses'!H82,\" \")","v":" "},{"$f":"IF('2024NewCourses'!$A82=\"Yes\",'2024NewCourses'!J82,\" \")","v":" "},{"$f":"IF('2024NewCourses'!$A82=\"Yes\",'2024NewCourses'!K82,\" \")","v":" "},{"$f":"IF('2024NewCourses'!$A82=\"Yes\",'2024NewCourses'!L82,\" \")","v":" "},{"$f":"IF('2024NewCourses'!$A82=\"Yes\",'2024NewCourses'!M82,\" \")","v":" "},{"$f":"IF('2024NewCourses'!$A82=\"Yes\",'2024NewCourses'!N82,\" \")","v":" "},{"$f":"IF('2024NewCourses'!$A82=\"Yes\",'2024NewCourses'!O82,\" \")","v":" "},{"$f":"IF('2024NewCourses'!$A82=\"Yes\",'2024NewCourses'!P82,\" \")","v":" "},{"$f":"IF('2024NewCourses'!$A82=\"Yes\",'2024NewCourses'!Q82,\" \")","v":" "},{"$f":"IF('2024NewCourses'!$A82=\"Yes\",'2024NewCourses'!R82,\" \")","v":" "},{"$f":"IF('2024NewCourses'!$A82=\"Yes\",'2024NewCourses'!S82,\" \")","v":" "},{"$f":"IF('2024NewCourses'!$A82=\"Yes\",'2024NewCourses'!T82,\" \")","v":" "},{"$f":"IF('2024NewCourses'!$A82=\"Yes\",'2024NewCourses'!U82,\" \")","v":" "},{"$f":"IF('2024NewCourses'!$A82=\"Yes\",'2024NewCourses'!V82,\" \")","v":" "},{"$f":"IF('2024NewCourses'!$A82=\"Yes\",'2024NewCourses'!W82,\" \")","v":" "},{"$f":"IF('2024NewCourses'!$A82=\"Yes\",'2024NewCourses'!X82,\" \")","v":" "},{"$f":"IF('2024NewCourses'!$A82=\"Yes\",'2024NewCourses'!Y82,\" \")","v":" "},{"$f":"IF('2024NewCourses'!$A82=\"Yes\",'2024NewCourses'!Z82,\" \")","v":" "},{"$f":"IF('2024NewCourses'!$A82=\"Yes\",'2024NewCourses'!AA82,\" \")","v":" "},{"$f":"IF('2024NewCourses'!$A82=\"Yes\",'2024NewCourses'!AB82,\" \")","v":" "},{"$f":"IF('2024NewCourses'!$A82=\"Yes\",'2024NewCourses'!AC82,\" \")","v":" "},{"$f":"IF('2024NewCourses'!$A82=\"Yes\",'2024NewCourses'!AD82,\" \")","v":" "},{"$f":"IF('2024NewCourses'!$A82=\"Yes\",'2024NewCourses'!AE82,\" \")","v":" "},{"$f":"IF('2024NewCourses'!$A82=\"Yes\",'2024NewCourses'!AF82,\" \")","v":" "},{"$f":"IF('2024NewCourses'!$A82=\"Yes\",'2024NewCourses'!AG82,\" \")","v":" "},{"$f":"IF('2024NewCourses'!$A82=\"Yes\",'2024NewCourses'!AH82,\" \")","v":" "},{"$f":"IF('2024NewCourses'!$A82=\"Yes\",'2024NewCourses'!AI82,\" \")","v":" "},{"$f":"IF('2024NewCourses'!$A82=\"Yes\",'2024NewCourses'!AJ82,\" \")","v":" "},{"$f":"IF('2024NewCourses'!$A82=\"Yes\",'2024NewCourses'!AK82,\" \")","v":" "},{"$f":"IF('2024NewCourses'!$A82=\"Yes\",'2024NewCourses'!AL82,\" \")","v":" "},{"$f":"IF('2024NewCourses'!$A82=\"Yes\",'2024NewCourses'!AM82,\" \")","v":" "},{"$f":"IF('2024NewCourses'!$A82=\"Yes\",'2024NewCourses'!AN82,\" \")","v":" "},{"$f":"IF('2024NewCourses'!$A82=\"Yes\",'2024NewCourses'!AO82,\" \")","v":" "},{"$f":"IF('2024NewCourses'!$A82=\"Yes\",'2024NewCourses'!AP82,\" \")","v":" "},{"$f":"IF('2024NewCourses'!$A82=\"Yes\",'2024NewCourses'!AQ82,\" \")","v":" "},{"$f":"IF('2024NewCourses'!$A82=\"Yes\",'2024NewCourses'!AR82,\" \")","v":" "},{"$f":"IF('2024NewCourses'!$A82=\"Yes\",'2024NewCourses'!AR82,\" \")","v":" "},{"$f":"IF('2024NewCourses'!$A82=\"Yes\",'2024NewCourses'!AS82,\" \")","v":" "},{"$f":"IF('2024NewCourses'!$A82=\"Yes\",'2024NewCourses'!AT82,\" \")","v":" "},{"$f":"IF('2024NewCourses'!$A82=\"Yes\",'2024NewCourses'!AU82,\" \")","v":" "},{"$f":"IF('2024NewCourses'!$A82=\"Yes\",'2024NewCourses'!AV82,\" \")","v":" "},{"$f":"IF('2024NewCourses'!$A82=\"Yes\",'2024NewCourses'!AW82,\" \")","v":" "},{"$f":"IF('2024NewCourses'!$A82=\"Yes\",'2024NewCourses'!AX82,\" \")","v":" "},{"$f":"IF('2024NewCourses'!$A82=\"Yes\",'2024NewCourses'!AY82,\" \")","v":" "},{"$f":"IF('2024NewCourses'!$A82=\"Yes\",'2024NewCourses'!AZ82,\" \")","v":" "},{"$f":"IF('2024NewCourses'!$A82=\"Yes\",'2024NewCourses'!BA82,\" \")","v":" "},{"$f":"IF('2024NewCourses'!$A82=\"Yes\",'2024NewCourses'!BB82,\" \")","v":" "},{"$f":"IF('2024NewCourses'!$A82=\"Yes\",'2024NewCourses'!BC82,\" \")","v":" "},{"$f":"IF('2024NewCourses'!$A82=\"Yes\",'2024NewCourses'!BD82,\" \")","v":" "},{"$f":"IF('2024NewCourses'!$A82=\"Yes\",'2024NewCourses'!BE82,\" \")","v":" "},{"$f":"IF('2024NewCourses'!$A82=\"Yes\",'2024NewCourses'!BF82,\" \")","v":" "},{"$f":"IF('2024NewCourses'!$A82=\"Yes\",'2024NewCourses'!BG82,\" \")","v":" "},{"$f":"IF('2024NewCourses'!$A82=\"Yes\",'2024NewCourses'!BH82,\" \")","v":" "},{"$f":"IF('2024NewCourses'!$A82=\"Yes\",'2024NewCourses'!BI82,\" \")","v":" "},{"$f":"IF('2024NewCourses'!$A82=\"Yes\",'2024NewCourses'!BJ82,\" \")","v":" "}]
[{"$f":"IF('2024NewCourses'!$A83=\"Yes\",'2024NewCourses'!B83,\" \")","v":" "},{"$f":"IF('2024NewCourses'!$A83=\"Yes\",'2024NewCourses'!D83,\" \")","v":" "},{"$f":"IF('2024NewCourses'!$A83=\"Yes\",'2024NewCourses'!F83,\" \")","v":" "},{"$f":"IF('2024NewCourses'!$A83=\"Yes\",'2024NewCourses'!G83,\" \")","v":" "},{"$f":"IF('2024NewCourses'!$A83=\"Yes\",'2024NewCourses'!H83,\" \")","v":" "},{"$f":"IF('2024NewCourses'!$A83=\"Yes\",'2024NewCourses'!J83,\" \")","v":" "},{"$f":"IF('2024NewCourses'!$A83=\"Yes\",'2024NewCourses'!K83,\" \")","v":" "},{"$f":"IF('2024NewCourses'!$A83=\"Yes\",'2024NewCourses'!L83,\" \")","v":" "},{"$f":"IF('2024NewCourses'!$A83=\"Yes\",'2024NewCourses'!M83,\" \")","v":" "},{"$f":"IF('2024NewCourses'!$A83=\"Yes\",'2024NewCourses'!N83,\" \")","v":" "},{"$f":"IF('2024NewCourses'!$A83=\"Yes\",'2024NewCourses'!O83,\" \")","v":" "},{"$f":"IF('2024NewCourses'!$A83=\"Yes\",'2024NewCourses'!P83,\" \")","v":" "},{"$f":"IF('2024NewCourses'!$A83=\"Yes\",'2024NewCourses'!Q83,\" \")","v":" "},{"$f":"IF('2024NewCourses'!$A83=\"Yes\",'2024NewCourses'!R83,\" \")","v":" "},{"$f":"IF('2024NewCourses'!$A83=\"Yes\",'2024NewCourses'!S83,\" \")","v":" "},{"$f":"IF('2024NewCourses'!$A83=\"Yes\",'2024NewCourses'!T83,\" \")","v":" "},{"$f":"IF('2024NewCourses'!$A83=\"Yes\",'2024NewCourses'!U83,\" \")","v":" "},{"$f":"IF('2024NewCourses'!$A83=\"Yes\",'2024NewCourses'!V83,\" \")","v":" "},{"$f":"IF('2024NewCourses'!$A83=\"Yes\",'2024NewCourses'!W83,\" \")","v":" "},{"$f":"IF('2024NewCourses'!$A83=\"Yes\",'2024NewCourses'!X83,\" \")","v":" "},{"$f":"IF('2024NewCourses'!$A83=\"Yes\",'2024NewCourses'!Y83,\" \")","v":" "},{"$f":"IF('2024NewCourses'!$A83=\"Yes\",'2024NewCourses'!Z83,\" \")","v":" "},{"$f":"IF('2024NewCourses'!$A83=\"Yes\",'2024NewCourses'!AA83,\" \")","v":" "},{"$f":"IF('2024NewCourses'!$A83=\"Yes\",'2024NewCourses'!AB83,\" \")","v":" "},{"$f":"IF('2024NewCourses'!$A83=\"Yes\",'2024NewCourses'!AC83,\" \")","v":" "},{"$f":"IF('2024NewCourses'!$A83=\"Yes\",'2024NewCourses'!AD83,\" \")","v":" "},{"$f":"IF('2024NewCourses'!$A83=\"Yes\",'2024NewCourses'!AE83,\" \")","v":" "},{"$f":"IF('2024NewCourses'!$A83=\"Yes\",'2024NewCourses'!AF83,\" \")","v":" "},{"$f":"IF('2024NewCourses'!$A83=\"Yes\",'2024NewCourses'!AG83,\" \")","v":" "},{"$f":"IF('2024NewCourses'!$A83=\"Yes\",'2024NewCourses'!AH83,\" \")","v":" "},{"$f":"IF('2024NewCourses'!$A83=\"Yes\",'2024NewCourses'!AI83,\" \")","v":" "},{"$f":"IF('2024NewCourses'!$A83=\"Yes\",'2024NewCourses'!AJ83,\" \")","v":" "},{"$f":"IF('2024NewCourses'!$A83=\"Yes\",'2024NewCourses'!AK83,\" \")","v":" "},{"$f":"IF('2024NewCourses'!$A83=\"Yes\",'2024NewCourses'!AL83,\" \")","v":" "},{"$f":"IF('2024NewCourses'!$A83=\"Yes\",'2024NewCourses'!AM83,\" \")","v":" "},{"$f":"IF('2024NewCourses'!$A83=\"Yes\",'2024NewCourses'!AN83,\" \")","v":" "},{"$f":"IF('2024NewCourses'!$A83=\"Yes\",'2024NewCourses'!AO83,\" \")","v":" "},{"$f":"IF('2024NewCourses'!$A83=\"Yes\",'2024NewCourses'!AP83,\" \")","v":" "},{"$f":"IF('2024NewCourses'!$A83=\"Yes\",'2024NewCourses'!AQ83,\" \")","v":" "},{"$f":"IF('2024NewCourses'!$A83=\"Yes\",'2024NewCourses'!AR83,\" \")","v":" "},{"$f":"IF('2024NewCourses'!$A83=\"Yes\",'2024NewCourses'!AR83,\" \")","v":" "},{"$f":"IF('2024NewCourses'!$A83=\"Yes\",'2024NewCourses'!AS83,\" \")","v":" "},{"$f":"IF('2024NewCourses'!$A83=\"Yes\",'2024NewCourses'!AT83,\" \")","v":" "},{"$f":"IF('2024NewCourses'!$A83=\"Yes\",'2024NewCourses'!AU83,\" \")","v":" "},{"$f":"IF('2024NewCourses'!$A83=\"Yes\",'2024NewCourses'!AV83,\" \")","v":" "},{"$f":"IF('2024NewCourses'!$A83=\"Yes\",'2024NewCourses'!AW83,\" \")","v":" "},{"$f":"IF('2024NewCourses'!$A83=\"Yes\",'2024NewCourses'!AX83,\" \")","v":" "},{"$f":"IF('2024NewCourses'!$A83=\"Yes\",'2024NewCourses'!AY83,\" \")","v":" "},{"$f":"IF('2024NewCourses'!$A83=\"Yes\",'2024NewCourses'!AZ83,\" \")","v":" "},{"$f":"IF('2024NewCourses'!$A83=\"Yes\",'2024NewCourses'!BA83,\" \")","v":" "},{"$f":"IF('2024NewCourses'!$A83=\"Yes\",'2024NewCourses'!BB83,\" \")","v":" "},{"$f":"IF('2024NewCourses'!$A83=\"Yes\",'2024NewCourses'!BC83,\" \")","v":" "},{"$f":"IF('2024NewCourses'!$A83=\"Yes\",'2024NewCourses'!BD83,\" \")","v":" "},{"$f":"IF('2024NewCourses'!$A83=\"Yes\",'2024NewCourses'!BE83,\" \")","v":" "},{"$f":"IF('2024NewCourses'!$A83=\"Yes\",'2024NewCourses'!BF83,\" \")","v":" "},{"$f":"IF('2024NewCourses'!$A83=\"Yes\",'2024NewCourses'!BG83,\" \")","v":" "},{"$f":"IF('2024NewCourses'!$A83=\"Yes\",'2024NewCourses'!BH83,\" \")","v":" "},{"$f":"IF('2024NewCourses'!$A83=\"Yes\",'2024NewCourses'!BI83,\" \")","v":" "},{"$f":"IF('2024NewCourses'!$A83=\"Yes\",'2024NewCourses'!BJ83,\" \")","v":" "}]
[{"$f":"IF('2024NewCourses'!$A85=\"Yes\",'2024NewCourses'!B85,\" \")","v":" "},{"$f":"IF('2024NewCourses'!$A85=\"Yes\",'2024NewCourses'!D85,\" \")","v":" "},{"$f":"IF('2024NewCourses'!$A85=\"Yes\",'2024NewCourses'!F85,\" \")","v":" "},{"$f":"IF('2024NewCourses'!$A85=\"Yes\",'2024NewCourses'!G85,\" \")","v":" "},{"$f":"IF('2024NewCourses'!$A85=\"Yes\",'2024NewCourses'!H85,\" \")","v":" "},{"$f":"IF('2024NewCourses'!$A85=\"Yes\",'2024NewCourses'!J85,\" \")","v":" "},{"$f":"IF('2024NewCourses'!$A85=\"Yes\",'2024NewCourses'!K85,\" \")","v":" "},{"$f":"IF('2024NewCourses'!$A85=\"Yes\",'2024NewCourses'!L85,\" \")","v":" "},{"$f":"IF('2024NewCourses'!$A85=\"Yes\",'2024NewCourses'!M85,\" \")","v":" "},{"$f":"IF('2024NewCourses'!$A85=\"Yes\",'2024NewCourses'!N85,\" \")","v":" "},{"$f":"IF('2024NewCourses'!$A85=\"Yes\",'2024NewCourses'!O85,\" \")","v":" "},{"$f":"IF('2024NewCourses'!$A85=\"Yes\",'2024NewCourses'!P85,\" \")","v":" "},{"$f":"IF('2024NewCourses'!$A85=\"Yes\",'2024NewCourses'!Q85,\" \")","v":" "},{"$f":"IF('2024NewCourses'!$A85=\"Yes\",'2024NewCourses'!R85,\" \")","v":" "},{"$f":"IF('2024NewCourses'!$A85=\"Yes\",'2024NewCourses'!S85,\" \")","v":" "},{"$f":"IF('2024NewCourses'!$A85=\"Yes\",'2024NewCourses'!T85,\" \")","v":" "},{"$f":"IF('2024NewCourses'!$A85=\"Yes\",'2024NewCourses'!U85,\" \")","v":" "},{"$f":"IF('2024NewCourses'!$A85=\"Yes\",'2024NewCourses'!V85,\" \")","v":" "},{"$f":"IF('2024NewCourses'!$A85=\"Yes\",'2024NewCourses'!W85,\" \")","v":" "},{"$f":"IF('2024NewCourses'!$A85=\"Yes\",'2024NewCourses'!X85,\" \")","v":" "},{"$f":"IF('2024NewCourses'!$A85=\"Yes\",'2024NewCourses'!Y85,\" \")","v":" "},{"$f":"IF('2024NewCourses'!$A85=\"Yes\",'2024NewCourses'!Z85,\" \")","v":" "},{"$f":"IF('2024NewCourses'!$A85=\"Yes\",'2024NewCourses'!AA85,\" \")","v":" "},{"$f":"IF('2024NewCourses'!$A85=\"Yes\",'2024NewCourses'!AB85,\" \")","v":" "},{"$f":"IF('2024NewCourses'!$A85=\"Yes\",'2024NewCourses'!AC85,\" \")","v":" "},{"$f":"IF('2024NewCourses'!$A85=\"Yes\",'2024NewCourses'!AD85,\" \")","v":" "},{"$f":"IF('2024NewCourses'!$A85=\"Yes\",'2024NewCourses'!AE85,\" \")","v":" "},{"$f":"IF('2024NewCourses'!$A85=\"Yes\",'2024NewCourses'!AF85,\" \")","v":" "},{"$f":"IF('2024NewCourses'!$A85=\"Yes\",'2024NewCourses'!AG85,\" \")","v":" "},{"$f":"IF('2024NewCourses'!$A85=\"Yes\",'2024NewCourses'!AH85,\" \")","v":" "},{"$f":"IF('2024NewCourses'!$A85=\"Yes\",'2024NewCourses'!AI85,\" \")","v":" "},{"$f":"IF('2024NewCourses'!$A85=\"Yes\",'2024NewCourses'!AJ85,\" \")","v":" "},{"$f":"IF('2024NewCourses'!$A85=\"Yes\",'2024NewCourses'!AK85,\" \")","v":" "},{"$f":"IF('2024NewCourses'!$A85=\"Yes\",'2024NewCourses'!AL85,\" \")","v":" "},{"$f":"IF('2024NewCourses'!$A85=\"Yes\",'2024NewCourses'!AM85,\" \")","v":" "},{"$f":"IF('2024NewCourses'!$A85=\"Yes\",'2024NewCourses'!AN85,\" \")","v":" "},{"$f":"IF('2024NewCourses'!$A85=\"Yes\",'2024NewCourses'!AO85,\" \")","v":" "},{"$f":"IF('2024NewCourses'!$A85=\"Yes\",'2024NewCourses'!AP85,\" \")","v":" "},{"$f":"IF('2024NewCourses'!$A85=\"Yes\",'2024NewCourses'!AQ85,\" \")","v":" "},{"$f":"IF('2024NewCourses'!$A85=\"Yes\",'2024NewCourses'!AR85,\" \")","v":" "},{"$f":"IF('2024NewCourses'!$A85=\"Yes\",'2024NewCourses'!AR85,\" \")","v":" "},{"$f":"IF('2024NewCourses'!$A85=\"Yes\",'2024NewCourses'!AS85,\" \")","v":" "},{"$f":"IF('2024NewCourses'!$A85=\"Yes\",'2024NewCourses'!AT85,\" \")","v":" "},{"$f":"IF('2024NewCourses'!$A85=\"Yes\",'2024NewCourses'!AU85,\" \")","v":" "},{"$f":"IF('2024NewCourses'!$A85=\"Yes\",'2024NewCourses'!AV85,\" \")","v":" "},{"$f":"IF('2024NewCourses'!$A85=\"Yes\",'2024NewCourses'!AW85,\" \")","v":" "},{"$f":"IF('2024NewCourses'!$A85=\"Yes\",'2024NewCourses'!AX85,\" \")","v":" "},{"$f":"IF('2024NewCourses'!$A85=\"Yes\",'2024NewCourses'!AY85,\" \")","v":" "},{"$f":"IF('2024NewCourses'!$A85=\"Yes\",'2024NewCourses'!AZ85,\" \")","v":" "},{"$f":"IF('2024NewCourses'!$A85=\"Yes\",'2024NewCourses'!BA85,\" \")","v":" "},{"$f":"IF('2024NewCourses'!$A85=\"Yes\",'2024NewCourses'!BB85,\" \")","v":" "},{"$f":"IF('2024NewCourses'!$A85=\"Yes\",'2024NewCourses'!BC85,\" \")","v":" "},{"$f":"IF('2024NewCourses'!$A85=\"Yes\",'2024NewCourses'!BD85,\" \")","v":" "},{"$f":"IF('2024NewCourses'!$A85=\"Yes\",'2024NewCourses'!BE85,\" \")","v":" "},{"$f":"IF('2024NewCourses'!$A85=\"Yes\",'2024NewCourses'!BF85,\" \")","v":" "},{"$f":"IF('2024NewCourses'!$A85=\"Yes\",'2024NewCourses'!BG85,\" \")","v":" "},{"$f":"IF('2024NewCourses'!$A85=\"Yes\",'2024NewCourses'!BH85,\" \")","v":" "},{"$f":"IF('2024NewCourses'!$A85=\"Yes\",'2024NewCourses'!BI85,\" \")","v":" "},{"$f":"IF('2024NewCourses'!$A85=\"Yes\",'2024NewCourses'!BJ85,\" \")","v":" "}]
[{"$f":"IF('2024NewCourses'!$A86=\"Yes\",'2024NewCourses'!B86,\" \")","v":" "},{"$f":"IF('2024NewCourses'!$A86=\"Yes\",'2024NewCourses'!D86,\" \")","v":" "},{"$f":"IF('2024NewCourses'!$A86=\"Yes\",'2024NewCourses'!F86,\" \")","v":" "},{"$f":"IF('2024NewCourses'!$A86=\"Yes\",'2024NewCourses'!G86,\" \")","v":" "},{"$f":"IF('2024NewCourses'!$A86=\"Yes\",'2024NewCourses'!H86,\" \")","v":" "},{"$f":"IF('2024NewCourses'!$A86=\"Yes\",'2024NewCourses'!J86,\" \")","v":" "},{"$f":"IF('2024NewCourses'!$A86=\"Yes\",'2024NewCourses'!K86,\" \")","v":" "},{"$f":"IF('2024NewCourses'!$A86=\"Yes\",'2024NewCourses'!L86,\" \")","v":" "},{"$f":"IF('2024NewCourses'!$A86=\"Yes\",'2024NewCourses'!M86,\" \")","v":" "},{"$f":"IF('2024NewCourses'!$A86=\"Yes\",'2024NewCourses'!N86,\" \")","v":" "},{"$f":"IF('2024NewCourses'!$A86=\"Yes\",'2024NewCourses'!O86,\" \")","v":" "},{"$f":"IF('2024NewCourses'!$A86=\"Yes\",'2024NewCourses'!P86,\" \")","v":" "},{"$f":"IF('2024NewCourses'!$A86=\"Yes\",'2024NewCourses'!Q86,\" \")","v":" "},{"$f":"IF('2024NewCourses'!$A86=\"Yes\",'2024NewCourses'!R86,\" \")","v":" "},{"$f":"IF('2024NewCourses'!$A86=\"Yes\",'2024NewCourses'!S86,\" \")","v":" "},{"$f":"IF('2024NewCourses'!$A86=\"Yes\",'2024NewCourses'!T86,\" \")","v":" "},{"$f":"IF('2024NewCourses'!$A86=\"Yes\",'2024NewCourses'!U86,\" \")","v":" "},{"$f":"IF('2024NewCourses'!$A86=\"Yes\",'2024NewCourses'!V86,\" \")","v":" "},{"$f":"IF('2024NewCourses'!$A86=\"Yes\",'2024NewCourses'!W86,\" \")","v":" "},{"$f":"IF('2024NewCourses'!$A86=\"Yes\",'2024NewCourses'!X86,\" \")","v":" "},{"$f":"IF('2024NewCourses'!$A86=\"Yes\",'2024NewCourses'!Y86,\" \")","v":" "},{"$f":"IF('2024NewCourses'!$A86=\"Yes\",'2024NewCourses'!Z86,\" \")","v":" "},{"$f":"IF('2024NewCourses'!$A86=\"Yes\",'2024NewCourses'!AA86,\" \")","v":" "},{"$f":"IF('2024NewCourses'!$A86=\"Yes\",'2024NewCourses'!AB86,\" \")","v":" "},{"$f":"IF('2024NewCourses'!$A86=\"Yes\",'2024NewCourses'!AC86,\" \")","v":" "},{"$f":"IF('2024NewCourses'!$A86=\"Yes\",'2024NewCourses'!AD86,\" \")","v":" "},{"$f":"IF('2024NewCourses'!$A86=\"Yes\",'2024NewCourses'!AE86,\" \")","v":" "},{"$f":"IF('2024NewCourses'!$A86=\"Yes\",'2024NewCourses'!AF86,\" \")","v":" "},{"$f":"IF('2024NewCourses'!$A86=\"Yes\",'2024NewCourses'!AG86,\" \")","v":" "},{"$f":"IF('2024NewCourses'!$A86=\"Yes\",'2024NewCourses'!AH86,\" \")","v":" "},{"$f":"IF('2024NewCourses'!$A86=\"Yes\",'2024NewCourses'!AI86,\" \")","v":" "},{"$f":"IF('2024NewCourses'!$A86=\"Yes\",'2024NewCourses'!AJ86,\" \")","v":" "},{"$f":"IF('2024NewCourses'!$A86=\"Yes\",'2024NewCourses'!AK86,\" \")","v":" "},{"$f":"IF('2024NewCourses'!$A86=\"Yes\",'2024NewCourses'!AL86,\" \")","v":" "},{"$f":"IF('2024NewCourses'!$A86=\"Yes\",'2024NewCourses'!AM86,\" \")","v":" "},{"$f":"IF('2024NewCourses'!$A86=\"Yes\",'2024NewCourses'!AN86,\" \")","v":" "},{"$f":"IF('2024NewCourses'!$A86=\"Yes\",'2024NewCourses'!AO86,\" \")","v":" "},{"$f":"IF('2024NewCourses'!$A86=\"Yes\",'2024NewCourses'!AP86,\" \")","v":" "},{"$f":"IF('2024NewCourses'!$A86=\"Yes\",'2024NewCourses'!AQ86,\" \")","v":" "},{"$f":"IF('2024NewCourses'!$A86=\"Yes\",'2024NewCourses'!AR86,\" \")","v":" "},{"$f":"IF('2024NewCourses'!$A86=\"Yes\",'2024NewCourses'!AR86,\" \")","v":" "},{"$f":"IF('2024NewCourses'!$A86=\"Yes\",'2024NewCourses'!AS86,\" \")","v":" "},{"$f":"IF('2024NewCourses'!$A86=\"Yes\",'2024NewCourses'!AT86,\" \")","v":" "},{"$f":"IF('2024NewCourses'!$A86=\"Yes\",'2024NewCourses'!AU86,\" \")","v":" "},{"$f":"IF('2024NewCourses'!$A86=\"Yes\",'2024NewCourses'!AV86,\" \")","v":" "},{"$f":"IF('2024NewCourses'!$A86=\"Yes\",'2024NewCourses'!AW86,\" \")","v":" "},{"$f":"IF('2024NewCourses'!$A86=\"Yes\",'2024NewCourses'!AX86,\" \")","v":" "},{"$f":"IF('2024NewCourses'!$A86=\"Yes\",'2024NewCourses'!AY86,\" \")","v":" "},{"$f":"IF('2024NewCourses'!$A86=\"Yes\",'2024NewCourses'!AZ86,\" \")","v":" "},{"$f":"IF('2024NewCourses'!$A86=\"Yes\",'2024NewCourses'!BA86,\" \")","v":" "},{"$f":"IF('2024NewCourses'!$A86=\"Yes\",'2024NewCourses'!BB86,\" \")","v":" "},{"$f":"IF('2024NewCourses'!$A86=\"Yes\",'2024NewCourses'!BC86,\" \")","v":" "},{"$f":"IF('2024NewCourses'!$A86=\"Yes\",'2024NewCourses'!BD86,\" \")","v":" "},{"$f":"IF('2024NewCourses'!$A86=\"Yes\",'2024NewCourses'!BE86,\" \")","v":" "},{"$f":"IF('2024NewCourses'!$A86=\"Yes\",'2024NewCourses'!BF86,\" \")","v":" "},{"$f":"IF('2024NewCourses'!$A86=\"Yes\",'2024NewCourses'!BG86,\" \")","v":" "},{"$f":"IF('2024NewCourses'!$A86=\"Yes\",'2024NewCourses'!BH86,\" \")","v":" "},{"$f":"IF('2024NewCourses'!$A86=\"Yes\",'2024NewCourses'!BI86,\" \")","v":" "},{"$f":"IF('2024NewCourses'!$A86=\"Yes\",'2024NewCourses'!BJ86,\" \")","v":" "}]
[{"$f":"IF('2024NewCourses'!$A87=\"Yes\",'2024NewCourses'!B87,\" \")","v":" "},{"$f":"IF('2024NewCourses'!$A87=\"Yes\",'2024NewCourses'!D87,\" \")","v":" "},{"$f":"IF('2024NewCourses'!$A87=\"Yes\",'2024NewCourses'!F87,\" \")","v":" "},{"$f":"IF('2024NewCourses'!$A87=\"Yes\",'2024NewCourses'!G87,\" \")","v":" "},{"$f":"IF('2024NewCourses'!$A87=\"Yes\",'2024NewCourses'!H87,\" \")","v":" "},{"$f":"IF('2024NewCourses'!$A87=\"Yes\",'2024NewCourses'!J87,\" \")","v":" "},{"$f":"IF('2024NewCourses'!$A87=\"Yes\",'2024NewCourses'!K87,\" \")","v":" "},{"$f":"IF('2024NewCourses'!$A87=\"Yes\",'2024NewCourses'!L87,\" \")","v":" "},{"$f":"IF('2024NewCourses'!$A87=\"Yes\",'2024NewCourses'!M87,\" \")","v":" "},{"$f":"IF('2024NewCourses'!$A87=\"Yes\",'2024NewCourses'!N87,\" \")","v":" "},{"$f":"IF('2024NewCourses'!$A87=\"Yes\",'2024NewCourses'!O87,\" \")","v":" "},{"$f":"IF('2024NewCourses'!$A87=\"Yes\",'2024NewCourses'!P87,\" \")","v":" "},{"$f":"IF('2024NewCourses'!$A87=\"Yes\",'2024NewCourses'!Q87,\" \")","v":" "},{"$f":"IF('2024NewCourses'!$A87=\"Yes\",'2024NewCourses'!R87,\" \")","v":" "},{"$f":"IF('2024NewCourses'!$A87=\"Yes\",'2024NewCourses'!S87,\" \")","v":" "},{"$f":"IF('2024NewCourses'!$A87=\"Yes\",'2024NewCourses'!T87,\" \")","v":" "},{"$f":"IF('2024NewCourses'!$A87=\"Yes\",'2024NewCourses'!U87,\" \")","v":" "},{"$f":"IF('2024NewCourses'!$A87=\"Yes\",'2024NewCourses'!V87,\" \")","v":" "},{"$f":"IF('2024NewCourses'!$A87=\"Yes\",'2024NewCourses'!W87,\" \")","v":" "},{"$f":"IF('2024NewCourses'!$A87=\"Yes\",'2024NewCourses'!X87,\" \")","v":" "},{"$f":"IF('2024NewCourses'!$A87=\"Yes\",'2024NewCourses'!Y87,\" \")","v":" "},{"$f":"IF('2024NewCourses'!$A87=\"Yes\",'2024NewCourses'!Z87,\" \")","v":" "},{"$f":"IF('2024NewCourses'!$A87=\"Yes\",'2024NewCourses'!AA87,\" \")","v":" "},{"$f":"IF('2024NewCourses'!$A87=\"Yes\",'2024NewCourses'!AB87,\" \")","v":" "},{"$f":"IF('2024NewCourses'!$A87=\"Yes\",'2024NewCourses'!AC87,\" \")","v":" "},{"$f":"IF('2024NewCourses'!$A87=\"Yes\",'2024NewCourses'!AD87,\" \")","v":" "},{"$f":"IF('2024NewCourses'!$A87=\"Yes\",'2024NewCourses'!AE87,\" \")","v":" "},{"$f":"IF('2024NewCourses'!$A87=\"Yes\",'2024NewCourses'!AF87,\" \")","v":" "},{"$f":"IF('2024NewCourses'!$A87=\"Yes\",'2024NewCourses'!AG87,\" \")","v":" "},{"$f":"IF('2024NewCourses'!$A87=\"Yes\",'2024NewCourses'!AH87,\" \")","v":" "},{"$f":"IF('2024NewCourses'!$A87=\"Yes\",'2024NewCourses'!AI87,\" \")","v":" "},{"$f":"IF('2024NewCourses'!$A87=\"Yes\",'2024NewCourses'!AJ87,\" \")","v":" "},{"$f":"IF('2024NewCourses'!$A87=\"Yes\",'2024NewCourses'!AK87,\" \")","v":" "},{"$f":"IF('2024NewCourses'!$A87=\"Yes\",'2024NewCourses'!AL87,\" \")","v":" "},{"$f":"IF('2024NewCourses'!$A87=\"Yes\",'2024NewCourses'!AM87,\" \")","v":" "},{"$f":"IF('2024NewCourses'!$A87=\"Yes\",'2024NewCourses'!AN87,\" \")","v":" "},{"$f":"IF('2024NewCourses'!$A87=\"Yes\",'2024NewCourses'!AO87,\" \")","v":" "},{"$f":"IF('2024NewCourses'!$A87=\"Yes\",'2024NewCourses'!AP87,\" \")","v":" "},{"$f":"IF('2024NewCourses'!$A87=\"Yes\",'2024NewCourses'!AQ87,\" \")","v":" "},{"$f":"IF('2024NewCourses'!$A87=\"Yes\",'2024NewCourses'!AR87,\" \")","v":" "},{"$f":"IF('2024NewCourses'!$A87=\"Yes\",'2024NewCourses'!AR87,\" \")","v":" "},{"$f":"IF('2024NewCourses'!$A87=\"Yes\",'2024NewCourses'!AS87,\" \")","v":" "},{"$f":"IF('2024NewCourses'!$A87=\"Yes\",'2024NewCourses'!AT87,\" \")","v":" "},{"$f":"IF('2024NewCourses'!$A87=\"Yes\",'2024NewCourses'!AU87,\" \")","v":" "},{"$f":"IF('2024NewCourses'!$A87=\"Yes\",'2024NewCourses'!AV87,\" \")","v":" "},{"$f":"IF('2024NewCourses'!$A87=\"Yes\",'2024NewCourses'!AW87,\" \")","v":" "},{"$f":"IF('2024NewCourses'!$A87=\"Yes\",'2024NewCourses'!AX87,\" \")","v":" "},{"$f":"IF('2024NewCourses'!$A87=\"Yes\",'2024NewCourses'!AY87,\" \")","v":" "},{"$f":"IF('2024NewCourses'!$A87=\"Yes\",'2024NewCourses'!AZ87,\" \")","v":" "},{"$f":"IF('2024NewCourses'!$A87=\"Yes\",'2024NewCourses'!BA87,\" \")","v":" "},{"$f":"IF('2024NewCourses'!$A87=\"Yes\",'2024NewCourses'!BB87,\" \")","v":" "},{"$f":"IF('2024NewCourses'!$A87=\"Yes\",'2024NewCourses'!BC87,\" \")","v":" "},{"$f":"IF('2024NewCourses'!$A87=\"Yes\",'2024NewCourses'!BD87,\" \")","v":" "},{"$f":"IF('2024NewCourses'!$A87=\"Yes\",'2024NewCourses'!BE87,\" \")","v":" "},{"$f":"IF('2024NewCourses'!$A87=\"Yes\",'2024NewCourses'!BF87,\" \")","v":" "},{"$f":"IF('2024NewCourses'!$A87=\"Yes\",'2024NewCourses'!BG87,\" \")","v":" "},{"$f":"IF('2024NewCourses'!$A87=\"Yes\",'2024NewCourses'!BH87,\" \")","v":" "},{"$f":"IF('2024NewCourses'!$A87=\"Yes\",'2024NewCourses'!BI87,\" \")","v":" "},{"$f":"IF('2024NewCourses'!$A87=\"Yes\",'2024NewCourses'!BJ87,\" \")","v":" "}]
[{"$f":"IF('2024NewCourses'!$A88=\"Yes\",'2024NewCourses'!B88,\" \")","v":" "},{"$f":"IF('2024NewCourses'!$A88=\"Yes\",'2024NewCourses'!D88,\" \")","v":" "},{"$f":"IF('2024NewCourses'!$A88=\"Yes\",'2024NewCourses'!F88,\" \")","v":" "},{"$f":"IF('2024NewCourses'!$A88=\"Yes\",'2024NewCourses'!G88,\" \")","v":" "},{"$f":"IF('2024NewCourses'!$A88=\"Yes\",'2024NewCourses'!H88,\" \")","v":" "},{"$f":"IF('2024NewCourses'!$A88=\"Yes\",'2024NewCourses'!J88,\" \")","v":" "},{"$f":"IF('2024NewCourses'!$A88=\"Yes\",'2024NewCourses'!K88,\" \")","v":" "},{"$f":"IF('2024NewCourses'!$A88=\"Yes\",'2024NewCourses'!L88,\" \")","v":" "},{"$f":"IF('2024NewCourses'!$A88=\"Yes\",'2024NewCourses'!M88,\" \")","v":" "},{"$f":"IF('2024NewCourses'!$A88=\"Yes\",'2024NewCourses'!N88,\" \")","v":" "},{"$f":"IF('2024NewCourses'!$A88=\"Yes\",'2024NewCourses'!O88,\" \")","v":" "},{"$f":"IF('2024NewCourses'!$A88=\"Yes\",'2024NewCourses'!P88,\" \")","v":" "},{"$f":"IF('2024NewCourses'!$A88=\"Yes\",'2024NewCourses'!Q88,\" \")","v":" "},{"$f":"IF('2024NewCourses'!$A88=\"Yes\",'2024NewCourses'!R88,\" \")","v":" "},{"$f":"IF('2024NewCourses'!$A88=\"Yes\",'2024NewCourses'!S88,\" \")","v":" "},{"$f":"IF('2024NewCourses'!$A88=\"Yes\",'2024NewCourses'!T88,\" \")","v":" "},{"$f":"IF('2024NewCourses'!$A88=\"Yes\",'2024NewCourses'!U88,\" \")","v":" "},{"$f":"IF('2024NewCourses'!$A88=\"Yes\",'2024NewCourses'!V88,\" \")","v":" "},{"$f":"IF('2024NewCourses'!$A88=\"Yes\",'2024NewCourses'!W88,\" \")","v":" "},{"$f":"IF('2024NewCourses'!$A88=\"Yes\",'2024NewCourses'!X88,\" \")","v":" "},{"$f":"IF('2024NewCourses'!$A88=\"Yes\",'2024NewCourses'!Y88,\" \")","v":" "},{"$f":"IF('2024NewCourses'!$A88=\"Yes\",'2024NewCourses'!Z88,\" \")","v":" "},{"$f":"IF('2024NewCourses'!$A88=\"Yes\",'2024NewCourses'!AA88,\" \")","v":" "},{"$f":"IF('2024NewCourses'!$A88=\"Yes\",'2024NewCourses'!AB88,\" \")","v":" "},{"$f":"IF('2024NewCourses'!$A88=\"Yes\",'2024NewCourses'!AC88,\" \")","v":" "},{"$f":"IF('2024NewCourses'!$A88=\"Yes\",'2024NewCourses'!AD88,\" \")","v":" "},{"$f":"IF('2024NewCourses'!$A88=\"Yes\",'2024NewCourses'!AE88,\" \")","v":" "},{"$f":"IF('2024NewCourses'!$A88=\"Yes\",'2024NewCourses'!AF88,\" \")","v":" "},{"$f":"IF('2024NewCourses'!$A88=\"Yes\",'2024NewCourses'!AG88,\" \")","v":" "},{"$f":"IF('2024NewCourses'!$A88=\"Yes\",'2024NewCourses'!AH88,\" \")","v":" "},{"$f":"IF('2024NewCourses'!$A88=\"Yes\",'2024NewCourses'!AI88,\" \")","v":" "},{"$f":"IF('2024NewCourses'!$A88=\"Yes\",'2024NewCourses'!AJ88,\" \")","v":" "},{"$f":"IF('2024NewCourses'!$A88=\"Yes\",'2024NewCourses'!AK88,\" \")","v":" "},{"$f":"IF('2024NewCourses'!$A88=\"Yes\",'2024NewCourses'!AL88,\" \")","v":" "},{"$f":"IF('2024NewCourses'!$A88=\"Yes\",'2024NewCourses'!AM88,\" \")","v":" "},{"$f":"IF('2024NewCourses'!$A88=\"Yes\",'2024NewCourses'!AN88,\" \")","v":" "},{"$f":"IF('2024NewCourses'!$A88=\"Yes\",'2024NewCourses'!AO88,\" \")","v":" "},{"$f":"IF('2024NewCourses'!$A88=\"Yes\",'2024NewCourses'!AP88,\" \")","v":" "},{"$f":"IF('2024NewCourses'!$A88=\"Yes\",'2024NewCourses'!AQ88,\" \")","v":" "},{"$f":"IF('2024NewCourses'!$A88=\"Yes\",'2024NewCourses'!AR88,\" \")","v":" "},{"$f":"IF('2024NewCourses'!$A88=\"Yes\",'2024NewCourses'!AR88,\" \")","v":" "},{"$f":"IF('2024NewCourses'!$A88=\"Yes\",'2024NewCourses'!AS88,\" \")","v":" "},{"$f":"IF('2024NewCourses'!$A88=\"Yes\",'2024NewCourses'!AT88,\" \")","v":" "},{"$f":"IF('2024NewCourses'!$A88=\"Yes\",'2024NewCourses'!AU88,\" \")","v":" "},{"$f":"IF('2024NewCourses'!$A88=\"Yes\",'2024NewCourses'!AV88,\" \")","v":" "},{"$f":"IF('2024NewCourses'!$A88=\"Yes\",'2024NewCourses'!AW88,\" \")","v":" "},{"$f":"IF('2024NewCourses'!$A88=\"Yes\",'2024NewCourses'!AX88,\" \")","v":" "},{"$f":"IF('2024NewCourses'!$A88=\"Yes\",'2024NewCourses'!AY88,\" \")","v":" "},{"$f":"IF('2024NewCourses'!$A88=\"Yes\",'2024NewCourses'!AZ88,\" \")","v":" "},{"$f":"IF('2024NewCourses'!$A88=\"Yes\",'2024NewCourses'!BA88,\" \")","v":" "},{"$f":"IF('2024NewCourses'!$A88=\"Yes\",'2024NewCourses'!BB88,\" \")","v":" "},{"$f":"IF('2024NewCourses'!$A88=\"Yes\",'2024NewCourses'!BC88,\" \")","v":" "},{"$f":"IF('2024NewCourses'!$A88=\"Yes\",'2024NewCourses'!BD88,\" \")","v":" "},{"$f":"IF('2024NewCourses'!$A88=\"Yes\",'2024NewCourses'!BE88,\" \")","v":" "},{"$f":"IF('2024NewCourses'!$A88=\"Yes\",'2024NewCourses'!BF88,\" \")","v":" "},{"$f":"IF('2024NewCourses'!$A88=\"Yes\",'2024NewCourses'!BG88,\" \")","v":" "},{"$f":"IF('2024NewCourses'!$A88=\"Yes\",'2024NewCourses'!BH88,\" \")","v":" "},{"$f":"IF('2024NewCourses'!$A88=\"Yes\",'2024NewCourses'!BI88,\" \")","v":" "},{"$f":"IF('2024NewCourses'!$A88=\"Yes\",'2024NewCourses'!BJ88,\" \")","v":" "}]
[{"$f":"IF('2024NewCourses'!$A89=\"Yes\",'2024NewCourses'!B89,\" \")","v":" "},{"$f":"IF('2024NewCourses'!$A89=\"Yes\",'2024NewCourses'!D89,\" \")","v":" "},{"$f":"IF('2024NewCourses'!$A89=\"Yes\",'2024NewCourses'!F89,\" \")","v":" "},{"$f":"IF('2024NewCourses'!$A89=\"Yes\",'2024NewCourses'!G89,\" \")","v":" "},{"$f":"IF('2024NewCourses'!$A89=\"Yes\",'2024NewCourses'!H89,\" \")","v":" "},{"$f":"IF('2024NewCourses'!$A89=\"Yes\",'2024NewCourses'!J89,\" \")","v":" "},{"$f":"IF('2024NewCourses'!$A89=\"Yes\",'2024NewCourses'!K89,\" \")","v":" "},{"$f":"IF('2024NewCourses'!$A89=\"Yes\",'2024NewCourses'!L89,\" \")","v":" "},{"$f":"IF('2024NewCourses'!$A89=\"Yes\",'2024NewCourses'!M89,\" \")","v":" "},{"$f":"IF('2024NewCourses'!$A89=\"Yes\",'2024NewCourses'!N89,\" \")","v":" "},{"$f":"IF('2024NewCourses'!$A89=\"Yes\",'2024NewCourses'!O89,\" \")","v":" "},{"$f":"IF('2024NewCourses'!$A89=\"Yes\",'2024NewCourses'!P89,\" \")","v":" "},{"$f":"IF('2024NewCourses'!$A89=\"Yes\",'2024NewCourses'!Q89,\" \")","v":" "},{"$f":"IF('2024NewCourses'!$A89=\"Yes\",'2024NewCourses'!R89,\" \")","v":" "},{"$f":"IF('2024NewCourses'!$A89=\"Yes\",'2024NewCourses'!S89,\" \")","v":" "},{"$f":"IF('2024NewCourses'!$A89=\"Yes\",'2024NewCourses'!T89,\" \")","v":" "},{"$f":"IF('2024NewCourses'!$A89=\"Yes\",'2024NewCourses'!U89,\" \")","v":" "},{"$f":"IF('2024NewCourses'!$A89=\"Yes\",'2024NewCourses'!V89,\" \")","v":" "},{"$f":"IF('2024NewCourses'!$A89=\"Yes\",'2024NewCourses'!W89,\" \")","v":" "},{"$f":"IF('2024NewCourses'!$A89=\"Yes\",'2024NewCourses'!X89,\" \")","v":" "},{"$f":"IF('2024NewCourses'!$A89=\"Yes\",'2024NewCourses'!Y89,\" \")","v":" "},{"$f":"IF('2024NewCourses'!$A89=\"Yes\",'2024NewCourses'!Z89,\" \")","v":" "},{"$f":"IF('2024NewCourses'!$A89=\"Yes\",'2024NewCourses'!AA89,\" \")","v":" "},{"$f":"IF('2024NewCourses'!$A89=\"Yes\",'2024NewCourses'!AB89,\" \")","v":" "},{"$f":"IF('2024NewCourses'!$A89=\"Yes\",'2024NewCourses'!AC89,\" \")","v":" "},{"$f":"IF('2024NewCourses'!$A89=\"Yes\",'2024NewCourses'!AD89,\" \")","v":" "},{"$f":"IF('2024NewCourses'!$A89=\"Yes\",'2024NewCourses'!AE89,\" \")","v":" "},{"$f":"IF('2024NewCourses'!$A89=\"Yes\",'2024NewCourses'!AF89,\" \")","v":" "},{"$f":"IF('2024NewCourses'!$A89=\"Yes\",'2024NewCourses'!AG89,\" \")","v":" "},{"$f":"IF('2024NewCourses'!$A89=\"Yes\",'2024NewCourses'!AH89,\" \")","v":" "},{"$f":"IF('2024NewCourses'!$A89=\"Yes\",'2024NewCourses'!AI89,\" \")","v":" "},{"$f":"IF('2024NewCourses'!$A89=\"Yes\",'2024NewCourses'!AJ89,\" \")","v":" "},{"$f":"IF('2024NewCourses'!$A89=\"Yes\",'2024NewCourses'!AK89,\" \")","v":" "},{"$f":"IF('2024NewCourses'!$A89=\"Yes\",'2024NewCourses'!AL89,\" \")","v":" "},{"$f":"IF('2024NewCourses'!$A89=\"Yes\",'2024NewCourses'!AM89,\" \")","v":" "},{"$f":"IF('2024NewCourses'!$A89=\"Yes\",'2024NewCourses'!AN89,\" \")","v":" "},{"$f":"IF('2024NewCourses'!$A89=\"Yes\",'2024NewCourses'!AO89,\" \")","v":" "},{"$f":"IF('2024NewCourses'!$A89=\"Yes\",'2024NewCourses'!AP89,\" \")","v":" "},{"$f":"IF('2024NewCourses'!$A89=\"Yes\",'2024NewCourses'!AQ89,\" \")","v":" "},{"$f":"IF('2024NewCourses'!$A89=\"Yes\",'2024NewCourses'!AR89,\" \")","v":" "},{"$f":"IF('2024NewCourses'!$A89=\"Yes\",'2024NewCourses'!AR89,\" \")","v":" "},{"$f":"IF('2024NewCourses'!$A89=\"Yes\",'2024NewCourses'!AS89,\" \")","v":" "},{"$f":"IF('2024NewCourses'!$A89=\"Yes\",'2024NewCourses'!AT89,\" \")","v":" "},{"$f":"IF('2024NewCourses'!$A89=\"Yes\",'2024NewCourses'!AU89,\" \")","v":" "},{"$f":"IF('2024NewCourses'!$A89=\"Yes\",'2024NewCourses'!AV89,\" \")","v":" "},{"$f":"IF('2024NewCourses'!$A89=\"Yes\",'2024NewCourses'!AW89,\" \")","v":" "},{"$f":"IF('2024NewCourses'!$A89=\"Yes\",'2024NewCourses'!AX89,\" \")","v":" "},{"$f":"IF('2024NewCourses'!$A89=\"Yes\",'2024NewCourses'!AY89,\" \")","v":" "},{"$f":"IF('2024NewCourses'!$A89=\"Yes\",'2024NewCourses'!AZ89,\" \")","v":" "},{"$f":"IF('2024NewCourses'!$A89=\"Yes\",'2024NewCourses'!BA89,\" \")","v":" "},{"$f":"IF('2024NewCourses'!$A89=\"Yes\",'2024NewCourses'!BB89,\" \")","v":" "},{"$f":"IF('2024NewCourses'!$A89=\"Yes\",'2024NewCourses'!BC89,\" \")","v":" "},{"$f":"IF('2024NewCourses'!$A89=\"Yes\",'2024NewCourses'!BD89,\" \")","v":" "},{"$f":"IF('2024NewCourses'!$A89=\"Yes\",'2024NewCourses'!BE89,\" \")","v":" "},{"$f":"IF('2024NewCourses'!$A89=\"Yes\",'2024NewCourses'!BF89,\" \")","v":" "},{"$f":"IF('2024NewCourses'!$A89=\"Yes\",'2024NewCourses'!BG89,\" \")","v":" "},{"$f":"IF('2024NewCourses'!$A89=\"Yes\",'2024NewCourses'!BH89,\" \")","v":" "},{"$f":"IF('2024NewCourses'!$A89=\"Yes\",'2024NewCourses'!BI89,\" \")","v":" "},{"$f":"IF('2024NewCourses'!$A89=\"Yes\",'2024NewCourses'!BJ89,\" \")","v":" "}]
[{"$f":"IF('2024NewCourses'!$A90=\"Yes\",'2024NewCourses'!B90,\" \")","v":" "},{"$f":"IF('2024NewCourses'!$A90=\"Yes\",'2024NewCourses'!D90,\" \")","v":" "},{"$f":"IF('2024NewCourses'!$A90=\"Yes\",'2024NewCourses'!F90,\" \")","v":" "},{"$f":"IF('2024NewCourses'!$A90=\"Yes\",'2024NewCourses'!G90,\" \")","v":" "},{"$f":"IF('2024NewCourses'!$A90=\"Yes\",'2024NewCourses'!H90,\" \")","v":" "},{"$f":"IF('2024NewCourses'!$A90=\"Yes\",'2024NewCourses'!J90,\" \")","v":" "},{"$f":"IF('2024NewCourses'!$A90=\"Yes\",'2024NewCourses'!K90,\" \")","v":" "},{"$f":"IF('2024NewCourses'!$A90=\"Yes\",'2024NewCourses'!L90,\" \")","v":" "},{"$f":"IF('2024NewCourses'!$A90=\"Yes\",'2024NewCourses'!M90,\" \")","v":" "},{"$f":"IF('2024NewCourses'!$A90=\"Yes\",'2024NewCourses'!N90,\" \")","v":" "},{"$f":"IF('2024NewCourses'!$A90=\"Yes\",'2024NewCourses'!O90,\" \")","v":" "},{"$f":"IF('2024NewCourses'!$A90=\"Yes\",'2024NewCourses'!P90,\" \")","v":" "},{"$f":"IF('2024NewCourses'!$A90=\"Yes\",'2024NewCourses'!Q90,\" \")","v":" "},{"$f":"IF('2024NewCourses'!$A90=\"Yes\",'2024NewCourses'!R90,\" \")","v":" "},{"$f":"IF('2024NewCourses'!$A90=\"Yes\",'2024NewCourses'!S90,\" \")","v":" "},{"$f":"IF('2024NewCourses'!$A90=\"Yes\",'2024NewCourses'!T90,\" \")","v":" "},{"$f":"IF('2024NewCourses'!$A90=\"Yes\",'2024NewCourses'!U90,\" \")","v":" "},{"$f":"IF('2024NewCourses'!$A90=\"Yes\",'2024NewCourses'!V90,\" \")","v":" "},{"$f":"IF('2024NewCourses'!$A90=\"Yes\",'2024NewCourses'!W90,\" \")","v":" "},{"$f":"IF('2024NewCourses'!$A90=\"Yes\",'2024NewCourses'!X90,\" \")","v":" "},{"$f":"IF('2024NewCourses'!$A90=\"Yes\",'2024NewCourses'!Y90,\" \")","v":" "},{"$f":"IF('2024NewCourses'!$A90=\"Yes\",'2024NewCourses'!Z90,\" \")","v":" "},{"$f":"IF('2024NewCourses'!$A90=\"Yes\",'2024NewCourses'!AA90,\" \")","v":" "},{"$f":"IF('2024NewCourses'!$A90=\"Yes\",'2024NewCourses'!AB90,\" \")","v":" "},{"$f":"IF('2024NewCourses'!$A90=\"Yes\",'2024NewCourses'!AC90,\" \")","v":" "},{"$f":"IF('2024NewCourses'!$A90=\"Yes\",'2024NewCourses'!AD90,\" \")","v":" "},{"$f":"IF('2024NewCourses'!$A90=\"Yes\",'2024NewCourses'!AE90,\" \")","v":" "},{"$f":"IF('2024NewCourses'!$A90=\"Yes\",'2024NewCourses'!AF90,\" \")","v":" "},{"$f":"IF('2024NewCourses'!$A90=\"Yes\",'2024NewCourses'!AG90,\" \")","v":" "},{"$f":"IF('2024NewCourses'!$A90=\"Yes\",'2024NewCourses'!AH90,\" \")","v":" "},{"$f":"IF('2024NewCourses'!$A90=\"Yes\",'2024NewCourses'!AI90,\" \")","v":" "},{"$f":"IF('2024NewCourses'!$A90=\"Yes\",'2024NewCourses'!AJ90,\" \")","v":" "},{"$f":"IF('2024NewCourses'!$A90=\"Yes\",'2024NewCourses'!AK90,\" \")","v":" "},{"$f":"IF('2024NewCourses'!$A90=\"Yes\",'2024NewCourses'!AL90,\" \")","v":" "},{"$f":"IF('2024NewCourses'!$A90=\"Yes\",'2024NewCourses'!AM90,\" \")","v":" "},{"$f":"IF('2024NewCourses'!$A90=\"Yes\",'2024NewCourses'!AN90,\" \")","v":" "},{"$f":"IF('2024NewCourses'!$A90=\"Yes\",'2024NewCourses'!AO90,\" \")","v":" "},{"$f":"IF('2024NewCourses'!$A90=\"Yes\",'2024NewCourses'!AP90,\" \")","v":" "},{"$f":"IF('2024NewCourses'!$A90=\"Yes\",'2024NewCourses'!AQ90,\" \")","v":" "},{"$f":"IF('2024NewCourses'!$A90=\"Yes\",'2024NewCourses'!AR90,\" \")","v":" "},{"$f":"IF('2024NewCourses'!$A90=\"Yes\",'2024NewCourses'!AR90,\" \")","v":" "},{"$f":"IF('2024NewCourses'!$A90=\"Yes\",'2024NewCourses'!AS90,\" \")","v":" "},{"$f":"IF('2024NewCourses'!$A90=\"Yes\",'2024NewCourses'!AT90,\" \")","v":" "},{"$f":"IF('2024NewCourses'!$A90=\"Yes\",'2024NewCourses'!AU90,\" \")","v":" "},{"$f":"IF('2024NewCourses'!$A90=\"Yes\",'2024NewCourses'!AV90,\" \")","v":" "},{"$f":"IF('2024NewCourses'!$A90=\"Yes\",'2024NewCourses'!AW90,\" \")","v":" "},{"$f":"IF('2024NewCourses'!$A90=\"Yes\",'2024NewCourses'!AX90,\" \")","v":" "},{"$f":"IF('2024NewCourses'!$A90=\"Yes\",'2024NewCourses'!AY90,\" \")","v":" "},{"$f":"IF('2024NewCourses'!$A90=\"Yes\",'2024NewCourses'!AZ90,\" \")","v":" "},{"$f":"IF('2024NewCourses'!$A90=\"Yes\",'2024NewCourses'!BA90,\" \")","v":" "},{"$f":"IF('2024NewCourses'!$A90=\"Yes\",'2024NewCourses'!BB90,\" \")","v":" "},{"$f":"IF('2024NewCourses'!$A90=\"Yes\",'2024NewCourses'!BC90,\" \")","v":" "},{"$f":"IF('2024NewCourses'!$A90=\"Yes\",'2024NewCourses'!BD90,\" \")","v":" "},{"$f":"IF('2024NewCourses'!$A90=\"Yes\",'2024NewCourses'!BE90,\" \")","v":" "},{"$f":"IF('2024NewCourses'!$A90=\"Yes\",'2024NewCourses'!BF90,\" \")","v":" "},{"$f":"IF('2024NewCourses'!$A90=\"Yes\",'2024NewCourses'!BG90,\" \")","v":" "},{"$f":"IF('2024NewCourses'!$A90=\"Yes\",'2024NewCourses'!BH90,\" \")","v":" "},{"$f":"IF('2024NewCourses'!$A90=\"Yes\",'2024NewCourses'!BI90,\" \")","v":" "},{"$f":"IF('2024NewCourses'!$A90=\"Yes\",'2024NewCourses'!BJ90,\" \")","v":" "}]
[{"$f":"IF('2024NewCourses'!$A91=\"Yes\",'2024NewCourses'!B91,\" \")","v":" "},{"$f":"IF('2024NewCourses'!$A91=\"Yes\",'2024NewCourses'!D91,\" \")","v":" "},{"$f":"IF('2024NewCourses'!$A91=\"Yes\",'2024NewCourses'!F91,\" \")","v":" "},{"$f":"IF('2024NewCourses'!$A91=\"Yes\",'2024NewCourses'!G91,\" \")","v":" "},{"$f":"IF('2024NewCourses'!$A91=\"Yes\",'2024NewCourses'!H91,\" \")","v":" "},{"$f":"IF('2024NewCourses'!$A91=\"Yes\",'2024NewCourses'!J91,\" \")","v":" "},{"$f":"IF('2024NewCourses'!$A91=\"Yes\",'2024NewCourses'!K91,\" \")","v":" "},{"$f":"IF('2024NewCourses'!$A91=\"Yes\",'2024NewCourses'!L91,\" \")","v":" "},{"$f":"IF('2024NewCourses'!$A91=\"Yes\",'2024NewCourses'!M91,\" \")","v":" "},{"$f":"IF('2024NewCourses'!$A91=\"Yes\",'2024NewCourses'!N91,\" \")","v":" "},{"$f":"IF('2024NewCourses'!$A91=\"Yes\",'2024NewCourses'!O91,\" \")","v":" "},{"$f":"IF('2024NewCourses'!$A91=\"Yes\",'2024NewCourses'!P91,\" \")","v":" "},{"$f":"IF('2024NewCourses'!$A91=\"Yes\",'2024NewCourses'!Q91,\" \")","v":" "},{"$f":"IF('2024NewCourses'!$A91=\"Yes\",'2024NewCourses'!R91,\" \")","v":" "},{"$f":"IF('2024NewCourses'!$A91=\"Yes\",'2024NewCourses'!S91,\" \")","v":" "},{"$f":"IF('2024NewCourses'!$A91=\"Yes\",'2024NewCourses'!T91,\" \")","v":" "},{"$f":"IF('2024NewCourses'!$A91=\"Yes\",'2024NewCourses'!U91,\" \")","v":" "},{"$f":"IF('2024NewCourses'!$A91=\"Yes\",'2024NewCourses'!V91,\" \")","v":" "},{"$f":"IF('2024NewCourses'!$A91=\"Yes\",'2024NewCourses'!W91,\" \")","v":" "},{"$f":"IF('2024NewCourses'!$A91=\"Yes\",'2024NewCourses'!X91,\" \")","v":" "},{"$f":"IF('2024NewCourses'!$A91=\"Yes\",'2024NewCourses'!Y91,\" \")","v":" "},{"$f":"IF('2024NewCourses'!$A91=\"Yes\",'2024NewCourses'!Z91,\" \")","v":" "},{"$f":"IF('2024NewCourses'!$A91=\"Yes\",'2024NewCourses'!AA91,\" \")","v":" "},{"$f":"IF('2024NewCourses'!$A91=\"Yes\",'2024NewCourses'!AB91,\" \")","v":" "},{"$f":"IF('2024NewCourses'!$A91=\"Yes\",'2024NewCourses'!AC91,\" \")","v":" "},{"$f":"IF('2024NewCourses'!$A91=\"Yes\",'2024NewCourses'!AD91,\" \")","v":" "},{"$f":"IF('2024NewCourses'!$A91=\"Yes\",'2024NewCourses'!AE91,\" \")","v":" "},{"$f":"IF('2024NewCourses'!$A91=\"Yes\",'2024NewCourses'!AF91,\" \")","v":" "},{"$f":"IF('2024NewCourses'!$A91=\"Yes\",'2024NewCourses'!AG91,\" \")","v":" "},{"$f":"IF('2024NewCourses'!$A91=\"Yes\",'2024NewCourses'!AH91,\" \")","v":" "},{"$f":"IF('2024NewCourses'!$A91=\"Yes\",'2024NewCourses'!AI91,\" \")","v":" "},{"$f":"IF('2024NewCourses'!$A91=\"Yes\",'2024NewCourses'!AJ91,\" \")","v":" "},{"$f":"IF('2024NewCourses'!$A91=\"Yes\",'2024NewCourses'!AK91,\" \")","v":" "},{"$f":"IF('2024NewCourses'!$A91=\"Yes\",'2024NewCourses'!AL91,\" \")","v":" "},{"$f":"IF('2024NewCourses'!$A91=\"Yes\",'2024NewCourses'!AM91,\" \")","v":" "},{"$f":"IF('2024NewCourses'!$A91=\"Yes\",'2024NewCourses'!AN91,\" \")","v":" "},{"$f":"IF('2024NewCourses'!$A91=\"Yes\",'2024NewCourses'!AO91,\" \")","v":" "},{"$f":"IF('2024NewCourses'!$A91=\"Yes\",'2024NewCourses'!AP91,\" \")","v":" "},{"$f":"IF('2024NewCourses'!$A91=\"Yes\",'2024NewCourses'!AQ91,\" \")","v":" "},{"$f":"IF('2024NewCourses'!$A91=\"Yes\",'2024NewCourses'!AR91,\" \")","v":" "},{"$f":"IF('2024NewCourses'!$A91=\"Yes\",'2024NewCourses'!AR91,\" \")","v":" "},{"$f":"IF('2024NewCourses'!$A91=\"Yes\",'2024NewCourses'!AS91,\" \")","v":" "},{"$f":"IF('2024NewCourses'!$A91=\"Yes\",'2024NewCourses'!AT91,\" \")","v":" "},{"$f":"IF('2024NewCourses'!$A91=\"Yes\",'2024NewCourses'!AU91,\" \")","v":" "},{"$f":"IF('2024NewCourses'!$A91=\"Yes\",'2024NewCourses'!AV91,\" \")","v":" "},{"$f":"IF('2024NewCourses'!$A91=\"Yes\",'2024NewCourses'!AW91,\" \")","v":" "},{"$f":"IF('2024NewCourses'!$A91=\"Yes\",'2024NewCourses'!AX91,\" \")","v":" "},{"$f":"IF('2024NewCourses'!$A91=\"Yes\",'2024NewCourses'!AY91,\" \")","v":" "},{"$f":"IF('2024NewCourses'!$A91=\"Yes\",'2024NewCourses'!AZ91,\" \")","v":" "},{"$f":"IF('2024NewCourses'!$A91=\"Yes\",'2024NewCourses'!BA91,\" \")","v":" "},{"$f":"IF('2024NewCourses'!$A91=\"Yes\",'2024NewCourses'!BB91,\" \")","v":" "},{"$f":"IF('2024NewCourses'!$A91=\"Yes\",'2024NewCourses'!BC91,\" \")","v":" "},{"$f":"IF('2024NewCourses'!$A91=\"Yes\",'2024NewCourses'!BD91,\" \")","v":" "},{"$f":"IF('2024NewCourses'!$A91=\"Yes\",'2024NewCourses'!BE91,\" \")","v":" "},{"$f":"IF('2024NewCourses'!$A91=\"Yes\",'2024NewCourses'!BF91,\" \")","v":" "},{"$f":"IF('2024NewCourses'!$A91=\"Yes\",'2024NewCourses'!BG91,\" \")","v":" "},{"$f":"IF('2024NewCourses'!$A91=\"Yes\",'2024NewCourses'!BH91,\" \")","v":" "},{"$f":"IF('2024NewCourses'!$A91=\"Yes\",'2024NewCourses'!BI91,\" \")","v":" "},{"$f":"IF('2024NewCourses'!$A91=\"Yes\",'2024NewCourses'!BJ91,\" \")","v":" "}]
[{"$f":"IF('2024NewCourses'!$A92=\"Yes\",'2024NewCourses'!B92,\" \")","v":" "},{"$f":"IF('2024NewCourses'!$A92=\"Yes\",'2024NewCourses'!D92,\" \")","v":" "},{"$f":"IF('2024NewCourses'!$A92=\"Yes\",'2024NewCourses'!F92,\" \")","v":" "},{"$f":"IF('2024NewCourses'!$A92=\"Yes\",'2024NewCourses'!G92,\" \")","v":" "},{"$f":"IF('2024NewCourses'!$A92=\"Yes\",'2024NewCourses'!H92,\" \")","v":" "},{"$f":"IF('2024NewCourses'!$A92=\"Yes\",'2024NewCourses'!J92,\" \")","v":" "},{"$f":"IF('2024NewCourses'!$A92=\"Yes\",'2024NewCourses'!K92,\" \")","v":" "},{"$f":"IF('2024NewCourses'!$A92=\"Yes\",'2024NewCourses'!L92,\" \")","v":" "},{"$f":"IF('2024NewCourses'!$A92=\"Yes\",'2024NewCourses'!M92,\" \")","v":" "},{"$f":"IF('2024NewCourses'!$A92=\"Yes\",'2024NewCourses'!N92,\" \")","v":" "},{"$f":"IF('2024NewCourses'!$A92=\"Yes\",'2024NewCourses'!O92,\" \")","v":" "},{"$f":"IF('2024NewCourses'!$A92=\"Yes\",'2024NewCourses'!P92,\" \")","v":" "},{"$f":"IF('2024NewCourses'!$A92=\"Yes\",'2024NewCourses'!Q92,\" \")","v":" "},{"$f":"IF('2024NewCourses'!$A92=\"Yes\",'2024NewCourses'!R92,\" \")","v":" "},{"$f":"IF('2024NewCourses'!$A92=\"Yes\",'2024NewCourses'!S92,\" \")","v":" "},{"$f":"IF('2024NewCourses'!$A92=\"Yes\",'2024NewCourses'!T92,\" \")","v":" "},{"$f":"IF('2024NewCourses'!$A92=\"Yes\",'2024NewCourses'!U92,\" \")","v":" "},{"$f":"IF('2024NewCourses'!$A92=\"Yes\",'2024NewCourses'!V92,\" \")","v":" "},{"$f":"IF('2024NewCourses'!$A92=\"Yes\",'2024NewCourses'!W92,\" \")","v":" "},{"$f":"IF('2024NewCourses'!$A92=\"Yes\",'2024NewCourses'!X92,\" \")","v":" "},{"$f":"IF('2024NewCourses'!$A92=\"Yes\",'2024NewCourses'!Y92,\" \")","v":" "},{"$f":"IF('2024NewCourses'!$A92=\"Yes\",'2024NewCourses'!Z92,\" \")","v":" "},{"$f":"IF('2024NewCourses'!$A92=\"Yes\",'2024NewCourses'!AA92,\" \")","v":" "},{"$f":"IF('2024NewCourses'!$A92=\"Yes\",'2024NewCourses'!AB92,\" \")","v":" "},{"$f":"IF('2024NewCourses'!$A92=\"Yes\",'2024NewCourses'!AC92,\" \")","v":" "},{"$f":"IF('2024NewCourses'!$A92=\"Yes\",'2024NewCourses'!AD92,\" \")","v":" "},{"$f":"IF('2024NewCourses'!$A92=\"Yes\",'2024NewCourses'!AE92,\" \")","v":" "},{"$f":"IF('2024NewCourses'!$A92=\"Yes\",'2024NewCourses'!AF92,\" \")","v":" "},{"$f":"IF('2024NewCourses'!$A92=\"Yes\",'2024NewCourses'!AG92,\" \")","v":" "},{"$f":"IF('2024NewCourses'!$A92=\"Yes\",'2024NewCourses'!AH92,\" \")","v":" "},{"$f":"IF('2024NewCourses'!$A92=\"Yes\",'2024NewCourses'!AI92,\" \")","v":" "},{"$f":"IF('2024NewCourses'!$A92=\"Yes\",'2024NewCourses'!AJ92,\" \")","v":" "},{"$f":"IF('2024NewCourses'!$A92=\"Yes\",'2024NewCourses'!AK92,\" \")","v":" "},{"$f":"IF('2024NewCourses'!$A92=\"Yes\",'2024NewCourses'!AL92,\" \")","v":" "},{"$f":"IF('2024NewCourses'!$A92=\"Yes\",'2024NewCourses'!AM92,\" \")","v":" "},{"$f":"IF('2024NewCourses'!$A92=\"Yes\",'2024NewCourses'!AN92,\" \")","v":" "},{"$f":"IF('2024NewCourses'!$A92=\"Yes\",'2024NewCourses'!AO92,\" \")","v":" "},{"$f":"IF('2024NewCourses'!$A92=\"Yes\",'2024NewCourses'!AP92,\" \")","v":" "},{"$f":"IF('2024NewCourses'!$A92=\"Yes\",'2024NewCourses'!AQ92,\" \")","v":" "},{"$f":"IF('2024NewCourses'!$A92=\"Yes\",'2024NewCourses'!AR92,\" \")","v":" "},{"$f":"IF('2024NewCourses'!$A92=\"Yes\",'2024NewCourses'!AR92,\" \")","v":" "},{"$f":"IF('2024NewCourses'!$A92=\"Yes\",'2024NewCourses'!AS92,\" \")","v":" "},{"$f":"IF('2024NewCourses'!$A92=\"Yes\",'2024NewCourses'!AT92,\" \")","v":" "},{"$f":"IF('2024NewCourses'!$A92=\"Yes\",'2024NewCourses'!AU92,\" \")","v":" "},{"$f":"IF('2024NewCourses'!$A92=\"Yes\",'2024NewCourses'!AV92,\" \")","v":" "},{"$f":"IF('2024NewCourses'!$A92=\"Yes\",'2024NewCourses'!AW92,\" \")","v":" "},{"$f":"IF('2024NewCourses'!$A92=\"Yes\",'2024NewCourses'!AX92,\" \")","v":" "},{"$f":"IF('2024NewCourses'!$A92=\"Yes\",'2024NewCourses'!AY92,\" \")","v":" "},{"$f":"IF('2024NewCourses'!$A92=\"Yes\",'2024NewCourses'!AZ92,\" \")","v":" "},{"$f":"IF('2024NewCourses'!$A92=\"Yes\",'2024NewCourses'!BA92,\" \")","v":" "},{"$f":"IF('2024NewCourses'!$A92=\"Yes\",'2024NewCourses'!BB92,\" \")","v":" "},{"$f":"IF('2024NewCourses'!$A92=\"Yes\",'2024NewCourses'!BC92,\" \")","v":" "},{"$f":"IF('2024NewCourses'!$A92=\"Yes\",'2024NewCourses'!BD92,\" \")","v":" "},{"$f":"IF('2024NewCourses'!$A92=\"Yes\",'2024NewCourses'!BE92,\" \")","v":" "},{"$f":"IF('2024NewCourses'!$A92=\"Yes\",'2024NewCourses'!BF92,\" \")","v":" "},{"$f":"IF('2024NewCourses'!$A92=\"Yes\",'2024NewCourses'!BG92,\" \")","v":" "},{"$f":"IF('2024NewCourses'!$A92=\"Yes\",'2024NewCourses'!BH92,\" \")","v":" "},{"$f":"IF('2024NewCourses'!$A92=\"Yes\",'2024NewCourses'!BI92,\" \")","v":" "},{"$f":"IF('2024NewCourses'!$A92=\"Yes\",'2024NewCourses'!BJ92,\" \")","v":" "}]
[{"$f":"IF('2024NewCourses'!$A93=\"Yes\",'2024NewCourses'!B93,\" \")","v":" "},{"$f":"IF('2024NewCourses'!$A93=\"Yes\",'2024NewCourses'!D93,\" \")","v":" "},{"$f":"IF('2024NewCourses'!$A93=\"Yes\",'2024NewCourses'!F93,\" \")","v":" "},{"$f":"IF('2024NewCourses'!$A93=\"Yes\",'2024NewCourses'!G93,\" \")","v":" "},{"$f":"IF('2024NewCourses'!$A93=\"Yes\",'2024NewCourses'!H93,\" \")","v":" "},{"$f":"IF('2024NewCourses'!$A93=\"Yes\",'2024NewCourses'!J93,\" \")","v":" "},{"$f":"IF('2024NewCourses'!$A93=\"Yes\",'2024NewCourses'!K93,\" \")","v":" "},{"$f":"IF('2024NewCourses'!$A93=\"Yes\",'2024NewCourses'!L93,\" \")","v":" "},{"$f":"IF('2024NewCourses'!$A93=\"Yes\",'2024NewCourses'!M93,\" \")","v":" "},{"$f":"IF('2024NewCourses'!$A93=\"Yes\",'2024NewCourses'!N93,\" \")","v":" "},{"$f":"IF('2024NewCourses'!$A93=\"Yes\",'2024NewCourses'!O93,\" \")","v":" "},{"$f":"IF('2024NewCourses'!$A93=\"Yes\",'2024NewCourses'!P93,\" \")","v":" "},{"$f":"IF('2024NewCourses'!$A93=\"Yes\",'2024NewCourses'!Q93,\" \")","v":" "},{"$f":"IF('2024NewCourses'!$A93=\"Yes\",'2024NewCourses'!R93,\" \")","v":" "},{"$f":"IF('2024NewCourses'!$A93=\"Yes\",'2024NewCourses'!S93,\" \")","v":" "},{"$f":"IF('2024NewCourses'!$A93=\"Yes\",'2024NewCourses'!T93,\" \")","v":" "},{"$f":"IF('2024NewCourses'!$A93=\"Yes\",'2024NewCourses'!U93,\" \")","v":" "},{"$f":"IF('2024NewCourses'!$A93=\"Yes\",'2024NewCourses'!V93,\" \")","v":" "},{"$f":"IF('2024NewCourses'!$A93=\"Yes\",'2024NewCourses'!W93,\" \")","v":" "},{"$f":"IF('2024NewCourses'!$A93=\"Yes\",'2024NewCourses'!X93,\" \")","v":" "},{"$f":"IF('2024NewCourses'!$A93=\"Yes\",'2024NewCourses'!Y93,\" \")","v":" "},{"$f":"IF('2024NewCourses'!$A93=\"Yes\",'2024NewCourses'!Z93,\" \")","v":" "},{"$f":"IF('2024NewCourses'!$A93=\"Yes\",'2024NewCourses'!AA93,\" \")","v":" "},{"$f":"IF('2024NewCourses'!$A93=\"Yes\",'2024NewCourses'!AB93,\" \")","v":" "},{"$f":"IF('2024NewCourses'!$A93=\"Yes\",'2024NewCourses'!AC93,\" \")","v":" "},{"$f":"IF('2024NewCourses'!$A93=\"Yes\",'2024NewCourses'!AD93,\" \")","v":" "},{"$f":"IF('2024NewCourses'!$A93=\"Yes\",'2024NewCourses'!AE93,\" \")","v":" "},{"$f":"IF('2024NewCourses'!$A93=\"Yes\",'2024NewCourses'!AF93,\" \")","v":" "},{"$f":"IF('2024NewCourses'!$A93=\"Yes\",'2024NewCourses'!AG93,\" \")","v":" "},{"$f":"IF('2024NewCourses'!$A93=\"Yes\",'2024NewCourses'!AH93,\" \")","v":" "},{"$f":"IF('2024NewCourses'!$A93=\"Yes\",'2024NewCourses'!AI93,\" \")","v":" "},{"$f":"IF('2024NewCourses'!$A93=\"Yes\",'2024NewCourses'!AJ93,\" \")","v":" "},{"$f":"IF('2024NewCourses'!$A93=\"Yes\",'2024NewCourses'!AK93,\" \")","v":" "},{"$f":"IF('2024NewCourses'!$A93=\"Yes\",'2024NewCourses'!AL93,\" \")","v":" "},{"$f":"IF('2024NewCourses'!$A93=\"Yes\",'2024NewCourses'!AM93,\" \")","v":" "},{"$f":"IF('2024NewCourses'!$A93=\"Yes\",'2024NewCourses'!AN93,\" \")","v":" "},{"$f":"IF('2024NewCourses'!$A93=\"Yes\",'2024NewCourses'!AO93,\" \")","v":" "},{"$f":"IF('2024NewCourses'!$A93=\"Yes\",'2024NewCourses'!AP93,\" \")","v":" "},{"$f":"IF('2024NewCourses'!$A93=\"Yes\",'2024NewCourses'!AQ93,\" \")","v":" "},{"$f":"IF('2024NewCourses'!$A93=\"Yes\",'2024NewCourses'!AR93,\" \")","v":" "},{"$f":"IF('2024NewCourses'!$A93=\"Yes\",'2024NewCourses'!AR93,\" \")","v":" "},{"$f":"IF('2024NewCourses'!$A93=\"Yes\",'2024NewCourses'!AS93,\" \")","v":" "},{"$f":"IF('2024NewCourses'!$A93=\"Yes\",'2024NewCourses'!AT93,\" \")","v":" "},{"$f":"IF('2024NewCourses'!$A93=\"Yes\",'2024NewCourses'!AU93,\" \")","v":" "},{"$f":"IF('2024NewCourses'!$A93=\"Yes\",'2024NewCourses'!AV93,\" \")","v":" "},{"$f":"IF('2024NewCourses'!$A93=\"Yes\",'2024NewCourses'!AW93,\" \")","v":" "},{"$f":"IF('2024NewCourses'!$A93=\"Yes\",'2024NewCourses'!AX93,\" \")","v":" "},{"$f":"IF('2024NewCourses'!$A93=\"Yes\",'2024NewCourses'!AY93,\" \")","v":" "},{"$f":"IF('2024NewCourses'!$A93=\"Yes\",'2024NewCourses'!AZ93,\" \")","v":" "},{"$f":"IF('2024NewCourses'!$A93=\"Yes\",'2024NewCourses'!BA93,\" \")","v":" "},{"$f":"IF('2024NewCourses'!$A93=\"Yes\",'2024NewCourses'!BB93,\" \")","v":" "},{"$f":"IF('2024NewCourses'!$A93=\"Yes\",'2024NewCourses'!BC93,\" \")","v":" "},{"$f":"IF('2024NewCourses'!$A93=\"Yes\",'2024NewCourses'!BD93,\" \")","v":" "},{"$f":"IF('2024NewCourses'!$A93=\"Yes\",'2024NewCourses'!BE93,\" \")","v":" "},{"$f":"IF('2024NewCourses'!$A93=\"Yes\",'2024NewCourses'!BF93,\" \")","v":" "},{"$f":"IF('2024NewCourses'!$A93=\"Yes\",'2024NewCourses'!BG93,\" \")","v":" "},{"$f":"IF('2024NewCourses'!$A93=\"Yes\",'2024NewCourses'!BH93,\" \")","v":" "},{"$f":"IF('2024NewCourses'!$A93=\"Yes\",'2024NewCourses'!BI93,\" \")","v":" "},{"$f":"IF('2024NewCourses'!$A93=\"Yes\",'2024NewCourses'!BJ93,\" \")","v":" "}]
[{"$f":"IF('2024NewCourses'!$A94=\"Yes\",'2024NewCourses'!B94,\" \")","v":" "},{"$f":"IF('2024NewCourses'!$A94=\"Yes\",'2024NewCourses'!D94,\" \")","v":" "},{"$f":"IF('2024NewCourses'!$A94=\"Yes\",'2024NewCourses'!F94,\" \")","v":" "},{"$f":"IF('2024NewCourses'!$A94=\"Yes\",'2024NewCourses'!G94,\" \")","v":" "},{"$f":"IF('2024NewCourses'!$A94=\"Yes\",'2024NewCourses'!H94,\" \")","v":" "},{"$f":"IF('2024NewCourses'!$A94=\"Yes\",'2024NewCourses'!J94,\" \")","v":" "},{"$f":"IF('2024NewCourses'!$A94=\"Yes\",'2024NewCourses'!K94,\" \")","v":" "},{"$f":"IF('2024NewCourses'!$A94=\"Yes\",'2024NewCourses'!L94,\" \")","v":" "},{"$f":"IF('2024NewCourses'!$A94=\"Yes\",'2024NewCourses'!M94,\" \")","v":" "},{"$f":"IF('2024NewCourses'!$A94=\"Yes\",'2024NewCourses'!N94,\" \")","v":" "},{"$f":"IF('2024NewCourses'!$A94=\"Yes\",'2024NewCourses'!O94,\" \")","v":" "},{"$f":"IF('2024NewCourses'!$A94=\"Yes\",'2024NewCourses'!P94,\" \")","v":" "},{"$f":"IF('2024NewCourses'!$A94=\"Yes\",'2024NewCourses'!Q94,\" \")","v":" "},{"$f":"IF('2024NewCourses'!$A94=\"Yes\",'2024NewCourses'!R94,\" \")","v":" "},{"$f":"IF('2024NewCourses'!$A94=\"Yes\",'2024NewCourses'!S94,\" \")","v":" "},{"$f":"IF('2024NewCourses'!$A94=\"Yes\",'2024NewCourses'!T94,\" \")","v":" "},{"$f":"IF('2024NewCourses'!$A94=\"Yes\",'2024NewCourses'!U94,\" \")","v":" "},{"$f":"IF('2024NewCourses'!$A94=\"Yes\",'2024NewCourses'!V94,\" \")","v":" "},{"$f":"IF('2024NewCourses'!$A94=\"Yes\",'2024NewCourses'!W94,\" \")","v":" "},{"$f":"IF('2024NewCourses'!$A94=\"Yes\",'2024NewCourses'!X94,\" \")","v":" "},{"$f":"IF('2024NewCourses'!$A94=\"Yes\",'2024NewCourses'!Y94,\" \")","v":" "},{"$f":"IF('2024NewCourses'!$A94=\"Yes\",'2024NewCourses'!Z94,\" \")","v":" "},{"$f":"IF('2024NewCourses'!$A94=\"Yes\",'2024NewCourses'!AA94,\" \")","v":" "},{"$f":"IF('2024NewCourses'!$A94=\"Yes\",'2024NewCourses'!AB94,\" \")","v":" "},{"$f":"IF('2024NewCourses'!$A94=\"Yes\",'2024NewCourses'!AC94,\" \")","v":" "},{"$f":"IF('2024NewCourses'!$A94=\"Yes\",'2024NewCourses'!AD94,\" \")","v":" "},{"$f":"IF('2024NewCourses'!$A94=\"Yes\",'2024NewCourses'!AE94,\" \")","v":" "},{"$f":"IF('2024NewCourses'!$A94=\"Yes\",'2024NewCourses'!AF94,\" \")","v":" "},{"$f":"IF('2024NewCourses'!$A94=\"Yes\",'2024NewCourses'!AG94,\" \")","v":" "},{"$f":"IF('2024NewCourses'!$A94=\"Yes\",'2024NewCourses'!AH94,\" \")","v":" "},{"$f":"IF('2024NewCourses'!$A94=\"Yes\",'2024NewCourses'!AI94,\" \")","v":" "},{"$f":"IF('2024NewCourses'!$A94=\"Yes\",'2024NewCourses'!AJ94,\" \")","v":" "},{"$f":"IF('2024NewCourses'!$A94=\"Yes\",'2024NewCourses'!AK94,\" \")","v":" "},{"$f":"IF('2024NewCourses'!$A94=\"Yes\",'2024NewCourses'!AL94,\" \")","v":" "},{"$f":"IF('2024NewCourses'!$A94=\"Yes\",'2024NewCourses'!AM94,\" \")","v":" "},{"$f":"IF('2024NewCourses'!$A94=\"Yes\",'2024NewCourses'!AN94,\" \")","v":" "},{"$f":"IF('2024NewCourses'!$A94=\"Yes\",'2024NewCourses'!AO94,\" \")","v":" "},{"$f":"IF('2024NewCourses'!$A94=\"Yes\",'2024NewCourses'!AP94,\" \")","v":" "},{"$f":"IF('2024NewCourses'!$A94=\"Yes\",'2024NewCourses'!AQ94,\" \")","v":" "},{"$f":"IF('2024NewCourses'!$A94=\"Yes\",'2024NewCourses'!AR94,\" \")","v":" "},{"$f":"IF('2024NewCourses'!$A94=\"Yes\",'2024NewCourses'!AR94,\" \")","v":" "},{"$f":"IF('2024NewCourses'!$A94=\"Yes\",'2024NewCourses'!AS94,\" \")","v":" "},{"$f":"IF('2024NewCourses'!$A94=\"Yes\",'2024NewCourses'!AT94,\" \")","v":" "},{"$f":"IF('2024NewCourses'!$A94=\"Yes\",'2024NewCourses'!AU94,\" \")","v":" "},{"$f":"IF('2024NewCourses'!$A94=\"Yes\",'2024NewCourses'!AV94,\" \")","v":" "},{"$f":"IF('2024NewCourses'!$A94=\"Yes\",'2024NewCourses'!AW94,\" \")","v":" "},{"$f":"IF('2024NewCourses'!$A94=\"Yes\",'2024NewCourses'!AX94,\" \")","v":" "},{"$f":"IF('2024NewCourses'!$A94=\"Yes\",'2024NewCourses'!AY94,\" \")","v":" "},{"$f":"IF('2024NewCourses'!$A94=\"Yes\",'2024NewCourses'!AZ94,\" \")","v":" "},{"$f":"IF('2024NewCourses'!$A94=\"Yes\",'2024NewCourses'!BA94,\" \")","v":" "},{"$f":"IF('2024NewCourses'!$A94=\"Yes\",'2024NewCourses'!BB94,\" \")","v":" "},{"$f":"IF('2024NewCourses'!$A94=\"Yes\",'2024NewCourses'!BC94,\" \")","v":" "},{"$f":"IF('2024NewCourses'!$A94=\"Yes\",'2024NewCourses'!BD94,\" \")","v":" "},{"$f":"IF('2024NewCourses'!$A94=\"Yes\",'2024NewCourses'!BE94,\" \")","v":" "},{"$f":"IF('2024NewCourses'!$A94=\"Yes\",'2024NewCourses'!BF94,\" \")","v":" "},{"$f":"IF('2024NewCourses'!$A94=\"Yes\",'2024NewCourses'!BG94,\" \")","v":" "},{"$f":"IF('2024NewCourses'!$A94=\"Yes\",'2024NewCourses'!BH94,\" \")","v":" "},{"$f":"IF('2024NewCourses'!$A94=\"Yes\",'2024NewCourses'!BI94,\" \")","v":" "},{"$f":"IF('2024NewCourses'!$A94=\"Yes\",'2024NewCourses'!BJ94,\" \")","v":" "}]
[{"$f":"IF('2024NewCourses'!$A95=\"Yes\",'2024NewCourses'!B95,\" \")","v":" "},{"$f":"IF('2024NewCourses'!$A95=\"Yes\",'2024NewCourses'!D95,\" \")","v":" "},{"$f":"IF('2024NewCourses'!$A95=\"Yes\",'2024NewCourses'!F95,\" \")","v":" "},{"$f":"IF('2024NewCourses'!$A95=\"Yes\",'2024NewCourses'!G95,\" \")","v":" "},{"$f":"IF('2024NewCourses'!$A95=\"Yes\",'2024NewCourses'!H95,\" \")","v":" "},{"$f":"IF('2024NewCourses'!$A95=\"Yes\",'2024NewCourses'!J95,\" \")","v":" "},{"$f":"IF('2024NewCourses'!$A95=\"Yes\",'2024NewCourses'!K95,\" \")","v":" "},{"$f":"IF('2024NewCourses'!$A95=\"Yes\",'2024NewCourses'!L95,\" \")","v":" "},{"$f":"IF('2024NewCourses'!$A95=\"Yes\",'2024NewCourses'!M95,\" \")","v":" "},{"$f":"IF('2024NewCourses'!$A95=\"Yes\",'2024NewCourses'!N95,\" \")","v":" "},{"$f":"IF('2024NewCourses'!$A95=\"Yes\",'2024NewCourses'!O95,\" \")","v":" "},{"$f":"IF('2024NewCourses'!$A95=\"Yes\",'2024NewCourses'!P95,\" \")","v":" "},{"$f":"IF('2024NewCourses'!$A95=\"Yes\",'2024NewCourses'!Q95,\" \")","v":" "},{"$f":"IF('2024NewCourses'!$A95=\"Yes\",'2024NewCourses'!R95,\" \")","v":" "},{"$f":"IF('2024NewCourses'!$A95=\"Yes\",'2024NewCourses'!S95,\" \")","v":" "},{"$f":"IF('2024NewCourses'!$A95=\"Yes\",'2024NewCourses'!T95,\" \")","v":" "},{"$f":"IF('2024NewCourses'!$A95=\"Yes\",'2024NewCourses'!U95,\" \")","v":" "},{"$f":"IF('2024NewCourses'!$A95=\"Yes\",'2024NewCourses'!V95,\" \")","v":" "},{"$f":"IF('2024NewCourses'!$A95=\"Yes\",'2024NewCourses'!W95,\" \")","v":" "},{"$f":"IF('2024NewCourses'!$A95=\"Yes\",'2024NewCourses'!X95,\" \")","v":" "},{"$f":"IF('2024NewCourses'!$A95=\"Yes\",'2024NewCourses'!Y95,\" \")","v":" "},{"$f":"IF('2024NewCourses'!$A95=\"Yes\",'2024NewCourses'!Z95,\" \")","v":" "},{"$f":"IF('2024NewCourses'!$A95=\"Yes\",'2024NewCourses'!AA95,\" \")","v":" "},{"$f":"IF('2024NewCourses'!$A95=\"Yes\",'2024NewCourses'!AB95,\" \")","v":" "},{"$f":"IF('2024NewCourses'!$A95=\"Yes\",'2024NewCourses'!AC95,\" \")","v":" "},{"$f":"IF('2024NewCourses'!$A95=\"Yes\",'2024NewCourses'!AD95,\" \")","v":" "},{"$f":"IF('2024NewCourses'!$A95=\"Yes\",'2024NewCourses'!AE95,\" \")","v":" "},{"$f":"IF('2024NewCourses'!$A95=\"Yes\",'2024NewCourses'!AF95,\" \")","v":" "},{"$f":"IF('2024NewCourses'!$A95=\"Yes\",'2024NewCourses'!AG95,\" \")","v":" "},{"$f":"IF('2024NewCourses'!$A95=\"Yes\",'2024NewCourses'!AH95,\" \")","v":" "},{"$f":"IF('2024NewCourses'!$A95=\"Yes\",'2024NewCourses'!AI95,\" \")","v":" "},{"$f":"IF('2024NewCourses'!$A95=\"Yes\",'2024NewCourses'!AJ95,\" \")","v":" "},{"$f":"IF('2024NewCourses'!$A95=\"Yes\",'2024NewCourses'!AK95,\" \")","v":" "},{"$f":"IF('2024NewCourses'!$A95=\"Yes\",'2024NewCourses'!AL95,\" \")","v":" "},{"$f":"IF('2024NewCourses'!$A95=\"Yes\",'2024NewCourses'!AM95,\" \")","v":" "},{"$f":"IF('2024NewCourses'!$A95=\"Yes\",'2024NewCourses'!AN95,\" \")","v":" "},{"$f":"IF('2024NewCourses'!$A95=\"Yes\",'2024NewCourses'!AO95,\" \")","v":" "},{"$f":"IF('2024NewCourses'!$A95=\"Yes\",'2024NewCourses'!AP95,\" \")","v":" "},{"$f":"IF('2024NewCourses'!$A95=\"Yes\",'2024NewCourses'!AQ95,\" \")","v":" "},{"$f":"IF('2024NewCourses'!$A95=\"Yes\",'2024NewCourses'!AR95,\" \")","v":" "},{"$f":"IF('2024NewCourses'!$A95=\"Yes\",'2024NewCourses'!AR95,\" \")","v":" "},{"$f":"IF('2024NewCourses'!$A95=\"Yes\",'2024NewCourses'!AS95,\" \")","v":" "},{"$f":"IF('2024NewCourses'!$A95=\"Yes\",'2024NewCourses'!AT95,\" \")","v":" "},{"$f":"IF('2024NewCourses'!$A95=\"Yes\",'2024NewCourses'!AU95,\" \")","v":" "},{"$f":"IF('2024NewCourses'!$A95=\"Yes\",'2024NewCourses'!AV95,\" \")","v":" "},{"$f":"IF('2024NewCourses'!$A95=\"Yes\",'2024NewCourses'!AW95,\" \")","v":" "},{"$f":"IF('2024NewCourses'!$A95=\"Yes\",'2024NewCourses'!AX95,\" \")","v":" "},{"$f":"IF('2024NewCourses'!$A95=\"Yes\",'2024NewCourses'!AY95,\" \")","v":" "},{"$f":"IF('2024NewCourses'!$A95=\"Yes\",'2024NewCourses'!AZ95,\" \")","v":" "},{"$f":"IF('2024NewCourses'!$A95=\"Yes\",'2024NewCourses'!BA95,\" \")","v":" "},{"$f":"IF('2024NewCourses'!$A95=\"Yes\",'2024NewCourses'!BB95,\" \")","v":" "},{"$f":"IF('2024NewCourses'!$A95=\"Yes\",'2024NewCourses'!BC95,\" \")","v":" "},{"$f":"IF('2024NewCourses'!$A95=\"Yes\",'2024NewCourses'!BD95,\" \")","v":" "},{"$f":"IF('2024NewCourses'!$A95=\"Yes\",'2024NewCourses'!BE95,\" \")","v":" "},{"$f":"IF('2024NewCourses'!$A95=\"Yes\",'2024NewCourses'!BF95,\" \")","v":" "},{"$f":"IF('2024NewCourses'!$A95=\"Yes\",'2024NewCourses'!BG95,\" \")","v":" "},{"$f":"IF('2024NewCourses'!$A95=\"Yes\",'2024NewCourses'!BH95,\" \")","v":" "},{"$f":"IF('2024NewCourses'!$A95=\"Yes\",'2024NewCourses'!BI95,\" \")","v":" "},{"$f":"IF('2024NewCourses'!$A95=\"Yes\",'2024NewCourses'!BJ95,\" \")","v":" "}]

{"sheet":"2024NewCourses","index":1,"n_rows":95,"n_cols":83,"rows_kept":95,"cut":false,"hidden":false,"merged":[[3,51,3,52]]}
["TU_Calcs","Indigo_Course_ID","Database_ID_2024","Indigo_Course_Title","Speaker","2024_Time_Hours","CO_Number_2024","CO_Number_2023","CO_Number_2022","CO_MAX_TUs","CO_W","CO_WW","CO_I","CO_D","CO_C","IDAHO","IN_Approval_Number","IN_Technical_Contact_Hours","IN_General_Contact_Hours","KS_Approval","KS_Water","KS_Wastewater","KS_Audience","MD_Course_Code","MD_Approved_CAT","MD_Process","MD_Hours","MASS_Approval","MASS_TCH","MASS_Audience","MT_Water","MT_Wastewater","MT_Dual","Nebraska_Municipal_Hrs","Nebraska_Industrial_Hrs","NM_Follows_Colorado","NM_Hours","NV_NWEA_Course_No","NV_CEU_Hrs","NV_WW","NV_Drinking Water Approval","OH_Approval_Number_Old","OH_Approval_Number_New","OH_Hours_New","OH_Audience","TN_Activity_Number","TN_WW_hrs","TN_WT_hrs","TN_DS_hrs","TN_CS_hrs","Utah_Approval","Washington_State_CEUs","Washington_State_Approval","WI_Approval_No","WI_Municipal_Waterworks","WI_Wastewater","WY_Cat_No","WY_Area","WY_Total_Hours","WY_Core","WY_Core_Hours","WY_Rules_Hours","Topic_Description","SEO_Title","SEO_Description","Justification","Course_Level","Course_Emphasis","Objective_1","Objective_2","Objective_3","Objective_4","Objective_5","Objective_6","Objective_7","Objective_8","Objective_9","Objective_10","Objective_11","Objective_12"]
["Include in TU Calculations?","Indigo Course ID","2024 Database ID Number","Course Title","Speaker","Total Course Length with Questions, Hours","Colorado Approval No.\n2024","Colorado Approval No.\n2023","Colorado Approval No.\n2022","Colorado Max TUs","Colorado Water TUs","Colorado Wastewater TUs","Colorado Industrial TUs","Colorado Distribution TUs","Colorado Collection System TUs","Idaho Approvals","Indiana Approval No.","Indiana Technical Hrs","Indiana General Hrs","Kansas Approval Number","Kansas Water Hours","Kansas Wastewater Hours","Kansas Audience","Maryland Course Code","Maryland Audience","Maryland Process?","Maryland Hours","Massachusettes Approval","Massachusettes Training Contact Hours","Massachusettes Audience","Montana Water CECs","Montana Wastewater CECs","Montana Dual CECs","Nebraska Municipal Hours","Nebraska Industrial Hours","New Mexico\nTC","New Mexico Hours","Nevada Course No.","Nevada CEU Hours","Nevada Wastewater Approval","Nevada Drinking Water Hours","Ohio Approval No. \n(Pre Nov 2021)","Ohio Approval Number\n(Post Jan 2024)","Ohio Contact Hours (2024)","Ohio Audience","Tennessee Activity Number","Tennessee Wastewater Hours","Tennessee Water Hours","Tennessee Distribution Hours","Tennessee Collection Systems Hours","Utah Approval","Washington State CEUs","Washington Approval No.","Wisconsin Approval No.","Wisconsin Municipal Waterworks","Wisconsin Wastewater","Wyoming Catalog Number","Wyoming\nArea","Wyoming\nHours","Wyoming\nCORE?","Wyoming Core Hours","Wyoming\nRules?","Course Description","SEO_Title","SEO_Description","Justification","Course Level","Course Emphasis","Learning Objective 1","Learning Objective 2","Learning Objective 3","Learning Objective 4","Learning Objective 5","Learning Objective 6","Learning Objective 7","Learning Objective 8","Learning Objective 9","Learning Objective 10","Learning Objective 11","Learning Objective 12"]
[null,"placeholder",null,"placeholder",null,null,null,null,null,1,2,3,4,5,6]
[null,null,null,"Math Modules",null,null,null,null,null,null,null,null,null,null,null,null,null,null,null,null,null,null,null,null,null,null,null,null,null,null,null,null,null,null,null,null,null,null,null,null,null,null,null,null,null,null,null,null,null,null,null,"Washington rounds to nearest hr.",null,null,null,null,null,null,null,null,null," ",null,null,null,null,null,null,null,null,null,null,null,null,null,null,null,null,null,null,null,null,"Yes"]
[null,"MATH-000",363,"Math Strategies for Success","S. Innerebner, PhD, PE",1,"24-05983-002","23-05983-002","22-05983-002",0.1,0.1,0.1,0.1,0.1,0.1,"See NV, WY, or WA","WWT23-3430-T01-G00",1,null,null,null,null,null,"7191-1-11","All Operators","Non-Process",1,null,null,null,null,null,null,"Not approved.","Not approved.","1.0 TC",1,"NV22-133",1,"WW",1,"OPEA-B88474073-OM","IWG-B0100-OM",{"$f":"J5*10","v":1},"Both DW and WW","R23123",1,1,1,1,1,0.1,"ECY22-3139","Not Approved.",null,null,2024.0210999999999,"W, D, WW, C",1,"No",0,"No ","One hour of math strategies to help operators be more successful when approaching math problems.  Rather than teach operators how to use specific formulas or solve one type of problem, this course teaches strategies that may be used to solve many of the math problems operators are likely to encounter in their day-to-day work and on certification exams.  Attendees will learn how to dissect word problems to determine which formula(s) are needed and when unit conversions are needed.  Attendees will learn the order of operations and how to rearrange common equations.","2023 MATH-000 Math Strategies | indigowatergroup.ispringmarket.com","Math strategies to help operators be more successful when approaching math problems.","Being able to solve math problems is critical for day to day operations and passing certification exams. Many operators struggle with solving word problems.","Fundamental","All operators. Math","Use the have / have not strategy to determine which formula is needed.","Recognize when unit conversions are needed.","Successfully convert one unit to another unit.  For example, convert gpm to cfs.","Rearrange equations to solve for an unknown.",null,null,null,null,null,null,null,null,null,null,"No"]
[null,"MATH-001",364,"Unit Conversions","S. Innerebner, PhD, PE",0.5,"24-05984-002","23-05984-002","22-05984-002",0.05,0.05,0.05,0.05,0.05,0.05,"See NV, WY, or WA","WWT23-3431-T0.5-G00",0.5,null,null,null,null,null,"5976-16-11","All Operators","Non-Process",0.5,null,null,null,null,null,null,0.5,0.5,"0.5 TC",0.5,"NV22-134",0.5,"WW",0.5,"OEPA-B579860-OM","IWG-B0101-OM",0.5,"Both DW and WW","Not Approved.",0,0,0,0,0.5,0,"Not Approved","bhgd-1wpg",0.5,0.5,2024.0227,"W, D, WW, C",0.5,"No",0,"No ","Thirty minutes of math problems covering unit conversions.  Participants watch numerous examples followed by working problems on their own and quizzes.","2023 MATH-001 Unit Conversions | indigowatergroup.ispringmarket.com","Thirty minutes of math problems covering unit conversions.  Participants watch numerous examples followed by working problems on their own and quizzes.","Unit conversions are universally needed by operators of all classifications in their day to day duties to solve common math problems such as chemical dosing rates.","Fundamental","All operators. Math","Convert one unit to another using dimensional analysis.  For example gpm to cfs."]
[null,"MATH-002",365,"Geometry","S. Innerebner, PhD, PE",0.5,"24-05985-002","23-05985-002","22-05985-002",0.05,0.05,0.05,0.05,0.05,0.05,"See NV, WY, or WA","WWT23-3432-T0.5-G00",0.5,null,null,null,null,null,"5977-16-11","All Operators & All Superintendents","Non-Process",0.5,null,null,null,null,null,null,0.5,0.5,"0.5 TC",0.5,"NV22-135",0.5,"WW",0.5,"OEPA-B579859-OM","IWG-B0102-OM",0.5,"Both DW and WW","Not Approved.",0,0,0,0,0.5,0,"Not Approved","a7ij-muvr",0.5,0.5,2024.0184999999999,"W, D, WW, C",0.5,"No",0,"No ","Thirty minutes of math problems covering the areas and volumes of tanks.  We even show you how to do the dreaded \"paint the tank\" problem.  Participants watch short videos demonstrating how to solve several different geometry problems.  After each example, participants are asked to try a problem of the same type of their own and enter the answer in a quiz.","2023 MATH-002 Geometry | indigowatergroup.ispringmarket.com","Thirty minutes of math problems covering the areas and volumes of tanks.  We even show you how to do the dreaded \"paint the tank\" problem.","Operators must be able to calculate the volumes of tanks as a first step in many different process control calculations like detention time, MCRT, loading rates, etc.","Fundamental","All operators. Math","Find the area and volume of cylindrical and rectangular tanks.","Calculate the surface area of cylindrical and rectangular tanks."]
[null,"MATH-003",366,"Chemical Dosing","S. Innerebner, PhD, PE",0.5,"24-05986-002","23-05986-002","22-05986-002",0.05,0.05,0.05,0.05,0.05,0.05,"See NV, WY, or WA","WWT23-3433-T0.5-G00",0.5,null,null,null,null,null,"5979-16-10","All Operators","Non-Process",0.5,null,null,null,null,null,null,0.5,0.5,"0.5 TC",0.5,"NV22-136",0.5,"WW",0.5,"OEPA-B579858-OM","IWG-B0103-OM",0.5,"Both DW and WW","Not Approved.",0,0,0,0,0.5,0,"Not Approved","3ttg-jlqy",0.5,0.5,2024.0171,"W, D, WW, C",0.5,"Yes",0.5,"No ","Thirty minutes of math problems focused on chlorine addition -- Dose, Demand, Residual, Pounds per Day, and percent available chlorine are defined.  Attendees watch example problems to calculate each variable and then try similar problems on their own in quiz questions.","2023 MATH-003 Chemical Dosing | indigowatergroup.ispringmarket.com","Thirty minutes of math problems focused on chlorine addition -- Dose, Demand, Residual, Pounds per Day, and percent available chlorine are defined.","Chemical dosing math is used to adjust feed rates for chlorine and other chemicals in water and wastewater treatment systems.","Fundamental","All operators. Math","Understand the difference between dose, demand, and residual.","Calculate Dose, Demand, Residual, or pounds per day given the remaining variables."]
[null,"MATH-004",367,"Velocity and Hydraulic Detention Time","S. Innerebner, PhD, PE",1,"24-05987-001","23-05987-001","22-05987-001",0.1,0.1,0.1,0.1,0.1,0.1,"See NV, WY, or WA","WWT23-3434-T01-G00",1,null,null,null,null,null,"7192-1-22","All Operators","Non-Process",1,null,null,null,null,null,null,0.5,0.5,"1.0 TC",1,"NV22-137",1,"WW",1,"OEPA-B88466595-OM","IWG-B0104-OM",1,"Both DW and WW","R23124",1,1,1,1,1,0.1,"ECY22-3140","Not Approved.",null,null,2024.0229999999999,"W, D, WW, C",1,"Yes",1,"No ","Sixty minutes of math problems focussed on hydraulic detention time and velocity in pipes and open channels.  Attendees watch video examples of math problems being worked followed by performing similar calculations in quizzes.","2023 MATH-004 Velocity and HRT | indigowatergroup.ispringmarket.com","Sixty minutes of math problems focused on hydraulic detention time and velocity in pipes and open channels.","Operators must calculate velocity for open channels, collection systems, grit basins, and clarifiers / sedimentation basins. Hydraulic detention time is used to estimate available treatment capacity in both water and wastewater treatment.","Fundamental","All operators. Math","Define hydraulic detention time.","Define velocity.","Calculate hydraulic detention time and velocity in basins, pipes, and open channels.","Rearrange equations to solve for an unknown."]
[null,"MATH-005",368,"Geometry and Velocity","S. Innerebner, PhD, PE",1.5,"24-05988-001","23-05988-001","22-05988-001",0.15,0.15,0.15,0.15,0.15,0.15,"See NV, WY, or WA","WWT23-3435-T1.5-G00",1.5,null,null,null,null,null,"7193-1-22","All Operators","Non-Process",1.5,null,null,null,null,null,null,1.5,1.5,"1.5 TC",1.5,"NV22-138",1.5,"WW",1.5,"OEPA-B88466597-OM","IWG-B0105-OM",1.5,"Both DW and WW","R23125",1.5,1.5,1.5,1.5,1.5,0.1,"ECY22-3141","Not Approved.",null,null,2024.0186000000001,"W, D, WW, C",1.5,"No",0,"No ","Ninety minutes of math problems focussed on geometry and velocity.  Participants watch problems being solved followed by trying similar problems on their own in quizzes.","2023 MATH-005 Geometry Velocity | indigowatergroup.ispringmarket.com","Ninety minutes of math problems focused on geometry and velocity.  Participants watch problems being solved followed by trying similar problems on their own in quizzes.","Operators must be able to calculate the volumes of tanks as a first step in many different process control calculations like detention time, MCRT, loading rates, etc. Velocity calculations are used in collection systems, grit basins, and sedimentation basins / clarifiers.","Fundamental","All operators. Math","Find the cross-sectional area of a pipe and open channel.","Describe the effect of changing diameter on cross-sectional area.","Find the volume of a rectangular or cylindrical tank or pipe.","Use the velocity equation to find either distance, time, or velocity when given two of the three variables.","Use the velocity equation to find either velocity, flow, or area when given two of the three variables.","Rearrange equations to solve for an unknown."]
[null,"MATH-006",369,"Using the Two-Normal and Three-Normal Equations","S. Innerebner, PhD, PE",0.5,"24-06672-001","23-06672-001","22-06672-001",0.05,0.05,0.05,0.05,0.05,0.05,"See NV, WY, or WA","WWT23-3436-T0.5-G00",0.5,null,null,null,null,null,"7194-1-22","All Operators","Non-Process",0.5,null,null,null,null,null,null,"Not Approved.","Not Approved.","0.5 TC",0.5,"NV22-139",0.5,"WW",0.5,"OEPA-B88672230-OM","IWG-B0106-OM",0.5,"Both DW and WW","Not Approved.",0,0,0,0,0.5,0,"Not Approved","Not Approved.",null,null,2024.0228,"W, D, WW, C",0.5,"No",0,"No ","Thirty minutes of math problems using the two-normal and three-normal equations to calculate dilutions, dewatering of sludge, and blending of water sources.  Quiz at the end.","2023 MATH-006 Dilutions Blending | indigowatergroup.ispringmarket.com","Thirty minutes of math problems using the two-normal and three-normal equations to calculate dilutions, dewatering of sludge, and blending of water sources.","Water operators use the two and three-normal equations to blend water sources to meet safe drinking water limits. Wastewater operators use these calculations to estimate impacts from sidestreams. They are used in water and wastewater to calculate chemical dosages and to make standards in the laboratory.","Fundamental","All operators. Math","Solve water and wastewater related math problems using the two-normal and three-normal equations.","Understand when to use the two-normal versus three-normal equation.","Follow the order of operations to solve equations.","Rearrange equations to solve for an unknown."]
[null,"MATH-007",370,"Advanced Activated Sludge and Clarifier Math","S. Innerebner, PhD, PE",2,"24-10564-001","23-10564-001","None for 2022",0.2,0,0.2,0.2,0,0,null,null,null,null,null,null,null,null,null,null,null,null,null,null,null,null,null,null,null,null,"2.0 TC",2,"NV24-230",2,"WW",null,null,"IWG-S0107-OM",2,"WW Only",null,null,null,null,null,null,null,null,null,null,null,2024.0160000000001,"WW",2,"Yes",2,null,"Two full hours of advanced activated sludge and clarifier related math problems are worked through, step by step. These are multi-step problems similar to those that may be found on higher level certification exams.",null,null,"Operators must be able to calculate a number of parameters for activated sludge process control.","Intermediate","All operators. Math","Solve math problems related to activated sludge and secondary clarifiers.  Specific types of calculations covered include: sludge volume index (SVI), food-to-microorganism ratio (F:M), return activated sludge concentration (RAS), mean cell residence time (MCRT), clarifier solids loading rate, RAS pumping rate, and aeration costs."]
[null,"MATH-008",371,"Advanced Anaerobic Digester and Solids Math","S. Innerebner, PhD, PE",2,"24-10565-001","23-10565-001","None for 2022",0.2,0,0.2,0.2,0,0,null,null,null,null,null,null,null,null,null,null,null,null,null,null,null,null,null,null,null,null,"2.0 TC",2,"submitted 02/06",null,null,null,null,"IWG-S0108-OM",2,"WW Only",null,null,null,null,null,null,null,null,null,null,null,2024.0161000000001,"WW",2,"Yes",2,null,"Two full hours of anaerobic digester and solids handling related math problems are worked through, step by step. These are multi-step problems similar to those that may be found on higher level certification exams.",null,null,"Operators must be able to calculate a number of parameters for solids handling.","Intermediate","All operators. Math","Solve math problems related to activated sludge and secondary clarifiers.  Specific types of calculations covered include: percent volatile solids reduction, volume of a conical bottom tank, digester loading rate, volatile acid to alkalinity ratio, chemical dosing, and blending for return stream management."]
[null,"MATH-009",372,"Advanced Wastewater Math Grab Bag","S. Innerebner, PhD, PE",2,"24-10566-001","23-10566-001","None for 2022",0.2,0.2,0.2,0.2,0.2,0.2,null,null,null,null,null,null,null,null,null,null,null,null,null,null,null,null,null,null,null,null,"2.0 TC",2,"NV24-231",2,"WW",null,null,"IWG-S0109-OM",2,"WW Only",null,null,null,null,null,null,null,null,null,null,null,2024.0162,"WW",2,"No",0,null,"Two full hours of advanced wastewater math problems are worked through, step by step.  Chemical addition, pump horsepower, cost to operate, MCRT, and more!  These are multi-step problems similar to those that may be found on higher level certification exams.",null,null,"Operators must be able to calculate a variety of parameters for process control.","Intermediate","All operators. Math","Solve math problems related to activated sludge and secondary clarifiers.  Specific types of calculations covered include: chemical dosing, dechlorination, finding the working volume of a wet well, detention time, equivalent pipeline diameters, velocity in a force main, pump horsepower, trickling filter loading rate, primary sludge pump run time, percent volatile solids reduction, mean cell residence time (MCRT), membrane cleaning, and the two-normal equation. "]
[null,null,null,"Universal Topics"]
[null,"ALL-001",373,"Pumps","S. Innerebner, PhD, PE",2,"24-06046-002","23-06046-002","22-06046-002",0.2,0.2,0.2,0.2,0.2,0.2,"See NV, WY, or WA","WWT23-3437-T02-G00",2,null,null,null,null,null,"5979-16-11","All Operators","Non-Process",1.5,null,null,null,null,null,null,1.5,1.5,"2.0 TC",2,"NV22-109",2,"WW",2,"OEPA-B581454-OM","IWG-B1101-OM",{"$f":"J16*10","v":2},"Both DW and WW","R23126",2,2,2,2,2,0.2,"ECY22-3142","2jvn-4jvw",1.5,1.5,2024.0219,"W, D, WW, C",2,"Yes",2,"No ","This course discusses the different kinds of pumps used in water and wastewater treatment including centrifugal, positive displacement, peristaltic, and more. Components of each pump and mechanism of action are discussed as well as typical uses. Other topics include: cavitation and why it occurs, calculating horsepower, differences between water, brake, and motor horsepower, pump curves, the pump affinity laws, and total dynamic head. This presentation is supplemented with many wonderful pump animations provided by various pump manufacturers that are linked to through youtube.","2023 ALL-001 Pumps | indigowatergroup.ispringmarket.com","This course discusses the different kinds of pumps used in water and wastewater treatment including centrifugal, positive displacement, peristaltic, and more.","All types of treatment systems utilize pumps to transfer liquids and sludges from one point to another.  Operators must understand how pumps operate, how to troubleshoot them, and how to perform basic maintenance.","Fundamental","All operators","Identify the major components of a centrifugal pump and give the purpose/function of each piece.  Explain the underlying principals of centrifugal pump operation.","List the defining characteristics of a centrifugal pump.","Visually inspect cavitation damage on an impeller and determine whether the root cause of cavitation is upstream or downstream of the pump.  List at least five potential causes for pump cavitation.","Describe the different types of pumps (centrifugal, inclined screw, positive displacement, plunger, diaphragm, progressing cavity, rotary lobe, and peristaltic) and explain their basic operation.","List the most common applications of different pump types.","Calculate water, brake, and motor horsepower.","Interpret a pump curve diagram.","Use the pump affinity laws to calculate the new flow output, discharge head, amp draw, and brake horsepower for a pump after either the impeller diameter or motor speed has changed."]
[null,"ALL-002",374,"Hydraulics Basics","S. Innerebner, PhD, PE",1.5,"24-05990-001","23-05990-001","22-05990-001",0.15,0.15,0.15,0.15,0.15,0.15,"See NV, WY, or WA","WWT23-3438-T1.5-G00",1.5,null,null,null,null,null,"5961-16-07","All Operators","Non-Process",1,null,null,null,null,null,null,1,1,"1.5 TC",1.5,"NV22-110",1.5,"WW",1.5,"OEPA-B581457-OM","IWG-B1102-OM",1.5,"Both DW and WW","R23127",1.5,1.5,1.5,1.5,1.5,0.1,"ECY22-3101","7nmw-sr73",1,1,2024.0188000000001,"W, D, WW, C",1.5,"Yes",1.5,"No ","This course discusses basic properties of water including weight, density, pressure, and specific gravity.  This course discusses basic properties of water including weight, density, pressure, and specific gravity.  Conversion of pressure to feet of head is demonstrated.  Multiple examples of why pressure is so important in water and wastewater systems are presented including:  determining pressures due to elevation changes in distribution systems, high groundwater and floating tanks, surcharging of sewers, and using pressure to do work with hydraulic jacks.  The concepts of velocity and water hammer are introduced.  The presentation closes with a description and demonstration of a ram pump whose operation is based on pressure, velocity, and water hammer.","2023 ALL-002 Hydraulics Basics | indigowatergroup.ispringmarket.com","This course discusses basic properties of water including weight, density, pressure, and specific gravity. Conversion of pressure to feet of head is demonstrated.\n","An understanding of pressure and being able to convert between pressure and elevation are critical to setting pressure relief valves and other day-to-day operational tasks.","Fundamental","All operators","Understand the relationship between water depth and elevation.  Calculate pressure at different locations given elevation differences and starting pressure.","Explain how the hydraulic properties of water can cause a tank or other structure to be pushed upward by rising groundwater, the principals behind a hydraulic jack, and the function of a manometer.","Understand the relationship between line pressure and diameter, soil characteristics, and thrust block size.","Understand the relationship between water velocity and pipe diameter.","Explain the relationship between elevation, pressure, and velocity according to Bernoulli's Theorum.","Understand why water hammer can occur. "]
[null,"ALL-003",375,"Hydraulics of Pumped Systems","S. Innerebner, PhD, PE",2,"24-05991-001","23-05991-001","22-05991-001",0.2,0.2,0.2,0.2,0.2,0.2,"See NV, WY, or WA","WWT23-3439-T02-G00",2,null,null,null,null,null,"5980-16-11","All Operators","Non-Process",2,null,null,null,null,null,null,2,2,"2.0 TC",2,"NV22-111",2,"WW",2,"OEPA-B579855-OM","IWG-B1103-OM",2,"Both DW and WW","R23128",2,2,2,2,2,0.2,"ECY22-3102","a7ij-muuq",2,2,2024.0189," W, D, WW, C",2,"Yes",2,"No ","This presentation discusses hydraulic principles as they relate to pump operation. The presentation begins with a thorough discussion of total dynamic head and each of its components, the difference between suction lift and suction head, and how to calculate major and minor losses in a system. The second portion of the talk discusses work, power, and energy, how each is calculated, and the cost of running a piece of equipment. The presentation continues with a discussion of discharge velocity from a centrifugal pump, calculating impeller diameter, and the pump affinity laws. Attendees will learn to predict pump output, brake horsepower, amp draw, and discharge head from changes to either the pump speed or impeller diameter. ","2023 ALL-003 Pumped Systems | indigowatergroup.ispringmarket.com","This presentation discusses hydraulic principles as they relate to pump operation.","Operators must understand velocity in pipes, head, why cavitation occurs, and a host of other issues to effectively troubleshoot and operate pumped systems.","Advanced","All operators","Explain static head and why theoretical maximum lift is 34 feet at sea level.","Compare motor, brake, and water horsepower.  Calculate each type of horsepower and cost to operate.","Understand the impact of changing motor speed or impeller diameter on pump performance.  Apply the pump affinity laws to predict new pump flow output, discharge head, break horsepower, and amp draw.","Understand types of head loss in pumped systems and explain the mathematical relationships shown in Darcy-Weisbach and Hazen-Williams equations.  Calculate total head loss for a simple pump-piping system.","Understand system curves and the system operating point.  Interpret information on a typical centrifugal pump curve and find the operating point."]
[null,"ALL-004",376,"Aeration Systems","Stacy Passaro, PE",1.5,"24-09505-001","23-09505-001","None for 2022",0.15,0.15,0.15,0.15,0.15,0.15,null,"WWT23-3496-T1.5-G00",1.5,null,null,null,null,null,"7583-9-23","All WW & Ind","Non-Process",1.5,null,null,null,null,null,null,null,null,"1.0 TC",1,"NV23-516",1,"WW",0,null,"IWG-S1104-OM",1.5,"WW Only",null,null,null,null,null,null,null,null,null,null,null,2024.0163,"WW, C",1.5,"Yes",1.5,"No ","An introduction to different types of aeration equipment used in wastewater treatment plants. Blower types, their components, and maintenance requirements are discussed along with aeration system piping and diffuser types. Attendees will learn the difference between surge and choke and what causes each condition. Different types of mechanical aerators are discussed, how they function, and the pros and cons of each.","2023 ALL-004 Aeration Systems | indigowatergroup.ispringmarket.com","An introduction to different types of aeration equipment used in wastewater treatment plants. Blower types, their components, and maintenance requirements are discussed.","Aeration systems are used in biological treatment processes to provide oxygen for BOD removal and nitrification. Operators must understand how they work and basic maintenance requirements.","Fundamental","Wastewater","List the functions of aeration equipment in biological treatment processes.","List the components of a diffused aeration system and give the functions of each.","Explain the differences in blower curves (pressure vs output) for centrifugal and positive displacement blowers.","Explain what surge is and the conditions that can create it in a centrifugal blower.","Explain what choke is and the conditions that can create it in a centrifugal blower.","Understand the differences between single-stage, multi-stage, and turbo blowers.","Perform maintenance tasks for centrifugal and positive displacement blowers.","List the different types of diffusers and the type of air bubbles they produce.","Understand how various mechanical aerators function."]
[null,"ALL-005",377,"Corrosion Control","S. Innerebner, PhD, PE",2.5,"24-05992-001","23-05992-001","22-05992-001",0.25,0.25,0.25,0.25,0.25,0.25,"See NV, WY, or WA","WWT23-3440-T2.5-G00",2.5,null,null,null,null,null,"5981-16-11","All Operators","Non-Process",1.5,null,null,null,null,null,null,2,2,"2.5 TC",2.5,"NV22-112",2.5,"WW",2.5,"OEPA-B579856-OM","IWG-B1105-OM",2.5,"Both DW and WW","R23129",0,2.5,2.5,2.5,2.5,0.2,"ECY22-3103","a7ij-muut",2,2,2024.0177000000001,"W, D, WW, C",2.5,"Yes",2.5,"No ","This course discusses corrosion control in drinking water distribution and wastewater treatment and collection systems.  Attendees are introduced to several different causes of corrosion.  The galvanic cell and its components are discussed and how eliminating one component of the galvanic cell can prevent corrosion including: preventing contact between dissimilar metals, materials selection, coatings, and cathodic protection.  Microbially mediated corrosion is discussed along with methods to mitigate hydrogen sulfide corrosion.  For distribution systems, each of the accepted EPA strategies for corrosion control are discussed: alkalinity, pH, and calcium adjustment and orthophosphate and silicate addition.  Attendees are introduced to the Langelier Index and the Calcium Carbonate Precipitation Potential Index.","2023 ALL-005 Corrosion Control | indigowatergroup.ispringmarket.com","This course discusses corrosion control in drinking water distribution and wastewater treatment and collection systems.","Understanding why corrosion occurs and how to prevent it is key to maintaining water and wastewater equipment as well as water quality in the distribution system and infrastructure in collection systems.","Intermediate","All operators","Understand the fundamental mechanisms behind crevice corrosion, selective leaching, errosion corrosion, and microbially induced corrosion.","List the four components of a galvanic cell and explain the basic mechanisms behind galvanic corrosion.","Determine which of two metals will corrode when two different metals are placed into contact with another.","Discuss various methods of mitigating corrosion including control of hydrogen sulfide concentrations, protective coatings, and cathodic protection.","Explain the biological mechanism for hydrogen sulfide and sulfuric acid formation under septic conditions.","Identify factors involved in corrosion of the water distribution system.  Evaluate results of a Langelier Index or Calcium Carbonate Precipitation Index calculation.","Discuss various methods of mitigating corrosion including control of hydrogen sulfide concentrations, protective coatings, and cathodic protection.","Explain the mechanisms behind each of the three EPA accepted methods for mitigating corrosion in distribution systems:  passivation, surficial coatings, and water chemistry adjustment.  Discuss the importance of dissolved inorganic carbon (alkalinity) on formation of passivating films."]
[null,"ALL-006",378,"Maintenance","Stacy Passaro, PE",2,"24-05993-001","23-05993-001","22-05993-001",0.2,0.2,0.2,0.2,0.2,0.2,"See NV, WY, or WA","WWT23-3441-T00-G1.5",null,1.5,null,null,null,null,"5982-16-11","All Operators","Non-Process",1.5,null,null,null,null,null,null,1.5,1.5,"1.5 TC",1.5,"NV22-113",1.5,"WW",1.5,"OEPA-B581464-OM","IWG-B1106-OM",2,"Both DW and WW","R23130",1.5,1.5,1.5,1.5,1.5,0.1,"ECY22-3104","a7ij-muuw",1.5,1.5,2024.0209,"W, D, WW, C",2,"No",1.5,"No ","Implementing a focused maintenance program that includes predictive and preventive maintenance strategies is critical for maintaining water and wastewater infrastructure.  This course will walk participants through how to set up a good maintenance program from tracking spare parts to proving effectiveness.","2023 ALL-006 Maintenance Programs | indigowatergroup.ispringmarket.com","Implementing a focused maintenance program that includes predictive and preventive maintenance strategies is critical for maintaining water and wastewater infrastructure.","All water and wastewater systems need a well-established maintenance program and method of tracking assets.","Fundamental","All operators","Define the three main maintenance strategies (corrective, preventive, and predictive), give an example of each type of maintenance, and explain when each type of maintenance program is preferred.","Implement a basic maintenance program with four components: identification of assets, selection of a maintenance strategy for each, write job plans and schedule work orders, and collection and analysis of condition data.","Recognize predictive maintenance tools including oil analysis, vibration analysis, ultrasonic analysis, infrared imaging, and root cause analysis."]
[null,"ALL-007",379,"Electrical Fundamentals","Jeremy Fielding",1.5,"24-05994-001","23-05994-001","22-05994-001",0.15,0.15,0.15,0.15,0.15,0.15,"See NV, WY, or WA","WWT23-3442-T1.5-G00",1.5,null,null,null,null,null,"7188-1-22","All Operators","Non-Process",1.5,null,null,null,null,null,null,1,"Not approved.","1.5 TC",1.5,"NV22-114",1.5,"WW","Half of Wastewater","OEPA-B88672243-OM","IWG-B1107-OM",1.5,"Both DW and WW","R23131",1.5,1.5,1.5,1.5,1.5,0.1,"ECY22-3143","Not Approved.",0,0,2024.0182,"W, D, WW, C",1.5,"No",0,"No ","Students will learn about the relationships between electricity and magnetism and how generators, DC motors, AC motors, relay switches, and other types of electrical equipment work.","2023 ALL-007 Electrical & Motors | indigowatergroup.ispringmarket.com","Students will learn about the relationships between electricity and magnetism and how generators, DC motors, AC motors, relay switches, and other types of equipment.","Water and wastewater operators are expected to have some basic electrical troubleshooting skills, understand how motors and generators work, and know when to call in a qualified electrician.","Fundamental","All operators","Explain the relationship between electricity, magnetic fields, and conductors. ","Understand the differences between single-phase and three-phase power.","Explain how different types of electric motors function.","Identify the major components of different types of electric motors.","Explain why switching two leads on a three-phase motor can change the direction of rotation.",null,"Describe how electromagnets, switches, contactors, starters, and transformers function."]
[null,"ALL-008",380,"Representative Sampling","S. Innerebner, PhD, PE",1.5,"24-05995-002","23-05995-002","22-05995-002",0.15,0.15,0.15,0.15,0.15,0,"See NV, WY, or WA","WWT23-3443-T02-G00",2,null,null,null,null,null,"5983-16-11","All Operators","Non-Process",1,null,null,null,null,null,null,1.5,1.5,"2.0 TC",2,"NV22-115",1.5,"WW",2,"OEPA-B580290-OM","IWG-S1108-OM",1.5,"WW Only","R23133",1.5,0,0,0,1.5,0.2,"ECY22-3105","a7ij-muuz",0,1.5,2024.0219999999999,"W, D, WW, C",1.5,"Yes",1.5,"No ","This course covers the efficient and safe collection of representative samples. We will discuss characteristics and guidelines of representative samples, how to record samples, and various types of samples, as well as the use of autosamplers. Students will view both good and bad examples of samples taken.","2023 ALL-008 Rep Sampling | indigowatergroup.ispringmarket.com","This course covers the efficient and safe collection of representative samples for water and wastewater systems.","Representative samples are required for process control and regulatory compliance in both water and wastewater systems regardless of size.","Fundamental","Wastewater","Explain what makes a sample representative and the assumptions behind sample collection. Determine whether to collect grab or composite samples based on data quality objectives.","Evaluate sampling locations to determine whether they are suitable for obtaining representative samples.","Utilize correct sampling protocol when collecting field samples to ensure they are representative and to avoid contamination.  Select the correct sampling container and preservation method for each analysis.","Correctly install and operate composite autosamplers.  Evaluate influent wastewater analysis results as a way to determine if sampling results are typical for domestic wastewater.","Identify critical data quality objectives for taking different types of samples based on information desired and the level of QA/QC required."]
[null,"ALL-009",381,"Disinfection Byproducts","S. Innerebner, PhD, PE",1.5,"24-05996-001","23-05996-001","22-05996-001",0.15,0.15,0.15,0.15,0.15,0,"See NV, WY, or WA","WWT23-3444-T02-G00",2,null,null,null,null,null,"5984-16-11","All Operators","Process",1,null,null,null,null,null,null,1.5,0,"1.5 TC",1.5,"NV22-116",1.5,"WW",2,"OEPA-B580289-OM","IWG-B1109-OM",1.5,"Both DW and WW","R23132",1.5,1.5,1.5,0,1.5,0.2,"ECY22-3106","7nmw-sr7h",1.5,0,2024.018,"W, D, WW",1.5,"Yes",1.5,"No ","This presentation will define disinfection byproducts and discuss the regulations on their levels in drinking water and recycled water. We will look at what causes the formation of DBPs and ways to prevent their formation. Applicable to both water and wastewater systems.","2023 ALL-009 Disinfect Byproducts | indigowatergroup.ispringmarket.com","This presentation defines disinfection byproducts and discusses the regulations on their levels in drinking water and recycled water.","Water systems must comply with the Disinfection Byproduct Rule.  Wastewater systems are starting to be regulated for DBP formation as well.","Intermediate","All operators","Define disinfection byproducts and identify the two main groups - haloacetic acids (HAA5) and total trihalomethanes (TTHMs).","Understand the reasons and regulatory background for limiting HAA5 and TTHM in drinking and reclaimed water.","Explain the mechanisms behind disinfection byproduct formation.  Apply knowledge of DBP formation and critical operating parameters to limit DBP formation during wastewater and drinking water treatment and in the distribution system.","Interpret a breakpoint chlorination graph providing detail on the chemical species present at different chlorine to ammonia ratios.  Explain how use of chloramines for disinfection limits DBP formation."]
[null,"ALL-010",382,"Chemical Handling (under construction)","S. Innerebner, PhD, PE",null,null,"None for 2023","None for 2022",null,null,null,null,null,null,null,null,null,null,null,null,null,null,null,null,null,null,null,null,null,null,null,null,null,null,null,null,null,null,null,0,null,"IWG-B1110-OM",null,"Both DW and WW"]
[null,"ALL-011",383,"Backflow Preventers","S. Innerebner, PhD, PE",0.5,"24-08959-001","23-08959-001","22-08959-001",0.05,0.05,0.05,0.05,0.05,0.05,null,"WWT23-3445-T00-G0.5",null,0.5,null,null,null,null,"7584-9-23","All Operators","Non-Process",0.5,null,null,null,null,null,null,null,null,"0.5 TC",0.5,"NV22-117",0.5,"WW",null,null,"IWG-B1111-OM",0.5,"Both DW and WW","Not Approved.",0,0,0,0,0.5,0,"Not Approved.","Not Approved.",null,null,2024.0165,"W, D, WW, C",0.5,"Yes",0.5,"No ","This very brief course is to introduce operators to the different types of backflow preventers, how they work, and where you might see them installed.  After completing this course, you should be able to recognize the risks of backflow from back pressure and back siphonage. ","2023 ALL-011 Backflow Preventers | indigowatergroup.ispringmarket.com","This very brief course is to introduce operators to the different types of backflow preventers, how they work, and where you might see them installed.","Backflow preventers are critical for preventing back pressure and back siphonage events in distribution systems. All operators are expected to know how these devices operate, how to identify them in the field, and which devices should be used in different situations.","Fundamental","All operators","Define back pressure and back siphonage.","Explain how each type of backflow preventer works and describe their components.","List the five types of backflow preventers used to prevent cross-connections."]
[null,"SAF-001",384,"Trenching and Shoring","Josh Baile, MBA, CWP",2.5,"24-05998-001","23-05998-001","22-05998-001",0.25,0,0,0,0.25,0.25,"See NV, WY, or WA","WWT23-3452-T00-G2.5",null,2.5,null,null,null,null,"5985-16-11","All Operators & All Superintendents","Non-Process",2,null,null,null,null,null,null,2,2,"2.5 TC",2.5,"NV22-140",2.5,"S/S",2.5,"OEPA-B579857-X","IWG-B2101-X",{"$f":"J27*10","v":2.5},"Both DW and WW","R23135",2.5,2.5,2.5,2.5,2.5,0.2,"ECY22-3107","a7ij-muvx","2.0 Safety","2.0 Safety",2024.0225,"W, D, WW, C",2.5,"No ",0,"No ","This class demonstrates the need for a competent site supervisor to evaluate and take necessary steps to maintain a safe work site.  Uses OSHA standards as a reference for shoring, benching, and safe operation within a construction trench.","2023 SAF-001 Trenching & Shoring | indigowatergroup.ispringmarket.com","This class demonstrates the need for a competent site supervisor to evaluate and take necessary steps to maintain a safe work site.  Uses OSHA standards as a reference.","Water and wastewater operators are often required to excavate pipelines and tanks to do maintenance.  Proper trenching and shoring is required to avoid cave-ins, injury, and loss of life.","Fundamental","Safety","Understand the regulatory definition of a trench and when shoring and ladders are required.","Identify potential hazards associated with working in trenches and methods to mitigate them.","Evaluate conditions within trenches to identify boiling, heaving or squeezing, subsidence and bulging, tension cracks, toppling, and sloughing.","Understand soil classifications.","Interpret results of standard field visual and tactile tests to identify potential hazards due to soil type.","Understand limits of allowable slopes and how soil types and other environmental conditions impact the allowable slope and potential for cave-in.","Discuss different types of soil shoring systems available and characteristics of each."]
[null,"SAF-002",385,"Confined Space Entry","Dale Colerick, CWP",1.5,"24-05999-001","23-05999-001","22-05999-001",0.15,0,0,0,0,0,"See NV, WY, or WA","WWT23-3453-T00-G1 .5",null,1.5,null,null,null,null,"5986-16-11","All Operators & All Superintendents","Non-Process",1,null,null,null,null,null,null,1.5,1.5,"1.5 TC",1.5,"NV22-141",1.5,"S/S",1.5,"OEPA-B579842-X","IWG-B2102-X",{"$f":"J28*10","v":1.5},"Both DW and WW","R23134",1.5,1.5,1.5,1.5,1.5,0.1,"ECY22-3108","19xt-pi3k","1.5 Safety","1.5 Safety",2024.0175999999999,"W, D, WW, C",1.5,"No ",0,"No ","This course covers confined space entry requirements according to OSHA.  Attendees will learn the difference between confined spaces and permit required confined spaces, when confined space entry permits are required, some of the hazards that may be encountered in a confined space, what constitutes a safe entry condition, and how to complete the entry permit and safely participate in a confined space entry. ","2023 SAF-002 Confined Space Entry | indigowatergroup.ispringmarket.com","This course covers confined space entry requirements according to OSHA.","Water and wastewater operators routinely perform confined space entries to inspect, clean, and maintain tanks and equipment.","Fundamental","Safety","Define a confined space and a permit required confined space.","Recite the permissible entry limits for oxygen, flammable gases, airborne dust, hydrogen sulfide, and carbon monoxide.  Describe the potential hazards associated with each.  Become familiar with a typical confined space entry permit.","Describe the goals of a confined space program.","List the duties of the entrant, attendant, and supervisor.","Describe the procedure for a non-entry rescue.","Complete the entry permit and safely participate in a confined space entry.","Understand why workers don't always follow proper procedure when entering a confined space.  Risk versus reward."]
[null,"SAF-003",386,"Lockout / Tagout","Raphael Workman",1,"24-09451-001","23-09451-001","None for 2022",0.1,0,0,0,0,0,null,"WWT23-3497-T00-G01",null,1,null,null,null,null,"9588-9-23","All Operators & All Superintendents","Non-Process",1,null,null,null,null,null,null,null,null,"1.0 TC",1,"NV23-517",1,"S/S",null,null,"IWG-B2103-X",1,"Both DW and WW",null,null,null,null,null,1,null,null,null,null,null,2024.0208,"W, D, WW, C",1,"No",0,"No ","This one hour course walks attendees through OSHA requirements for lockout/tagout.","2023 SAF-003 Lockout Tagout | indigowatergroup.ispringmarket.com","A one-hour course covering some aspects of equipment lockout / tagout.\n\nApproved for TUs in Colorado and CEUs in Ohio. We're working on approvals in other states.","Lockout/Tagout is required any time maintenance is performed on energized equipment. All operators should complete a lockout/tagout course at least annually.","Fundamental","Safety","Define lockout/tagout","Identify sources & types of hazardous energy","Recognize causes of injuries/fatalities","Select maintenance & service examples","List lockout steps/procedures","Identify employer responsibility for training & safety as well as employee responsibilities","Recall when lockout/tagout applies","Identify types of lockout devices and tags","Distinguish between required lockout and/or tagout procedures"]
[null,"SAF-004",387,"Demolition Saw Safety","Raphael Workman",0.5,"24-09506-001","23-09506-001","None for 2022",0.05,0,0,0,0,0,null,"Not Approved",0,0,null,null,null,null,"7589-9-23","All Operators","Non-Process",0.5,null,null,null,null,null,null,null,null,"0.5 TC",0.5,"NV23-518",0.5,"S/S",null,null,"IWG-B2104-X",0.5,"Both DW and WW",null,null,null,null,null,null,null,null,null,null,null,2024.0179000000001,"W, D, WW, C",0.5,"No",0,"No ","Collection and distribution system operators use demolition saws to cut asphalt and pipe and to put bevels on pipe. This critical piece of equipment can be life threatening if not used correctly and safely. This course covers when a demolition saw may be used, the types of materials that may be cut using a demolition saw, maintenance of demolition saws, and basic troubleshooting.","2023 SAF-004 Demo Saw Safety | indigowatergroup.ispringmarket.com","Collection and distribution system operators use demolition saws to cut asphalt and pipe and to put bevels on pipe. Operation, maintenance, and safety for demo saws.","Collection and distribution system operators use demolition saws to cut asphalt, cut pipe, bevel pipe, and many other tasks.","Fundamental","Safety","Identify when use of a demolition saw is an appropriate use.","Safely use a demolition saw.","Maintain demolition saws.","Troubleshoot common problems encountered with demolition saws."]
[null,null,null,"Collection Systems Topics"]
[null,"COL-001",388,"Introduction to Collections Systems","S. Innerebner, PhD, PE",1.5,"24-06000-002","23-06000-002","22-06000-002",0.15,0,0,0,0,0.15,"See NV, WY, or WA","WWT23-3446-T1.5-G00",1.5,null,null,null,null,null,"5987-16-11","All WW, All IWW, All WWC Operators","Non-Process",1,null,null,null,null,null,null,1.5,0,"1.5 TC",1.5,"NV22-118",1.5,"WW","Half of Wastewater","OEPA-S579861-OM","IWG-S3101-OM",{"$f":"J32*10","v":1.5},"WW Only","R23136",0,0,0,1.5,1.5,0.1,"ECY22-3109","6dp3-dpdr",0,1,2024.0191,"WW, C",1.5,"Yes",1.5,"No ","This class presents an overview of the collection system and discusses its primary components and types.  Placement of interceptors along natural drainages, manhole placement, pump station function, and inflow and infiltration are discussed.  Collection system architecture is compared to distribution system architecture.  The following topics are also covered:  minimum slopes for given pipe diameters, preferred d/D ratios, scour at peak hour flows, pipe materials, velocities in force mains, hydraulic gradeline, and causes of surcharging.","2023 COL-001 Collection Systems | indigowatergroup.ispringmarket.com","This class presents an overview of the collection system and discusses its primary components and their functions.","Collection system operators must be familiar with basic concepts in collection system design so they can effectively operate and maintain them.","Fundamental","Collection Systems","Identify major components of collection systems and describe their function.","Distinguish between central and satellite treatment facilities.  Define the three main types of collection systems: sanitary, storm, and combined.","Understand typical per capita wastewater generation rates and peak hour peaking factors. Estimate expected flow rates at defined points in the collection system given information about land usage.","Calculate velocity for full and half-full pipes.  Explain factors that complicate calculating velocity in gravity sewer lines and explain why field measurements are needed for greatest accuracy.  Explain desired velocity ranges.","Define depth to diameter ratio and explain why pipes with a d/D of 0.8 discharge the same flow as pipes with a d/D of 1.0.","List the prohibited discharges and explain why they are prohibited.","Describe alternatives to gravity sewers including pressure sewers, STEP and STEG systems, and vacuum sewers."]
[null,"COL-002",389,"Collection System Inspection, Testing, and Cleaning - Part 1","S. Innerebner, PhD, PE",2,"24-06001-002","23-06001-002","22-06001-002",0.2,0,0,0,0,0.2,"See NV, WY, or WA","WWT23-344 7-T2.5-G00",2.5,null,null,null,null,null,"5988-16-11","All WW, All IWW, All WWC Operators","Non-Process",1.5,null,null,null,null,null,null,2,0,"2.5 TC",2.5,"NV22-119",2.5,"WW","Half of Wastewater","OEPA-S579863-OM","IWG-S3102-OM",2,"WW Only","R23138",0,0,0,2.5,2.5,0.2,"ECY22-3110","6dp3-dpdt",0,2,2024.0173,"C",2,"Yes",2.5,"No ","This course (in 2 parts) introduces participants to the purposes and methods of collection system inspection, testing, and cleaning including: closed circuit television inspections, smoke testing, dye testing, sewer balling, jetting, rodding, flushing, and bucketmachines.  The importance of maintaining good system records and maps of the collection system is emphasized.  Collection system modeling and GIS concepts are introduced as they relate to maintenance records.  Participants will learn to identify problems in existing pipelines, locate storm sewer connections to the sanitary sewer, estimate inflow and infiltration, and identify deposits of oil and grease.  Participants will view actual CCTV footage.","2023 COL-002 Collection Inspect 1 | indigowatergroup.ispringmarket.com","This course (in 2 parts) introduces participants to the purposes and methods of collection system inspection, testing, and cleaning.","Collection system operators must be able to identify potential issues with the collection system so they can effectively operate and maintain it.","Fundamental","Collection Systems","Recognize the importance of accurate system maps as part of asset management.","Differentiate between sources of inflow and sources of infiltration","Discuss causes of surcharging and how I&I can cause surcharging and sanitary sewer overflows.","Identify potential sewer and manhole damage from surface evidence such as cracked pavement.","Identify and assess bellies, sags, offset joints, and cracks in collection system pipes.","Identify and assess protruding taps, horizontal bores through pipes, and roots as three types of blockages in sewer pipes.","Describe the components of a successful grease control program.","Complete a manhole inspection form and list possible causes of grit and/or water accumulation in manholes.","Assess potential for sewer damage and presence of cross-connections with smoke testing.","Understand the principals behind dye testing and its use in proving a positive connection."]
[null,"COL-003",390,"Collection System Inspection, Testing, and Cleaning - Part 2","S. Innerebner, PhD, PE",2.5,"24-06002-002","23-06002-002","22-06002-002",0.25,0,0,0,0,0.25,"See NV, WY, or WA","WWT23-3448-T2.5-G00",2.5,null,null,null,null,null,"5989-16-11","All WW, All IWW, All WWC Operators","Non-Process",1.5,null,null,null,null,null,null,2,0,"2.5 TC",2.5,"NV22-120",2.5,"WW","Half of Wastewater","OEPA-S579864-OM","IWG-S3103-OM",2.5,"WW Only","R23139",0,0,0,2.5,2.5,0.2,"ECY22-3111","a7ij-muv7",0,2,2024.0174,"C",2.5,"Yes",2.5,"No ","This course (in 2 parts) introduces participants to the purposes and methods of collection system inspection, testing, and cleaning including: closed circuit television inspections, smoke testing, dye testing, sewer balling, jetting, rodding, flushing, and bucketmachines.  The importance of maintaining good system records and maps of the collection system is emphasized.  Collection system modeling and GIS concepts are introduced as they relate to maintenance records.  Participants will learn to identify problems in existing pipelines, locate storm sewer connections to the sanitary sewer, estimate inflow and infiltration, and identify deposits of oil and grease.  Participants will view actual CCTV footage.","2023 COL-003 Collection Inspect 2 | indigowatergroup.ispringmarket.com","This course (in 2 parts) introduces participants to the purposes and methods of collection system inspection, testing, and cleaning.","Collection system operators must be able to identify potential issues with the collection system so they can effectively operate and maintain it.","Fundamental","Collection Systems","Evaluate footage from CCTV sewer line inspections.  Code and rate various types of deficiencies depending on severity.  List steps for start up and shut down of CCTV cameras.","Explain how hydraulic jetting of sewers is performed with an emphasis of selecting the correct jet head for the task at hand.","Explain the basic function of bucket machines and list their advantages and disadvantages.","Explain the basic function of rodding machines and identify which types of blockages are best suited to rodding machines.","Discuss the basic principles behind sewer balling and the potential for flooding service lines."]
[null,"COL-004",391,"Lift Stations","S. Innerebner, PhD, PE",2,"24-06003-001","23-06003-001","22-06003-001",0.2,0,0.2,0.2,0,0.2,"See NV, WY, or WA","WWT23-3449-T02-G00",2,null,null,null,null,null,"5990-16-11","All WW, All IWW, All WWC Operators","Non-Process",1,null,null,null,null,null,null,1,1,"2.0 TC",2,"NV22-121",1.5,"WW","Half of Wastewater","OEPA-S579862-OM","IWG-S3104-OM",2,"WW Only","R23137",0,0,0,2,2,0.1,"ECY22-3112","53r9-ynk5",0,1,2024.0207,"WW, C",2,"Yes",2,"No ","This presentation discusses dry pit and wet pit lift stations, pump arrangement, level indicator equipment, and basic lift station operation and maintenance. It includes a brief discussion of confined space entry and the safety hazards that may be present in lift stations. ","2023 COL-004 Lift Stations | indigowatergroup.ispringmarket.com","This presentation discusses dry pit and wet pit lift stations, pump arrangement, level indicator equipment, and basic lift station operation and maintenance.","Lift stations and pump stations have many similarities in both configuration and operation.  Broadly applicable to water and wastewater systems.  Operators use, inspect, and troubleshoot lift stations as part of daily duties.","Intermediate","Wastewater and Collection Systems","Describe the major components of dry pt and wet pit lift stations including four different methods of level control.","Identify different types of valves that may be present in a typical lift station and give the purpose of each.","List routine maintenance tasks and their recommended frequency.","Understand why the flow output from two pumps discharging into the same force main will be slightly less than the sum of the flows when each pump is operating independently."]
[null,"COL-005",392,"Pretreatment and Pollution Prevention","S. Innerebner, PhD, PE",3,"24-06004-001","23-06004-001","22-06004-001",0.3,0.3,0.3,0.3,0,0.3,"See NV, WY, or WA","WWT23-3450-T03-G00",3,null,null,null,null,null,"5991-16-11","All Operators & All Superintendents","Non-Process",2,null,null,null,null,null,null,2.5,2.5,"3.0 TC",3,"NV22-122",3,"WW","Half of Wastewater","OEPA-S579866-OM","IWG-S3105-OM",3,"WW Only","R23140",3,0,0,3,3,0.3,"ECY22-3113","7nmw-sr7r",0,2.5,2024.0217,"WW, C",3,"Yes",3,"No ","This course discusses the industrial pretreatment and pollution prevention programs. It focuses on how effluent limits for indirect dischargers are determined. The impact of various types of discharges on the collection system, especially FOG, will be discussed. Topics to be covered include: legal authority and the sewer ordinance, setting local limits, categorical limits, types of users connecting to the collection system, and pollution prevention at the source. The pollution prevention portion of the course focusses on how industrial users can decrease water usage and wastewater strength by implementing simple changes on the factory floor. The use of screens, water audits, and other methods is discussed.","2023 COL-005 Pretreatment and P2 | indigowatergroup.ispringmarket.com","This course discusses the industrial pretreatment and pollution prevention programs.","Operators must understand the types of industrial wastes that may be discharged to the collection system and their legal authority to control those discharges so they don't cause pass through or interference.","Advanced","Wastewater and Collection Systems","Understand that municipal wastewater plants have three types of capacity: hydraulic, organic, and solids handling and that each type of capacity must be protected from industrial discharges.","Understand the potential impacts of industrial wastestreams on municipal wastewater treatment plants and the need for a pretreatment program.","Categorize dischargers as significant, categorical, or non-significant.","Identify when a WWTP might be required to have a formal pretreatment program.","Explain the concept of local limits and give two specific examples of why a local limit may be needed.","Discuss the potential for prohibited discharges, pass-through, and interference from industrial discharges.","Discuss enforcement mechanisms available when an industrial user is in significant non-compliance.","Describe the voluntary pollution prevention program and compare and contrast it to the Federal Pretreatment Program giving pros and cons for each."]
[null,"COL-006",393,"Manholes","S. Innerebner, PhD, PE",1,"24-06005-001","23-06005-001","22-06005-001",0.1,0,0,0,0,0.1,"See NV, WY, or WA","WWT23-3451-T1.5-G00",1.5,null,null,null,null,null,"5992-16-11","All Operators","Non-Process",1,null,null,null,null,null,null,1,1,"1.0 TC",1,"NV22-123",1,"WW","Half of Wastewater","OEPA-S88119931-OM","IWG-S3106-OM",1,"WW Only","R23141",0,0,0,1,1,0,"Not Approved.","6dp3-dpe1",0,1.5,2024.021,"WW, C",1,"Yes",1,"No ","Manholes provide access points for maintenance, flow monitoring, chemical addition, bypass pumping and more.  Even a small municipality will have several hundred manholes spaced at a maximum of 300 to 500 foot apart.  Like most of the public, we don't give them much thought even though they are critical parts of our collection systems.  Manhole basics includes typical terminology, manhole construction, manhole inspection and maintenance, and even includes some handy tips on how to find lost manholes and preventing manholes from getting lost in the first place.  Useful information for anyone pursuing their collection systems certification.","2023 COL-006 Manholes | indigowatergroup.ispringmarket.com","Manholes provide access points for maintenance, flow monitoring, chemical addition, bypass pumping and more.  Learn all about them in this class.","Manhole location, cleaning, and maintenance is routinely performed by wastewater and collection system operators.","Intermediate","Collection Systems","Identify all of the different components of a manhole; bench, riser, base, etc.","Locate known and lost manholes and perform a basic inspection.","List four items of concern in a manhole interior.","Explain why hydrogen sulfide is generated in sewers and describe at least three methods for mitigating its formation or controlling gas phase concentrations.","Describe three different methods for mitigating inflow and infiltration in manholes.  Match methods to the type of inflow."]
[null,null,null,"Wastewater Treatment Topics"]
[null,"WWT-001",394,"Introduction to Wastewater:  A Plant Overview","S. Innerebner, PhD, PE",2,"24-06006-001","23-06006-001","22-06006-001",0.2,0,0.2,0.2,0,0,"See NV, WY, or WA","WWT23-3462-T02-G00",2,null,null,null,null,null,"5993-16-11","All WW and All IWW Operators","Non-Process",1.5,null,null,null,null,null,null,1.5,0,"2.0 TC",2,"NV22-149",2,"WW","Half of Wastewater","OEPA-S579867-OM","IWG-S4101-OM",{"$f":"J39*10","v":2},"WW Only","R23142",2,0,null,null,2,0.2,"ECY22-3114","19xt-pi3n",0,1.5,2024.0193999999999,"WW",2,"Yes",2,"No ","This presentation introduces operators to wastewater treatment starting with a \"typical\" treatment plant consisting of preliminary, primary, secondary, and tertiary treatment followed by disinfection.  Alternatives for each unit process will be discussed such as activated sludge or lagoons or trickling filters for the secondary process.  Solids handling, thickening, digestion, and dewatering will be introduced and the importance of recycle streams emphasized.","2023 WWT-001 Wastewater Overview | indigowatergroup.ispringmarket.com","This presentation introduces operators to wastewater treatment by tracing the flow of water through a facility followed by tracing the path of solids handling.","Introduces operators to different unit processes present in wastewater treatment plants and the interactions that occur between the liquid and solids streams.  All wastewater operators should know this information.","Fundamental","Wastewater","Classify bacteria according to their preferred oxygen and carbon sources:  hetertroph vs autotroph and obligate aerobe vs facultative vs anaerobic.  Understand the goals of secondary treatment.","Understand the goals of preliminary and primary treatment.  Identify major pieces of equipment and unit processes associated with preliminary and primary treatment.","List the goals of solids digestion: reduce volume of sludge for disposal and reduce the number of pathogens.","Understand the purpose of dewatering and list three types of equipment that may used for dewatering.","Describe the three main types of secondary treatment systems: lagoons, fixed film, and activated sludge.  Identify the major unit processes and pieces of equipment associated with each.","Understand that activated sludge systems come in many different varieties, but they are all based on the same fundamental principals of biological treatment.","Distinguish between disinfection and sterilization.  List the two major types of disinfection used in wastewater treatment."]
[null,"WWT-002",395,"What's In My Wastewater: Definitions and Typical Ratios","S. Innerebner, PhD, PE",1.5,"24-06007-001","23-06007-001","22-06007-001",0.15,0,0.15,0.15,0,0.05,"See NV, WY, or WA","WWT23-3463-T1.5-G00",1.5,null,null,null,null,null,"5994-16-11","All WW, All IWW, All WWC Operators","Non-Process",1,null,null,null,null,null,null,1.5,1.5,"1.5 TC",1.5,"NV22-150",1.5,"WW","Half of Wastewater","OEPA-S579868-OM","IWG-S4102-OM",{"$f":"J40*10","v":1.5},"WW Only","R23143",1.5,0,null,1.5,1.5,0.1,"ECY22-3115","a7ij-muw5",0,1.5,2024.0235,"WW",1.5,"Yes",1.5,"No ","Domestic wastewater is fairly consistent in composition from treatment plant to treatment plant.  Unless there are large industrial contributions, domestic wastewater can be expected to adhere to some basic principles.  For example, influent BOD should be between 80 and 120% of the influent TSS.  Influent TKN should be around 10 or 20 percent of the influent BOD.  We'll look at why these ratios hold true and how they can be used to determine if laboratory data is internally consistent.  Knowing typical wastewater characteristics can be extraordinarily helpful in determining whether sample results are representative. Look at your lab data in a whole new light!","2023 WWT-002 Wastewater Components| indigowatergroup.ispringmarket.com","Explores components of wastewater. Gives typical ratios between components like biochemical oxygen demand (BOD) and total suspended solids (TSS) and others.","Wastewater operators can't effectively treat wastewater unless they understand what is in their wastewater and how each fraction is processed during treatment. Being familiar with typical ratios for domestic wastewater can help operators identify poor sampling practices and non-representative samples.","Intermediate","Wastewater","Utilize per capita generation rates to estimate influent concentrations for different parameters.  Understand that when solids leave in the final effluent, BOD, nitrogen, and phosphorus are also leaving.","Calculate an estimated average daily flow and peak hour flow for a service area given population served.","Explain the differences between BOD, cBOD, NOD, and COD.","Determine whether or not a wastewater is more or less likely to have an industrial component based on the COD to cBOD ratio.","Understand that solids are classified by their size (particulate versus soluble) and whether or not they are volatile.","Analyze influent and effluent data for internal consistency using typical ratios of COD to cBOD to TSS.  Identify the likely out-of-range component.","Given laboratory results in mg/L of ammonia, nitrate, or nitrite, convert each so they are expressed as N (e.g. NH3-N).  Convert between PO4= and PO4 as P."]
[null,"WWT-003",396,"Preliminary Treatment","S. Innerebner, PhD, PE",1,"24-09381-001","23-09381-001","None for 2022",0.1,0.05,0.1,0.1,0,0.05,null,"WWT23-3498-T01-G00",1,null,null,null,null,null,"7596-9-23","WW and Ind","Process",1.25,null,null,null,null,null,null,null,null,"1.0 TC",1,"NV23-515",1,"WW",0,null,"IWG-S4103-OM",1,"WW Only",null,null,null,null,null,1,null,null,null,null,null,2024.0216,"WW",1,"Yes",1,"No","This course covers preliminary treatment in wastewater treatment plants including screening and grit removal.  Screen types discussed include trash racks, traditional mechanical screens, catenary screens, band screens, step screens, and others.  Grit removal includes detritus tanks, velocity control tanks, and vortex type.","2023 WWT-003 Preliminary Treatmen | indigowatergroup.ispringmarket.com","This course covers preliminary treatment in wastewater treatment plants including screening and grit removal.","Preliminary treatment includes screening and grit removal. Headworks may also include flow equalization and flow measurement. Wastewater operators must understand how these processes work and their importance in keeping debris from passing further into the treatment process where it can damage equipment.","Fundamental","Wastewater","List characteristics of grit and screenings.","Explain why grit and screenings should be removed.","Identify different screen types and give characteristics of each.","Compare and contrast trash racks, bar screens, and fine screens.","Identify different types of grit basins and explain how they work.","Explain how velocity is used to separate grit from organic material.","Explain why washing is used to recover organic material from screenings and grit."]
[null,"WWT-004",397,"Primary Treatment ","S. Innerebner, PhD, PE",2,"24-09382-001","23-09382-001","None for 2022",0.2,0,0.2,0.2,0,0,null,null,null,null,null,null,null,null,null,null,null,null,null,null,null,null,null,null,null,null,"2.0 TC",2,"NV24-050",2,"WW",0,null,"IWG-S4104-OM",2,"WW Only",null,null,null,null,null,2,null,null,null,null,null,2024.0218,null,2,null,2,null,"This course walks attendees through the components of rectangular and circular primary clarifiers.  The course begins with operational theory and explains why primary clarifiers typically remove about 30% of influent BOD and about 50% of influent TSS.  Components and their functions are discussed for each type of clarifier with plenty of pictures to illustrate each component.  The course closes with process control tests and recommended maintenance.","2024 WWT-004 Primary Treatment | indigowatergroup.ispringmarket.com","Everything you ever wanted to know about primary clarifiers: form, function, operation, design parameters, and troubleshooting.",null,"Fundamental","Wastewater","Understand the purpose of primary treatment and when it should be incorporated into a wastewater treatment process.","Explain how influent wastewater characteristics affect primary clarifier performance.","List design parameters for primary clarifiers.","List the components of circular and rectangular clarifiers and give the purpose of each.","Collect and interpret process control data for primary clarifiers.","Compare and contrast rectangular versus circular primary clarifiers."]
[null,"WWT-005",398,"Biological Treatment Basics","S. Innerebner, PhD, PE",1.5,"24-07222-001","23-07222-001","22-07222-001",0.15,0,0.15,0.15,0,0,"See NV, WY, or WA","WWT23-3464-T1.5-G00",1.5,null,null,null,null,null,"7195-1-22","All WW Operators","Process",1.5,null,null,null,null,null,null,"Not Approved.","Not Approved.","1.5 TC",1.5,"NV22-151",1.5,"WW","Half of Wastewater","OEPA-S88637619-OM","IWG-S4105-OM",{"$f":"J43*10","v":1.5},"WW Only","R23144",1.5,0,0,0,1.5,0.1,"ECY22-3144","Not Approved.",null,null,2024.0169000000001,"WW",1.5,"Yes",1.5,"No ","Fundamentals basics introduces operators to different groups of microorganisms (aerobic, facultative, anaerobic, nitrifying, filamentous, and others) by comparing them to simple combustion motors.  The growth requirements and waste products for each group are presented.  The course concludes with a quick look at kinetics and the concept of limiting reactants.","2023 WWT-005 Biological Treatment | indigowatergroup.ispringmarket.com","Fundamentals basics introduces operators to different groups of microorganisms by comparing them to combustion engines. Defines terms used to classify microorganisms.","Different groups of bacteria are responsible for BOD, ammonia, nitrate, and phosphorus removal from wastewater. Understanding the growth requirements for each group of bacteria are critical to successful operation of a biological wastewater treatment plant.","Fundamental","Wastewater","List the different groups of bacteria present in biological treatment systems.","Describe the growth requirements for each group of bacteria (energy source, carbon source, oxygen source).","Define biological treatment terms: heterotroph, autotroph, anaerobic, anoxic, aerobic, floc former, filament former, half-saturation coefficient, maximum growth rate, and yield.","Predict how a bacteria will behave based on its environmental conditions."]
[null,"WWT-006",399,"Fixed Film: Trickling Filters and RBCs","S. Innerebner, PhD, PE",1.5,"24-06008-001","23-06008-001","22-06008-001",0.15,0,0.15,0.15,0,0,"See NV, WY, or WA","WWT23-3465-T1.5-G00",1.5,null,null,null,null,null,"5995-16-11","All WW Operators","Process",1,null,null,null,null,null,null,1.5,0,"1.5 TC",1.5,"NV22-152",1.5,"WW","Half of Wastewater","OEPA-S581512-OM","IWG-S4106-OM",1.5,"WW Only","R23145",1.5,0,0,0,1.5,0.1,"ECY22-3116","bhgd-1wpz",0,1.5,2024.0183999999999,"WW",1.5,"Yes",1.5,"No ","This course covers operation of trickling filters (TFs) and rotating biological contactors (RBC).  The individual components of each process are discussed along with their functions. Biological processes taking place in aerobic, facultative, and anaerobic biofilm layers are discussed along with typical operating ranges, process control strategies, and troubleshooting. This course is supplemented with many photographs showing different technologies with descriptions of the functions of various pieces such as the plenum, underdrain, and distributors.","2023 WWT-006 Fixed Film| indigowatergroup.ispringmarket.com","This course covers operation of trickling filters (TFs) and rotating biological contactors (RBC).  Components, function, process control, and troubleshooting.","Trickling filters and RBCs are used to treat wastewater.  Operators must understand fundamental principals to operate these systems.","Fundamental","Wastewater","Perform process control calcuations for trickling filters including organic loading rate, hydraulic wetting rate, and percent removal.  Classify trickling filters by treatment goals and loading rates.","Understand the importance of hydraulic wetting rate in biofilm formation and mitigation of predators.","List characteristics of various types of ttrickling filter media including rock, dump, vertical flow and cross-flow.","Discuss how air flows through a trickling filter using natural and forced air ventilation and the impact of air temperature on natural ventilation.","Compare and contrast the differences and similarities between trickling filters and rotating biological contactors.","Identify major components of trickling filters and give the function of each."]
[null,"WWT-007",400,"Lagoons and Wetlands","Innerebner & Flowers",2.5,"24-06009-001","23-06009-001","22-06009-001",0.25,0,0.25,0.25,0,0,"See NV, WY, or WA","WWT23-3466-T2.5-G00",2.5,null,null,null,null,null,"5996-16-11","WW 3, 4, A; IWW 4 Operators","Process",2,null,null,null,null,null,null,2,0,"2.5 TC",2.5,"NV22-174",2.5,"WW","Half of Wastewater","OEPA-S579869-OM","IWG-S4107-OM",2.5,"WW Only","R23146",2.5,0,0,0,2.5,0.2,"ECY22-3117","8xkq-7t2h",0,2,2024.0206000000001,"WW",2.5,"Yes",2.5,"No ","This presentation covers the method of operation for lagoons and various natural treatment processes. Basic design principals are discussed for lagoons as well as biological processes taking place in aerobic, facultative, and anaerobic ponds. Typical operating ranges for each system type including hydraulic and organic loading rates are presented.  Troubleshooting is discussed and relationships between operating variables.","2023 WWT-007 Lagoons and Wetlands | indigowatergroup.ispringmarket.com","This presentation covers the method of operation for lagoons and engineered wetlands. Components, function, operation, and troubleshooting.","Lagoons and constructed wetlands are used to treat wastewater.  Operators must understand fundamental principals to operate these systems.","Fundamental","Wastewater","Determine the most likely cause of various lagoon operational problems. (troubleshooting)","Describe the major components of a constructed wetland and the function of each.","List typical effluent concentrations from a constructed wetland including BOD, TSS, ammonia, nitrate, and E. coli.","Explain how heat is retained in the wetland to prevent freezing and promote biological treatment.","Implement barley straw addition program for algae control in lagoons systems.","Perform required maintenance tasks for subsurface flow wetlands and explain why different types of maintenance are required.","Explain why turnover happens in pond systems and how the AIPS process mitigates turnover effects.","Describe the three main types of ponds (aerobic, facultative, and anaerobic), features of each, and the biological reactions taking place."]
[null,"WWT-007A",401,"Wastewater Treatment Lagoons","S. Innerebner, PhD, PE",2,"24-10618-001",null,null,0.2,0,0.2,0.2,0,0,null,null,null,null,null,null,null,null,null,null,null,null,null,null,null,null,null,null,null,null,"2.0 TC",2,"submitted 02/06",null,null,null,null,"IWG-S4108-OM",2,"WW Only",null,null,null,null,null,null,null,null,null,null,null,2024.0231000000001,"WW",2,null,2,null,"This presentation covers the method of operation for wastewater treatment lagoons. Basic design principals are discussed for lagoons as well as biological processes taking place in aerobic, facultative, and anaerobic ponds. Typical operating ranges for each system type including hydraulic and organic loading rates are presented.  Troubleshooting is discussed and relationships between operating variables.",null,null,null,"Fundamental","Wastewater","Describe the three main types of ponds (aerobic, facultative, and anaerobic), features of each, and the biological reactions taking place.","Describe the major components of wastewater treatment ponds and the function of each.","Implement barley straw addition program for algae control in lagoons systems.","Explain why turnover happens in pond systems and how the AIPS process mitigates turnover effects.","Determine the most likely cause of various lagoon operational problems. (troubleshooting)"]
[null,"WWT-007B",402,"Subsurface Flow Wetlands for Wastewater Treatment","Dave Flowers, PE",1,"24-10616-001",null,null,0.1,0,0.1,0.1,0,0,null,null,null,null,null,null,null,null,null,null,null,null,null,null,null,null,null,null,null,null,"1.0 TC",1,"submitted 02/06",null,null,null,null,"IWG-S4109-OM",1,"WW Only",null,null,null,null,null,null,null,null,null,null,null,2024.0222000000001,"WW",1,null,1,null,"Subsurface flow wetlands can be used as a polishing step following septic tanks or secondary treatment system. They are effective at removing ammonia and nitrate even in cold climates.  The presenter, Dave Flowers, holds many of the patents on engineered wetland systems. This presentation highlights a case study at Kettle Moraine Lutheran High School in Wisconsin taking attendees through the design, components, operation, and performance of the system.",null,"This presentation covers the method of operation for engineered wetlands. Components, function, operation, and troubleshooting.",null,null,"Wastewater","Identify components of subsurface flow wetlands.","Describe the types of biological treatment taking place in an engineered wetland.","Explain why operational tasks are needed and consquences of failing to do them.","Compare and contrast wetland treatment performance with other types of treatment."]
[null,"WWT-008",403,"Lagoons and Fixed Film","S. Innerebner, PhD, PE",2,"24-06010-001","23-06010-001","22-06010-001",0.2,0.15,0.2,0.2,0,0,"See NV, WY, or WA","WWT23-3467-T02-G00",2,null,null,null,null,null,"5997-16-11","WW 3, 4, A; IWW 4 Operators","Process",1,null,null,null,null,null,null,1.5,0,"2.0 TC",2,"NV22-153",2,"WW","Half of Wastewater","OEPA-S579870-OM","IWG-S4110-OM",2,"WW Only","R23147",2,0,0,0,2,0.2,"ECY22-3118"," 6dp3-dpez",0,1.5,2024.0205000000001,"WW",2,"Yes",2,"No ","This presentation combines material from our lagoons and fixed film courses. Components, operation, maintenance, and troubleshooting for each process type are presented.  If you are looking for lagoon information specifically, please take our Lagoons and Wetlands course instead.","2023 WWT-008 Lagoons & Fixed Film | indigowatergroup.ispringmarket.com","This is an older version of the lagoons and fixed film courses.  We've kept it for folks that like seeing these two topics presented together.","Lagoons and fixed film are both used to process wastewater.  Operators must understand fundamental principals to operate these systems.","Fundamental","Wastewater","Determine the most likely cause of various lagoon operational problems. (troubleshooting)","Identify major components of trickling filters and give the function of each.","List characteristics of various types of ttrickling filter media including rock, dump, vertical flow and cross-flow.","Discuss how air flows through a trickling filter using natural and forced air ventilation and the impact of air temperature on natural ventilation.","Explain why turnover happens in pond systems and how the AIPS process mitigates turnover effects.","Understand the importance of hydraulic wetting rate in biofilm formation and mitigation of predators.","Classify trickling filters by treatment goals and loading rates.","Compare and contrast the differences and similarities between trickling filters and rotating biological contactors.","Describe the three main types of ponds (aerobic, facultative, and anaerobic), features of each, and the biological reactions taking place."]
[null,"WWT-009",404,"Activated Sludge Basics","S. Innerebner, PhD, PE",3,"24-06011-002","23-06011-002","22-06011-001",0.3,0,0.3,0.3,0,0,"See NV, WY, or WA","WWT23-3468-T03-G00",3,null,null,null,null,null,"5998-16-11","WW 3, 5, A; IWW 5 Operators","Process",2,null,null,null,null,null,null,2.5,0,"3.0 TC",3,"NV22-154",3,"WW","Half of Wastewater","OEPA-S579871-OM","IWG-S4111-OM",3,"WW Only","R23148",3,0,0,0,3,0.3,"ECY22-3119","7nmw-sr91",0,2.5,2024.0154,"WW",3,"Yes",3,"No ","This course introduces participants to the basics of activated sludge. It presents fundamental concepts such as space loading, F:M ratio, MCRT, SRT, solids loading and flux to the secondary clarifier, and surface overflow rate. We focus on how each of these variables is interrelated and how changing one necessarily changes the others. Typical ranges for conventional and extended aeration activated sludge plants are compared.  This class also looks at an introduction to microbiology, filaments, conditions for filamentous growth, and control.","2023 WWT-009 Activated Sludge Bas | indigowatergroup.ispringmarket.com","This course introduces participants to the basics of activated sludge. It presents fundamental concepts such as space loading, F:M ratio, MCRT, SRT, solids loading, etc.","Activated sludge is used to treat wastewater.  Operators must understand fundamental principals to operate these systems.","Fundamental","Wastewater","Predict the effect of increasing or decreasing sludge age on other process control variables including MLSS concentration, MLVSS concentration, F:M ratio, and wasting rate. Calculate process control variables from plant data.","Perform a Gram or Neisser Stain and interpret results to correctly identify which filament is dominant in an activated sludge process.","Match specific filament types to their underlying causes including H. hydrosis, M. parvicella, and Type 21N.","Understand that different filaments grow and become dominant under different operating conditions.  Given a filament type, determine the most likely cause of growth.","List three different things that the return activated sludge (RAS) and waste activated sludge (WAS) each control.","Describe how hydraulic and solids loading parameters are calculated for secondary clarifiers and the relative importance of each.","List at least three groups of microorganisms present in activated sludge and describe the conditions that promote their growth.","Discuss differences between different types of activated sludge processes (complete mix, step feed, oxidation ditch, pureox, etc.) and understand that they are all based on the same underlying biologial principals.","Understand that activated sludge microbiology determines sludge settleability and the need to balance floc formers and filament formers."]
[null,"WWT-010",405,"Activated Sludge Basics: A Mechanical Approach","S. Innerebner, PhD, PE",2,"24-06012-001","23-06012-001","22-06012-001",0.2,0,0.2,0.2,0,0,"See NV, WY, or WA","WWT23-3469-T2.5-G00",2.5,null,null,null,null,null,"5962-16-07 NP","WW; 3, 5 All IWW; 5","Process",2,null,null,null,null,null,null,2,0,"2.5 TC",2.5,"NV22-155",2.5,"WW","Half of Wastewater","OEPA-S576553-OM","IWG-S4112-OM",2,"WW Only","R23149",2.5,0,0,0,2,0.2,"ECY22-3120","a7ij-muwn",0,2,2024.0155,"WW",2,"Yes",2,"No ","If activated sludge has never made sense to you, but engines and other mechanical devices do, then this is the course for you.  This course introduces participants to the basics of activated sludge. Inspired by the chief of maintenance at a Colorado WWTP, this course looks at activated sludge from a mechanical perspective and introduces bacteria as the little combustion engines that they are.  Seeing the mechanical inputs makes the inner workings of activated sludge crystal clear. Covers concepts of sludge age, food-to-microorganism ratio, and relationships between process control variables.","2023 WWT-010 Activated Sludge Mec | indigowatergroup.ispringmarket.com","If activated sludge has never made sense to you, but engines and other mechanical devices do, then this is the course for you.","Activated sludge is used to treat wastewater.  Operators must understand fundamental principals to operate these systems.","Fundamental","Wastewater","Classify bacteria according to morphology, growth pattern, carbon source, and oxygen source.  Define heterotroph, autotroph, facultative, and obligate aerobe.","Explain how faculative heterotropic bacteria and autotrophic bacteria will function in an anaerobic zone, anoxic zone, and aerated zone.","Discuss the impact of filaments on activated sludge settleability and the need to balance the growth of filament formers and floc formers.","Understand what may be controlled by manipulating the Return Activated Sludge (RAS) and Waste Activated Sludge (WAS) pumping rates.","Select a target sludge age based on water temperature and nitrification requirements.","Calculate process control variables associated with secondary clarifiers including surface overflow rate, weir loading rate, and solids loading rate.","Demonstrate the relationships between sludge age (control variable) and its dependent process control variables of food to microorganism ratio, MLSS concentration, and MLVSS to MLSS ratio.","Conduct three types of settleometer tests and interpret results."]
[null,"WWT-011",406,"Top 10 Questions for Activated Sludge Process Control","S. Innerebner, PhD, PE",2.5,"24-07727-001","23-07727-001","22-07727-001",0.25,0,0.25,0.25,0,0,"See NV, WY, or WA","WWT23-3470-T2.5-G00",2.5,null,null,null,null,null,"7196-1-22","All WW / I Operators","Process",2.5,null,null,null,null,null,null,null,null,"2.5 TC",2.5,"NV22-156",2.5,"WW",0,null,"IWG-S4113-OM",2.5,"WW Only","R23150",2.5,0,0,0,2.5,0.2,"ECY22-3145","Not Approved.",null,null,2024.0223000000001,"WW",2.5,"Yes",2.5,"No","Activated sludge has 7 variables that are critical for process control: waste activated sludge (WAS), return activated sludge (RAS), sludge age (MCRT, SRT, and SRTaerobic), food to microorganism ratio (F:M), dissolved oxygen concentration, oxidation reduction potential (ORP), and internal mixed liquor recycle (IMLR).  This course walks attendees through what each of these variables controls, typical ranges, and how to select a target operating point.","2023 WWT-011 Top 10 Questions | indigowatergroup.ispringmarket.com","Activated sludge has 7 variables that are critical for process control. Learn how to select set points for MCRT, SRT, SRTaerobic, RAS pumping, DO, ORP, and more.","Activated sludge is used to treat wastewater.  Operators must understand fundamental principals to operate these systems.","Advanced","Wastewater","Explain the relationships between sludge age, F:M, and MLSS concentration.","Understand the difference between MCRT, SRT, and SRTaerobic.","Select a target MCRT, SRT, or SRTaerobic based on treatment goals and water temperature.","Set targets for DO and ORP in anaerobic, anoxic, and aerobic zones based on treatment goals.","Adjust IMLR to maximize nitrate removal and minimize pumping costs.","Understand how RAS pumping rates affect the RAS concentration and clarifier solids loading rate."]
[null,"WWT-012A",407,"Activated Sludge Microbiology: A View Beneath the Surface","Steve Leach",1,"24-08900-001","23-08900-001","22-08900-001",0.1,0,0.1,0.1,0,0,"See NV, WY, or WA","WWT23-3471-T01-G00",1,null,null,null,null,null,"7597-9-23","WW and Ind","Process",1,null,null,null,null,null,null,1,0,"1.0 TC",1,"NV22-157",1,"WW","Half of Wastewater","OEPA-S579874-OM","IWG-S4114-OM",1,"WW Only","R23151",1,0,0,0,1,0.1,"ECY22-3147","Not Approved.",null,null,2024.0155999999999,"WW",1,"Yes",1,"No","This is the first part of a three part series on activated sludge microbiology.  This course discusses how bacteria are classified, bacterial forms present in activated sludge, and how floc forms.  Attendees will learn how to distinguish between tightly and loosely bound extra-polymeric substances and what the presence of each can indicate.","2023 WWT-012A Microbiology 1 | indigowatergroup.ispringmarket.com","A three part series.  Part 1 discusses how bacteria are classified, bacterial forms present in activated sludge, and how floc forms.","Activated sludge is used to treat wastewater.  Operators must understand fundamental principals to operate these systems.","Fundamental","Wastewater","Describe major groups of bacteria present in activated sludge and how they are classified.","Distinguish between tightly and loosely bound EPS.","Describe key indicators in the bulk water between floc particles.","Make process control adjustments based on microscopic observations."]
[null,"WWT-012B",408,"Activated Sludge Microbiology: Microscope Basics and the Micro Exam","Steve Leach",1,"24-08901-001","23-08901-001","22-08901-001",0.1,0.1,0.1,0.1,0.1,0,"See NV, WY, or WA","WWT23-3472-T01-G00",1,null,null,null,null,null,"7598-9-23","WW and Ind","Non-Process",1,null,null,null,null,null,null,null,null,"1.0 TC",1,"NV22-158",1,"WW",null,null,"IWG-S4115-OM",1,"WW Only","R23152",1,0,0,0,1,0.1,"ECY22-3148","Not Approved.",null,null,2024.0157999999999,"WW",1,"Yes",1,"No","This is the second part of a three part series on activated sludge microbiology.  In part two, attendees will learn how to properly set up and care for their microscope and how to properly conduct a micro exam.","2023 WWT-012B The Micro Exam | indigowatergroup.ispringmarket.com","In part two, attendees will learn how to properly set up and care for their microscope and how to properly conduct a microscopic exam.","Activated sludge is used to treat wastewater.  Operators must understand fundamental principals to operate these systems.","Fundamental","Wastewater","List the major components of a phase-contrast microscope.","Explain why phase-contrast is necessary for filament observation.","Clean, set up, and calibrate a phase-contrast microscope.","Properly prepare a wet mount.","Perform a micro exam: floc, filaments, higher life forms, and bulk water examination.","Diagnose the presence of excessive EPS."]
[null,"WWT-013",409,"Activated Sludge Microbiology: Filaments and Settling Problems","Steve Leach",1,"24-08902-001","23-08902-001","22-08901-001",0.1,0,0.1,0.1,0,0,"See NV, WY, or WA","WWT23-3473-T01-G00",1,null,null,null,null,null,"7599-9-23","WW and Ind","Non-Process",1,null,null,null,null,null,null,1,0,"1.0 TC",1,"NV22-159",1,"WW","Half of Wastewater","OEPA-S579875-OM","IWG-S4116-OM",1,"WW Only","R23153",1,0,0,0,1,0.1,"ECY22-3122","Not Approved.",null,null,2024.0156999999999,"WW",1,"Yes",1,"No","This is the third part of a three-part series on activated sludge microbiology.  Attendees will learn how to identify different activated sludge filaments based on their morphology, location in relation to the floc, and how they respond to different staining techniques.  Growth conditions for filaments commonly found in domestic wastewater treatment plants are presented.","2023 WWT-013 Filaments & Settling | indigowatergroup.ispringmarket.com","Part 3 focuses on filamentous bacteria, how to identify them, and what their presence may indicate about the activated sludge process.","Activated sludge is used to treat wastewater.  Operators must understand fundamental principals to operate these systems.","Intermediate","Wastewater","Rate filament density using a common scale.","List the various operating conditions that can contribute to filament growth.","List morphological features of filaments used for identification.","Perform a Gram stain.","Perform a Neisser stain.","Describe the most commonly encountered filaments in domestic wastewater treatment."]
[null,"WWT-014",410,"Types of Activated Sludge Systems","S. Innerebner, PhD, PE",1.5,"24-06015-001","23-06015-001","22-06015-001",0.15,0,0.15,0.15,0,0,"See NV, WY, or WA","WWT23-3474-T1.5-G00",1.5,null,null,null,null,null,"6001-16-11","WW 3, 5, A Operators","Process",1,null,null,null,null,null,null,1.5,0,"1.5 TC",1.5,"NV22-160",1.5,"WW","Half of Wastewater","OEPA-S579878-OM","IWG-S4117-OM",{"$f":"J55*10","v":1.5},"WW Only","R23154",1.5,0,0,0,1.5,0.1,"ECY22-3123","6dp3-dpfx",0,1.5,2024.0226,"WW",1.5,"Yes",1.5,null,"Different types of activated sludge systems are discussed with a focus on flow patterns (complete mix, plug flow, batch) versus operational method (pureox, conventional, extended aeration, step feed, high rate, etc.). Simple process diagrams and photographs of each process type are included.  Clarifier flow patterns, sludge collection mechanisms, and weir / launder arrangements are discussed.  Finally, we look at common configurations for activated sludge processes that remove nutrients to low levels including the modified Ludzack-Ettinger process, University of Cape Town process, and others.  Pros and cons of each type of system and their associated treatment objectives are also discussed.","2023 WWT-014 Activated Sludge Sys | indigowatergroup.ispringmarket.com","Different types of activated sludge systems are discussed with a focus on flow patterns (complete mix, plug flow, batch) versus operational methods.","Activated sludge is used to treat wastewater.  Operators must understand fundamental principals to operate these systems.","Fundamental","Wastewater","Discuss variations on the activated sludge process as combinations of a flow regiment (complete mix, plug flow, step feed, SBR) and an operating mode (conventional, extended aeration, PureOx) giving the dominant features of each.","Describe the different types of clarifiers (circular, rectangular, squircle), the major components of clarifiers, and the functions of each component.","List the functions of aerobic and anoxic zones for nitrification and denitrification.  Understand how biological nutrient removal processes have evolved to meet lower effluent nitrogen limits."]
[null,"WWT-015",411,"Sequencing Batch Reactors (under construction)","S. Innerebner, PhD, PE",1.5,null,"None for 2023","None for 2022",null,null,null,null,null,null,null,null,null,null,null,null,null,null,null,null,null,null,null,null,null,null,null,null,null,null,null,null,null,null,null,0,null,"IWG-S4118-OM",1.5,"WW Only",null,null,null,null,null,null,null,null,null,null,null,null,"WW",null,null,null,null,null,null,null,null,null,"Wastewater"]
[null,"WWT-016",412,"Nitrification and Denitrification","S. Innerebner, PhD, PE",3,"24-06016-001","23-06016-001","22-06016-001",0.3,0.3,0.3,0.3,0,0,"See NV, WY, or WA","WWT23-3475-T2.5-G00",2.5,null,null,null,null,null,"6002-16-11","WW 3, 4, 5, A; IWW 5 Operators","Process",1.5,null,null,null,null,null,null,2,0,"3.0 TC",3,"NV22-173",3,"WW","Half of Wastewater","OEPA-S579877-OM","IWG-S4119-OM",{"$f":"J57*10","v":3},"WW Only","R23155",2.5,0,0,0,3,0.2,"ECY22-3124","2jvn-4jz3",0,2,2024.0214000000001,"WW",3,"Yes",3,"No ","This presentation covers biological nitrification and denitrification. Topics that are covered include: the organisms responsible for nitrification and denitrification, stoichiometry, variables that impact performance (DO, alkalinity, pH, temperature, SRT, BOD:N ratio), the different types of unit processes (fixed films and activated sludge) that can be used for nitrogen removal. ","2023 WWT-016 Nitrogen Removal | indigowatergroup.ispringmarket.com","This presentation covers biological nitrification and denitrification. Organisms responsible, growth requirements, byproducts, and process control.","Total nitrogen removal is a requirement of more and more wastewater treatment plant discharge permits. Operators must understand fundamental principals to achieve compliance.  Drinking water systems that use chloramines to disinfect are at risk of nitrification in the distribution system.","Advanced","Wastewater","Apply knowledge of denitrification stoichiometry to prevent denitrification from occurring in clarifier blankets.","Adjust internal mixed liquor recycle ratios between aerobic and anoxic zones to maximize nitrification and denitrification.","Identify sources and types of nitrogen species in the environment and domestic wastewater.","Identify the two main groups of bacteria responsible for ammonia removal and their requirements for growth.","Select a target mean cell residence time (MCRT) based on treatment goals and water temperature.","Explain why effluent ammonia concentrations can be several mg/L even when complete nitrification is taking place.","Discuss process variables that may affect nitrification including pH, alkalinity, and dissolved oxygen.","Understand denitrification stoichiometry and the requirements for denitrification to take place."]
[null,"WWT-017",413,"Biological and Chemical Phosphorus Removal","S. Innerebner, PhD, PE",2,"24-06017-001","23-06017-001","22-06017-001",0.2,0,0.2,0.2,0,0,"See NV, WY, or WA","WWT23-3476-T02-G00",2,null,null,null,null,null,"6003-16-11","WW 3, 4, 5, A; IWW 5 Operators","Process",1.5,null,null,null,null,null,null,1.5,0.5,"2.0 TC",2,"NV22-161",2,"WW","Half of Wastewater","OEPA-S579876-OM","IWG-S4120-OM",{"$f":"J58*10","v":2},"WW Only","R23156",2,0,0,0,2,0.2,"ECY22-3125","bhgd-1wr3",0,1.5,2024.0168000000001,"WW",2,"Yes",2,"No ","This course is an introduction to biological and chemical phosphorus removal.  Attendees will learn about the organisms responsible for biological phosphorus removal, the importance of cycling between anaerobic and anoxic/aerobic conditions, the benefits of biological phosphorus removal, and a brief introduction to chemical removal methods.","2023 WWT-017 Phosphorus Removal | indigowatergroup.ispringmarket.com","This course is an introduction to biological and chemical phosphorus removal.","Phosphorus removal is a requirement of more and more wastewater treatment plant discharge permits. Operators must understand fundamental principals to achieve compliance.  ","Advanced","Wastewater","Discuss the impact of various operating variables on enhanced biological phosphorus removal performance including dissolved oxygen, pH, temperature, and hydraulic and solids retention times.","Evaluate influent data to determine if the carbon source to phosphorus ratios might support enhanced biological phosphorus removal.","Understand the basics of phosphorus precipitation chemistry and the concept of metal equivalent to P ratios to achieve certain effluent P goals.","List three novel techniques for phosphorus removal.","Understand the consequence of discharging excess phosphorus into the environment and the regulatory limitations being placed on phosphorus by EPA.","List sources of phosphorus in municipal wastewater.  Convert between phosphorus as phosphate and phosphorus as P.","Explain the concept of luxury phosphorus uptake and how phosphate accumulating organisms utilize poly-phosphate for energy storage."]
[null,"WWT-018",414,"State Point Analysis for Secondary Clarifiers","Eric Wahlberg, PhD, PE",1.5,"24-06018-001","23-06018-001","22-06018-001",0.15,0.15,0.15,0.15,0,0,"See NV, WY, or WA","WWT23-3477-T1. 5-G00",1.5,null,null,null,null,null,"6004-16-11","All WW, All IWW Operators","Process",1,null,null,null,null,null,null,1.5,1.5,"1.5 TC",1.5,"NV22-162",1.5,"WW","Half of Wastewater","OEPA-S579872-OM","IWG-S4121-OM",{"$f":"J59*10","v":1.5},"WW Only","R23157",1.5,0,0,0,1.5,0.1,"ECY22-3126","7nmw-srad",0,1.5,2024.0220999999999,"WW",1.5,"Yes",1.5,"No ","This course gives an in-depth discussion of secondary clarifier state point analysis which is a mathematical model used to predict secondary clarifier performance based on sludge settling characteristics, solids loading rate, surface overflow rate, and return activated sludge rate.  Participants can download the model for later use.","2023 WWT-018 Secondary Clarifiers | indigowatergroup.ispringmarket.com","This course gives an in-depth discussion of secondary clarifier state point analysis, which is a mathematical model used to predict secondary clarifier performance.","All wastewater treatment processes depend on solids/liquid separation for treatment.  Understanding how clarifiers work and why they fail is critical knowledge for wastewater operators.","Advanced","Wastewater","Understand that a secondary clarifier can only perform as well as the sludge quality sent to it.","Calculate the maximum RAS concentration achievable by the secondary clarifier using settleometer results.  Optimize the RAS flow rate to achieve maximum thickness and keep blanket depth below 2 ft.","Understand how changes in influent flow cause a typical clarifier to move between underloaded, overloaded and critically loaded conditions and what happens to the sludge blanket in each case.","Calculate the predicted return activated sludge (RAS) concentration given the mixed liquor suspended solids (MLSS) concentration, influent flow, and RAS flow.","Label each piece of a State Point Analysis graph and explain the origin of each piece and the information they convey.","Explain why the RAS flow rate does not control the MLSS concentration."]
[null,"WWT-019",415,"Activated Sludge Process Control Tests and Troubleshooting","S. Innerebner, PhD, PE",2.5,"24-06019-001","23-06019-001","22-06019-001",0.25,0,0.25,0.25,0,0,"See NV, WY, or WA","WWT23-3478-T2. 5-G00",2.5,null,null,null,null,null,"6005-16-11","All WW, All IWW Operators","Process",2,null,null,null,null,null,null,2,2,"2.5 TC",2.5,"NV22-163",2.5,"WW","Half of Wastewater","OEPA-S579873-OM","IWG-S4122-OM",{"$f":"J60*10","v":2.5},"WW Only","R23158",2.5,0,0,0,2.5,0.2,"ECY22-3127","Not Approved.",null,null,2024.0159000000001,"WW",2.5,"Yes",2.5,"No ","This course discusses various process control tests for activated sludge including: measurement of the clarifier blanket (sludge judge), settleometer, diluted settleometer, sludge volume index, OUR and SOUR as well as three different methods for measuring MLSS concentration. Control charts and CUSUM charts and their uses are discussed.  Multiple case studies for troubleshooting are presented.","2023 WWT-019 AS Process Tests | indigowatergroup.ispringmarket.com","Process control tests used for activated sludge process control along with tips for troubleshooting.","Many wastewater plants use activated sludge to treat wastewater.  Operators must know how to collect and interpret process control results.","Intermediate","Wastewater","Explain how trend charts can be effective tools for process control and distinguish between trends and out-of-limit conditions.","Understand that F:M, MLSS concentration, and SRT are inextricably linked and that good process control (SRT control) is essential for avoiding situations that require troubleshooting.","Collect a clarifier core sample at the correct location to account for the volume of sludge in a conical bottom tank.","Evaluate historic sludge volume index data for trends using a CUSUM (cumulative sum) chart to determine when changes in operating modes occurred.","Conduct a sludge settleability test using a Mallory settleometer and interpret results from regular settleometer, diluted settleometer, and supernatant comparison tests.  Determine if effluent quality issues are related to sludge quality or a deficiency in the clarifier.","Compare and contrast gravimetric total suspended solids results to centrifuge spin results.","Conduct a specific oxygen uptake rate test on either activted sludge or an aerobic digester and interpret results.","Apply a variety of techniques (mass balance, looking for differences, going back to basics) to troubleshoot operational problems."]
[null,null,416,"Membranes for Water and Wastewater Treatment (under construction)",null,1,null,"23-09378-001","None for 2022",0.1,0.1,0.1,0.1,0,0,null,null,null,null,null,null,null,null,null,null,null,null,null,null,null,null,null,null,null,null,null,null,null,null,null,null,null,"IWG-S4123-OM",1,"Both DW and WW",null,null,null,null,null,0.1,null,null,null,null,null,null,"WW",null,null,null,null,null,null,null,null,null,"Wastewater"]
[null,"WWT-020",417,"Chlorine Disinfection","S. Innerebner, PhD, PE",2.5,"24-06020-001","23-06020-001","22-06020-001",0.25,0.25,0.25,0.25,0.25,0,"See NV, WY, or WA","WWT23-3479-T02-G00",2,null,null,null,null,null,"6006-16-11","All Operators","Process",1,null,null,null,null,null,null,1.5,1.5,"2.5 TC",2.5,"NV22-164",2.5,"WW","Half of Wastewater","OEPA-B579840-OM","IWG-B4124-OM",{"$f":"J62*10","v":2.5},"Both DW and WW","R23159",2.5,0,0,0,2.5,0.2,"ECY22-3146","Not Approved.",null,null,2024.0172,"WW",2.5,"Yes",2.5,"No ","This wastewater-focused presentation walks the participant through chlorine chemistry, the different forms of chlorine available for disinfection, and chlorine safety. This class devotes time to the safe handling of gaseous and liquid chlorine and reporting requirements under SARA Title III. The class covers recommended doses and contact times for various applications as well as the impact of water chemistry and temperature on disinfection.","2023 WWT-020 Wastewater Disinfect | indigowatergroup.ispringmarket.com","This wastewater-focused presentation walks the participant through chlorine chemistry, the different forms of chlorine available for disinfection, and chlorine safety.","Chlorine disinfection is used in water and wastewater.  Information is directly applicable to all system types.","Fundamental","All operators","Explain the purpose of a fusible plug and recite the melt temperature.","Describe the products formed when either sodium hypochlorite or calcium hypochlorite solution is mixed with water and the impact on alkalinity.","Discuss the breakpoint chlorination curve and describe in detail the chemical reactions taking place at each stage of the curve.","Explain regulatory requirements for chlorine leaks, how to detect a chlorine leak, and the three types of chlorine repair kits.","List the characteristics of chlorine gas and write the chemical formulas of the compounds formed when chlorine gas mixes with water."]
[null,"WWT-021",418,"UV Disinfection (under construction)","Austin Carnes",1.5,null,"None for 2023","None for 2022",null,null,null,null,null,null,null,null,null,null,null,null,null,null,null,null,null,null,null,null,null,null,null,null,null,null,null,null,null,null,null,0,null,"IWG-B4125-OM",1.5,"Both DW and WW",null,null,null,null,null,null,null,null,null,null,null,2024.0228999999999,"W, WW",1.5,null,1.5,null,null,null,null,null,null,"Wastewater"]
[null,"WWT-022",419,"Introduction to Solids Handling and 503 Regulations","S. Innerebner, PhD, PE",1.5,"24-06022-002","23-06022-002","22-06022-002",0.15,0,0.15,0,0,0,"See NV, WY, or WA","WWT23-3480-T1.5-G00",1.5,null,null,null,null,null,"Not Approved.",null,null,null,null,null,null,null,null,null,1.5,0,"1.5 TC",1.5,"NV22-165",1.5,"WW","Half of Wastewater","OEPA-B579843-OM","IWG-S4126-OM",{"$f":"J64*10","v":1.5},"Both DW and WW","R23160",1.5,0,0,0,1.5,0.1,"ECY22-3128","Not Approved",null,null,2024.0192999999999,"WW",1.5,"Yes",1.5,null,"Participants will be given an overview of the Biosolids 503 Regulations and their Colorado equivalent including sample calculations for land application.  The purpose of solids stabilization and management is emphasized both from a public health perspective and reducing overall operating and disposal costs.","2023 WWT-022 Intro to 503 Regs | indigowatergroup.ispringmarket.com","Participants will be given an overview of the Biosolids 503 Regulations and their Colorado equivalent including sample calculations for land application.","Most wastewater treatment plants beneficially reuse their biosolids through land application. Operators must understand the regulatory structure that governs beneficial reuse.","Intermediate","Wastewater","Select a sludge treatment process to produce either Class A or Class B biosolids and meet the vector attraction reduction requirement.","List minimum sampling and analysis requirements for finished biosolids and land application sites.","Understand that biosolids usage requires generators and anyone who changes biosolids quality to be permitted.","Compare and contrast pathogen and contaminant levels allowed for Class A and Class B biosolids.","Properly land apply or landfill finished biosolids in accordance with setback requirements and other restrictions."]
[null,"WWT-023",420,"Aerobic and Anaerobic Digestion","S. Innerebner, PhD, PE",3,"24-06023-001","23-06023-001","22-06023-001",0.3,0,0.3,0.3,0,0,"See NV, WY, or WA","WWT23-3481-T2.5-G00",2.5,null,null,null,null,null,"6007-16-11","All WW, All IWW Operators","Process",2,null,null,null,null,null,null,2,0,"2.0 TC",2,"NV22-166",2.5,"WW","Half of Wastewater","OEPA-S579844-OM","IWG-S4127-OM",{"$f":"J65*10","v":3},"WW Only","R23161",3,0,0,0,2,0.2,"ECY22-3129","2jvn-4jzb",0,2,2024.0164,"WW",3,"Yes",3,"No ","This course focuses specifically on aerobic and anaerobic digestion with a focus on biology, components (parts and purpose including lids, gas collection, mixing techniques, heat exchangers, and more), typical design and operating criteria, indications of souring, and process control calculations specific to anaerobic digestion. Course closes with two case studies to walk operators through two troubleshooting scenarios.","2023 WWT-023 Solids Digestion | indigowatergroup.ispringmarket.com","This course focuses specifically on aerobic and anaerobic digestion with a focus on biology, components (parts and purpose), and troubleshooting.","Operators must understand the fundamentals of aerobic and anaerobic digestion to effectively operate these processes.","Intermediate","Wastewater","List typical gas production values for anaerobic digesters and give two reasons why digester gas has a lower heating value than natural gas.","Describe anaerobic digester operation and the importance of various operating parameters including temperature and loading rate.","Review operating data, compare to standard operating conditions, and diagnose the most likely cause for an upset condition.","Understand the importance of managing high-ammonia recycle streams from anaerobic digestion and dewatering processes with respect to maintaining stable nitrification on the liquid stream side of the WWTP and preventing bleed-through of high ammonia to the final effluent.","List the requirements for meeting Class A or Class B biosolids and vector attraction reduction requirements for land application of biosolids.","Compare aerobic digestion to the activated sludge process and list two common operational issues and their solutions.","Describe the major components of anaerobic digesters and the function of each."]
[null,"WWT-024",421,"Belt Filter Presses","S. Innerebner, PhD, PE",2,"24-06024-001","23-06024-001","22-06024-001",0.2,0.2,0.2,0.2,0,0,"See NV, WY, or WA","WWT23-3482-T02-G00",2,null,null,null,null,null,"6008-16-11","All WW, All IWW, WT 3, 4 Operators","Process",1,null,null,null,null,null,null,1.5,1.5,"2.0 TC",2,"NV22-167",2,"WW","Half of Wastewater","OEPA-B579845-OM","IWG-B4128-OM",2,"Both DW and WW","R23162",2,0,0,0,2,0.2,"ECY22-3130","8xkq-7t49",0,1.5,2024.0166999999999,"WW",2,"Yes",2,"No ","This course is devoted to operation and maintenance of belt filter presses.  It begins with a thorough discussion of belt filter press theory followed by a close examination of the components of the press itself.  The second half of the course is devoted to process control calculations specific to belt filter presses followed by a section on troubleshooting.","2023 WWT-024 Belt Filter Presses | indigowatergroup.ispringmarket.com","This course is devoted to operation and maintenance of belt filter presses.  Theory of operation, components, function, and troubleshooting.","Operators must understand the fundamentals of belt filter presses to effectively operate them and achieve high solids capture and high percent solids cake.","Fundamental","Wastewater","List each of the dewatering zones in a belt filter press and give the expected solids concentration at the end of each zone.","Describe the major components of a belt filter press and give the function of each.","Understand the three major classifications of polymers and flocculants and the procedure for optimizing polymer dose.","Given an operational problem or operational data from a belt filter press, suggest the most likely cause and one other potential cause.  (Troubleshooting)","Calculate process control parameters including: percent capture, total run time required, and quantity of finished cake produced."]
[null,"WWT-025",422,"Centrifuges","Ken Schnaars, PE",2,"24-06025-001","23-06025-001","22-06025-001",0.2,0.2,0.2,0.2,0,0,"See NV, WY, or WA","WWT23-3483-T02-G00",2,null,null,null,null,null,"6009-16-11","All WW, All IWW, WT 3, 4 Operators","Process",1.5,null,null,null,null,null,null,1.5,1.5,"2.0 TC",2,"NV22-168",2,"WW","Half of Wastewater","OEPA-S579846-OM","IWG-S4129-OM",{"$f":"J67*10","v":2},"WW Only","R23163",2,0,0,0,2,0.2,"ECY22-3131","8xkq-7t41",0,1.5,2024.0170000000001,"WW",2,"Yes",2,"No ","This course is devoted to operation and maintenance of centrifuges.  It begins with a thorough discussion of centrifugal dewatering theory followed by a close examination of the equipment components.  The second half of the course is devoted to process control calculations and adjustments specific to centrifuges followed by a section on troubleshooting.","2023 WWT-025 Centrifuge Operation | indigowatergroup.ispringmarket.com","This course is devoted to operation and maintenance of centrifuges.  Theory, components, function, and troubleshooting.","Operators must understand the fundamentals of centrifuges to effectively operate them and achieve high solids capture and high percent solids cake.","Intermediate","Wastewater","Calculate centrifuge loading rate and percent capture.","Describe the major components of a centrifuge and give the function of each component as well as describing ancillary equipment.","Explain typical startup and shutdown procedures for a centrifuge.","Explain the impact of process control variables including: pond setting, making seal, differential speed, load control, and differential speed control.","Troubleshoot common operational problems.","Perform common maintenance tasks for a typical centrifuge.","Compare and contrast the separation of solids in a centrifuge to secondary clarifier operation.  List the major components of the centrifuge and compare to the major components of a clarifier."]
[null,"WWT-031",null,"Gravity and Dissolved Air Floatation Thickeners","Ken Schnaars, PE",2,"24-10671-001",null,null,0.2,0.05,0.2,0.2,0.05,0.05,null,null,null,null,null,null,null,null,null,null,null,null,null,null,null,null,null,null,null,null,"2.0 TC",2,"submitted 02/06",null,null,null,null,"IWG-S4137-OM",2,"WW Only",null,null,null,null,null,null,null,null,null,null,null,2024.0187000000001,"WW",2,null,2,null,"The first 30 minutes of this course discusses gravity thickeners, their theory of operation, their components, operation, and troubleshooting.  The remainder of the course covers dissolved air floatation thickeners (DAFTs)  including: theory of operation, components of both circular and rectangular DAFTs, typical operating parameters for loading and process control, pressurization system components and function, pump types, polymer systems, process control, and basic troubleshooting.","2024 WWT-031 DAF Thickening | indigowatergroup.ispringmarket.com","Operation and maintenance of gravity thickeners and dissolved air floatation thickeners (DAFTs)",null,"Fundamental","Wastewater","Describe and give the function of the major components of gravity thickeners and dissolved air floation thickeners.","Explain typical startup and shutdown procedures for gravity thickeners and DAFTs.","Explain the impact of process control variables.","Troubleshoot common operational problems.","Calculate process control parameters including: solids loading rate, hydraulic loading rate, percent capture, and volume of float produced."]
[null,"WWT-026",423,"Odor Control","Mike Lutz, PE",2,"24-06026-001","23-06026-001","22-06026-001",0.2,0,0.2,0.2,0,0.2,"See NV, WY, or WA","WWT23-3484-T00-G02",null,2,null,null,null,null,"6010-16-11","All Operators","Non-Process",1.5,null,null,null,null,null,null,1.5,1.5,"2.0 TC",2,"NV22-169",2,"WW","Half of Wastewater","OEPA-S579851-OM","IWG-S4132-OM",{"$f":"J69*10","v":2},"WW Only","R23165",2,0,0,2,2,0.2,"ECY22-3132","6dp3-dphb",0,1.5,2024.0215000000001,"WW",2,"Yes",2,"No ","This presentation discusses the sources of odors in water and wastewater treatment, the chemical composition of different odor causing compounds, and methods for odor control.  Odors may be controlled by preventing formation, masking, filtering, or processing biologically.","2023 WWT-026 Odor Control | indigowatergroup.ispringmarket.com","This presentation discusses the sources of odors in water and wastewater treatment, the chemical composition of odor causing compounds, and methods for odor control.","Wastewater and collection systems have the potential to generate odors.  Understanding why odors are generated and how to control them is useful for operators.","Intermediate","Wastewater","Understand that most odor causing compounds in wastewater contain sulfur and are generated through biological activity.","Be aware that some odors -- hydrogen sulfide and carbonyl sulfide -- are significant health and safety risks for wastewater workers.","Describe methods for measuring odors and odor causing compounds listing them in order of least accurate to most accurate.","Be familiar with multiple types of odor control technology including chemical addition, ventilation, carbon filters, biofilters, and air ionization.","Understand that perception of odor is significantly different from one person to another."]
[null,"WWT-027",424,"Treatment of Metal Wastestreams","Gary Parham, PE, CWP",1.5,"24-06032-001","23-06032-001","22-06032-001",0.15,0,0.15,0.15,0,0,"See NV, WY, or WA","WWT23-3485-T1.5-G00",1.5,null,null,null,null,null,"6016-16-11","All IWW Operators","Process",1,null,null,null,null,null,null,0,1,"1.5 TC",1.5,"NV22-170",1.5,"WW",0,"OEPA-S579852-OM","IWG-S4133-OM",{"$f":"J70*10","v":1.5},"WW Only","R23164",1.5,0,0,0,1.5,0.1,"ECY22-3133","19xt-pi69",0,1,2024.0224000000001,"WW",1.5,"Yes",1.5,"No ","This course is meant as an introduction to metals precipitation chemistry, pH control, cyanide chemistry.  Learn industrial chemistry used to remove heavy metals and cyanide from different waste streams prior to discharge.  How low can you go?","2023 WWT-027 Metal Waste Streams | indigowatergroup.ispringmarket.com","This course is meant as an introduction to metals precipitation chemistry, pH control, cyanide chemistry.","Applicable to industrial wastewater operators and other operators who may be using precipitation chemistry to meet pretreatment or discharge permit limits.","Fundamental","Wastewater / Industrial","Given a list of heavy metals, determine which metals will be precipitated first when using hydroxide as the titrant.","Describe the circumstances when sulfide precipitation, carbonate precipitation, and iron coprecipitation would be used/preferred over other types of precipitation chemistry.","Be familiar with vocabulary terms associated with metals precipitation chemistry.","Explain why hexavalent chromium must be converted to the trivalent form prior to precipitation.","Explain what a chelating agent is and how it functions to sequester metals","Understand cyanide destruction chemistry and why cyanide destruction must be done prior to hexavalent chromium removal."]
[null,"WWT-028",425,"Completing the Discharge Monitoring Report (under construction)","S. Innerebner, PhD, PE",1,null,"None for 2023","None for 2022",null,null,null,null,null,null,null,null,null,null,null,null,null,null,"Not Approved.",null,null,null,null,null,null,null,null,null,"Not yet approved.","Not yet approved.","Not Approved.",null,null,null,null,0,"Not yet approved.","IWG-S4134-OM",1,"WW Only",null,null,null,null,null,null,0,"Not Approved.","Not Approved",null,null,2024.0174999999999,"Not Approved.",1,"Yes",1,"Not Approved.","This presentation walks attendees through completion of a sample DMR from a fictional facility.  Calculations are done in accordance with the DMR Guidance Document published by the State WQCD in January 2014.  Terminology and proper units are discussed.",null,null,null,"Fundamental","Wastewater"]
[null,"WWT-029",426,"How Did CDPHE Determine My Permit Limits?","S. Innerebner, PhD, PE",2,"24-06033-001","23-06033-001","22-06033-001",0.2,0.2,0.2,0.2,0,0,null,"WWT23-3486-T00-G02",null,2,null,null,null,null,"Not Approved.",null,null,null,null,null,null,null,null,null,"Not approved.","Not approved.","Not Approved.",null,"NV22-171",2,"WW",0,"Not approved.","IWG-S4135-OM",2,"WW Only","R23166",2,0,0,0,"Not Approved.",0,"Not Approved.","Not Approved",null,null,null,"Not Approved.",0,"No",0,"No","Discharge permit limits and sampling requirements are often a source of mystery to treatment plant operators and many feel the State is arbitrary in deciding which limits apply to which facility.  This feeling is exacerbated when operators compare permits to nearby facilities and discover that permit limits and requirements can be quite different for facilities that are only a mile or two apart.  This presentation walks through the regulations used to set discharge permit limits, discusses the reasons for different limits, low flow calculations, mass balances in the stream, designated uses, and some of the State policies used when writing a permit.  After watching this presentation, an operator should be able to trace the source and rational for each limit in their discharge permit.","2023 WWT-029 NPDES Permit Limits | indigowatergroup.ispringmarket.com","Learn how NPDES permit limits are determined using technology based limits, water quality based standards, and in-stream dilution factors.","Understanding where permit limits originate can assist operators in successfully negotiating permit renewals.","Advanced","Wastewater","Understand that some limits are the same for all domestic facilities.","Explain why water quality based standards vary from one stream segment to the next.","Compare and contrast metals speciation - D, PD, TR, and T.","Explain how discharge permit limits are influenced by water quality in the receiving stream and low flows.","Understand that discharge permit limits may be further restricted by antidegradation.","Using water quality policy 20, determine sampling frequency requirements based on past permit compliance."]
[null,"WWT-030",null,"MRT for Wastewater Treatment and Collection Systems","S. Innerebner, PhD, PE",2,"24-06840-002","23-06840-002","22-06840-002",0.2,0,0.2,0.2,0,0.2,null,"WWT23-3487-T00-G2.5",null,2.5,null,null,null,null,"Not Approved.",null,null,null,null,null,null,null,null,null,"Not Approved.","Not Approved.","Not Approved.",null,"Not Approved",null,null,"Not Approved",null,"IWG-S4136-OM",2.5,"WW Only","R23167",2.5,0,0,2.5,"Not Approved.",0,"Not Approved.","Not Approved",null,null,2024.0213000000001,"Not Approved.",2.5,"Yes",2.5,"No","This course fulfills the requirement under Colorado Regulation 100 for all operators to complete a regulatory training course that matches their certification type prior to renewing a certification, applying to sit for a certification exam, or when requesting reciprocity from another state or agency.","2023 WWT-030 Wastewater MRT Cours | indigowatergroup.ispringmarket.com","This course is approved to meet the minimum regulatory training (MRT) requirement for wastewater, industrial wastewater, and collection system operators in Colorado.","Wastewater operators must comply with the terms of their discharge permit which requires an understanding of the permit and supporting regulatory structure.","Fundamental","Wastewater and Collections"]
[null,null,null,"Water Treatment & Distribution Topics"]
[null,"WATER-001",427,"Introduction to Small Water Systems","Josh Baile, MBA, CWP",1.5,"24-06034-002","23-06034-002","22-06034-002",0.15,0.15,0,0,0.15,0,"See NV, WY, or WA","WWT23-3454-T00-G1.5",null,1.5,null,null,null,null,"7590-9-23","All W and D","Non-Process",1.5,null,null,null,null,null,null,"Not approved.","Not approved.","1.5 TC",1.5,"NV22-142",0,"--",1.5,"OEPA-D88456757-OM","IWG-D5101-OM",{"$f":"J75*10","v":1.5},"DW Only","R23168",0,1.5,1.5,0,"Not Approved.",0,"Not Approved.","Not Approved.",null,null,2024.0192,"W, D",1.5,"Yes",1.5,"No ","This is part 1 of a series of on-line training classes taught from ACRP's book \"Introduction to Small Water Systems\".  This brief introduction explores the following topics:  properties of water, distribution of water on planet earth, the hydrologic cycle, uses of water, basic types of water systems, a history of water treatment and distribution, classification of water systems, and definitions of typical small water system types.","2023 WAT-001 Small Water Systems | indigowatergroup.ispringmarket.com","This introduction to small water systems covers major components of water systems and the goals of water treatment.","Understanding the water cycle is important for source water protection. Knowing the major components of water systems is required for water and distribution system operators.","Fundamental","Drinking Water and Distribution","List the steps in the hydrologic cycle and briefly describe each.","Define groundwater, surface water, and groundwater under direct influence of surface water.  List some properties of each.","List the major categories of water usage in the United States.","Explain why water usage tends to have a diurnal pattern.","List the goals of all water treatment and distribution systems: to protect public health by providing water that is reliable, safe (potable), and palatable.","Define log removal.","Explain how water systems are classified and define what constitutes a public water system, community water system, and non-community water system."]
[null,"WATER-002",428,"Water Sources Part 1","Josh Baile, MBA, CWP",1.5,"24-06035-001","23-06035-001","22-06035-001",0.15,0.15,0.1,0.1,0.1,0.05,"See NV, WY, or WA","WWT23-3455-T00-G1.5",null,1.5,null,null,null,null,"7591-9-23","All W and D","Non-Process",1.5,null,null,null,null,null,null,"Not approved.","Not approved.","1.5 TC",1.5,"NV22-143",0,"--",1.5,"OEPA-D88456761-OM","IWG-D5102-OM",1.5,"DW Only","R23169",0,1.5,1.5,0,"Not Approved.",0,"Not Approved.","Not Approved.",null,null,2024.0232000000001,"W",1.5,"Yes",1.5,"No","This is part 2 of a series of on-line training classes taught from ACRP's book \"Introduction to Small Water Systems\".  Water Sources is broken into two on-line training courses labeled as Part 1 and Part 2.  Part 1 discusses surface water sources, raw water storage (reservoirs and tanks), source water management, source water quality problems, reservoir management, stratification of reservoirs, and surface water intake structures.","2023 WAT-002 Water Sources Part 1 | indigowatergroup.ispringmarket.com","Part 1 discusses surface water sources, raw water storage, source water management, source water quality problems, reservoir management, water quality problems, and more.","Water treatment plant operators are responsible for managing reservoirs and protecting surface water supplies from contamination.","Fundamental","Drinking Water","Recognize differences in water quality characteristics between groundwater and surface water sources.","List advantages and disadvantages of using surface water.","Explain why one surface water source may be preferred over another.","Describe physical, chemical, and biological characteristics of source water.","Define reservoir management program.","List the three types of photosynthetic organisms present in reservoirs.","Understand why algae blooms occur in reservoirs and how to control / mitigate them.","Recognize that taste and odor problems are often related to different types of algae blooms.","Explain the impacts of algae on reservoir water quality.","Explain why turnover events occur and how to mitigate them.","Describe the different types of water intake structures."]
[null,"WATER-003",429,"Water Sources Part 2","S. Innerebner, PhD, PE",1,"24-06036-001","23-06036-001","22-06036-001",0.1,0.1,0,0.1,0.1,0,"See NV, WY, or WA","WWT23-3456-T00-G01",null,1,null,null,null,null,"7592-9-23","All W and D","Non-Process",1,null,null,null,null,null,null,"Not approved.","Not approved.","1.0 TC",1,"NV22-144",0,"--",1,"OEPA-D88466608-OM","IWG-D5103-OM",1,"DW Only","R23170",0,1,1,0,"Not Approved.",0,"Not Approved.","Not Approved.",null,null,2024.0233000000001,"W, D",1,"Yes",1,"No","This is part 3 of a series of on-line training classes taught from ACRP's book \"Introduction to Small Water Systems\".  Water Sources is broken into two on-line training courses labeled as Part 1 and Part 2.  These two courses look at water sources; ground and surface, and the advantages and disadvantages of each.  Other topics explored in these two presentations include:  raw water storage (reservoirs and tanks), surface water intake types, flow measurement (weirs and flumes), aquifer terminology (confined, unconfined, artesian, zones, porosity, etc.), well location criteria, well components, and turbine pumps. ","2023 WAT-003 Water Sources Part 2 | indigowatergroup.ispringmarket.com","Part 2 discusses aquifer terminology (confined, unconfined, artesian, zones, porosity, etc.), well location criteria, well components, and turbine pumps.","Water and distribution system operators both operate wells and must be familiar with their components and operation as well as how aquifer structure affects water quality and well output.","Fundamental","Drinking Water and Distribution","List the different types of aquifers and the properties of each.","Understand how permeability and soil types relate to groundwater movement and well production.","Define the cone of depression, specific yield, zone of influence, draw down, and operating level.","List well components and give the function of each.","Understand that well heads must be protected from contamination by a combination of physical barriers.","Compare and contrast the different types of pumps that may be used in wells."]
[null,"WATER-004",430,"Drinking Water Treatment Part 1","S. Innerebner, PhD, PE",2.5,"24-06037-001","23-06037-001","22-06037-001",0.25,0.25,0,0,0,0,"See NV, WY, or WA","WWT23-3457 -T00-G2.5",null,2.5,null,null,null,null,"7593-9-23","Water 1 - 5","Process",2.5,null,null,null,null,null,null,"Not approved.","Not approved.","2.5 TC",2.5,"NV22-145",0,"--",2.5,"OEPA-D88466609-OM","IWG-D5104-OM",2.5,"DW Only","R23171",0,2.5,0,0,"Not Approved.",0,"Not Approved.","Not Approved.",null,null,2024.0181,"W, D",2.5,"Yes",2.5,"No","This is part 4 of a series of on-line training classes taught from ACRP's book \"Introduction to Small Water Systems\".  Water Treatment is broken into two on-line training courses labeled as Part 1 and Part 2.  These two courses begin with a discussion of the need for treatment and the types of contaminants removed before moving on to look at an overview of the three primary methods of surface water treatment (conventional, direct filtration, and membrane treatment).  Each step of conventional treatment (coagulation, flocculation, sedimentation, and filtration) are explained at an overview level.  Jar testing and determining optimal coagulant doses are also discussed.  Part 2 focuses on chlorine disinfection.","2023 WAT-004 Drinking Water Treat | indigowatergroup.ispringmarket.com","Drinking water treatment steps: coagulation, flocculation, sedimentation, filtration, and disinfection. Each step explained.","Water treatment plant operators must understand the theory behind the operation of each step of conventional water treatment and membrane water treatment.","Intermediate","Drinking Water","Understand that surface water treatment uses a multi-barrier approach to protect public health.","List the four steps of conventional drinking water treatment and describe each.","Compare and contrast direct filter to conventional water treatment plants.","Understand the need for jar testing and interpret jar testing results.","Describe how membranes work and explain how they differ from other filtration processes."]
[null,"WATER-005",431,"Water Treatment Part 2 (Disinfection, Water Focus)","S. Innerebner, PhD, PE",2.5,"24-06038-001","23-06038-001","22-06038-001",0.25,0.25,0.25,0.25,0.25,0,"See NV, WY, or WA","WWT23-3458-T00-G2.5",null,2.5,null,null,null,null,"7594-9-23","All W and D","Process",3,null,null,null,null,null,null,"Not approved.","Not approved.","2.5 TC",2.5,"NV22-146",0,"--",2.5,"OEPA-D88681133-OM","IWG-D5105-OM",2.5,"DW Only","R23172",0,2.5,2.5,0,"Not Approved.",0,"Not Approved.","Not Approved.",null,null,2024.0234,"W, D",2.5,"Yes",2.5,"No","This drinking water-focused presentation walks the participant through chlorine chemistry, the different forms of chlorine available for disinfection, and chlorine safety. This class devotes time to the safe handling of gaseous and liquid chlorine and reporting requirements under SARA Title III. The class covers recommended doses and contact times for various applications as well as the impact of water chemistry and temperature on disinfection.  CT calculations and HRT credits for various water tank configurations and disinfection byproduct formation are also discussed.","2023 WAT-005 Water Disinfection | indigowatergroup.ispringmarket.com","This drinking water-focused presentation walks the participant through chlorine chemistry, breakpoint chlorination, disinfection equipment, and chlorine safety.","Disinfection is a critical component of protecting public health for water, wastewater, and distribution system operators.","Fundamental","All opertors","List the characteristics of chlorine gas and the compounds formed when gaseous chlorine and sodium hypochlorite react with water.","Explain the purpose of a fusible plug and give the melt temperature.","Discuss the breakpoint chlorination curve and describe in detail the chemical reactions taking place at each stage of the curve.","Explain regulatory requirements for chlorine leaks, how to detect a chlorine leak, and the three types of repair kits.","Calculate dose, demand, residual, and feed rate.","Understand minimum contact times and how they are affected by temperature and pH.","Describe the steps involved in changing out a chlorine gas cylinder."]
[null,"WATER-006",432,"Intro to Distribution Systems","S. Innerebner, PhD, PE",1.5,"24-06696-001","23-06696-001","22-06696-001",0.15,0.1,0.1,0.1,0.15,0.1,"See NV, WY, or WA","WWT23-3459-T00-G1.5",null,1.5,null,null,null,null,"7595-9-23","All W and D","Non-Process",1.75,null,null,null,null,null,null,"Not approved.","Not approved.","1.5 TC",1.5,"NV22-147",0,"--",1.5,"OEPA-D88681194-OM","IWG-D5106-OM",1.5,"DW Only","R23173",0,0,1.5,0,"Not Approved.",0,"Not Approved.","Not Approved.",null,null,2024.019,"W, D",1.5,"Yes",1.5,"No","This is part of a series of on-line training classes taught from ACRP's book \"Introduction to Small Water Systems\".  This presentation reviews the major components of distribution systems including pipes and materials, valves, hydrants, storage reservoirs, meters, and curb stops. The concept of cross connections is introduced and the various methods for avoiding a cross connection are defined (air gap, vacuum breaker, etc.).","2023 WAT-006 Distribution Systems | indigowatergroup.ispringmarket.com","A review of the major components of distribution systems including pipes and materials, valves, hydrants, storage reservoirs, meters, and curb stops.","Water and distribution system operators should be familiar with the different components that make up water distribution systems so they can effectively operate them.","Fundamental","Drinking Water and Distribution","List and describe the three types of distribution system layout.","List the functions of water storage reservoirs and tank in the distribution system.","Convert between feet of head and pounds per square inch.","Discuss the different types of valves that may be present in distribution systems, what they are typically used for, and how they function.","Explain how an altitude valve may be used to control water level in a tank.","List the components of a typical customer service line and give the function of each.","Define cross-connection, backflow, back siphonage, and back pressure.","List the different types of cross connection control devices and explain how each works.","Discuss the different types of fire hydrants and where they might be used."]
[null,"WATER-007",433,"MRT Drinking Water Regulatory Course","S. Innerebner, PhD, PE",3,"24-06743-002","23-06743-002","22-06743-002",0.3,0.3,0,0,0.3,0,null,"WWT23-3460-T00-G2.5",null,2.5,null,null,null,null,"Not Approved.",null,null,null,null,null,null,null,null,null,null,null,"Not Approved.",null,"Not Approved",null,null,"Not Approved","Not Approved.","IWG-D5107-OM",2.5,"DW Only","R23174",0,2.5,2.5,0,"Not Approved.",0,"Not Approved.","Not Approved.",null,null,2024.0211999999999,"W, D",2.5,"Yes",2.5,"Yes","This course fulfills the requirement under Colorado Regulation 100 for all operators to complete a regulatory training course that matches their certification type prior to renewing a certification, applying to sit for a certification exam, or when requesting reciprocity from another state or agency.","2023 WAT-007 Drinking Water MRT | indigowatergroup.ispringmarket.com","This course is approved to meet the minimum regulatory training (MRT) requirement for drinking water treatment and distribution system operators in Colorado.","Water treatment and distribution system operators must comply with the safe drinking water act and delegated regulations in their states.","Fundamental","Drinking Water and Distribution"]
[null,"WATER-008",434,"Corrosion Control and Laboratory","S. Innerebner, PhD, PE",2,"24-06039-001","23-06039-001","22-06039-001",0.2,0.2,0.2,0.2,0.1,0.1,"See NV, WY, or WA","WWT23-3461-T02-G00 ",2,null,null,null,null,null,"NOT SENT",null,null,null,null,null,null,null,null,null,2,2,"2.0 TC",2,"NV22-148",0,"WW",2,"OEPA-D88466583-OM","IWG-D5108-OM",{"$f":"J82*10","v":2},"DW Only","R23175",2,2,2,2,"Not Approved.",0,"Not Approved.","Not Approved.",null,null,2024.0178000000001,"W, D, WW",2,"Yes",2,"No","The first half of this presentation discusses different types of corrosion that can occur in water and wastewater systems with an emphasis on corrosion control in distribution systems specifically. Methods approved by EPA to control corrosion -- passivating films, control of water characteristics, and chemical addition (polyphosphates or silicates) are presented.  Lagelier Index, CCPP Index, Hardness, and Alkalinity are defined.  The galvanic cell and galvanic corrosion are also discussed.  The second half of this presentation discusses three common water quality test methods: chlorine residual analysis by DPD, alkalinity, and hardness. ","2023 WAT-008 Corrosion & Lab | indigowatergroup.ispringmarket.com","Discusses different types of corrosion that can occur in water and wastewater systems. Covers common laboratory tests used in distribution systems to manage corrosion.","Water treatment and distribution system operators are responsible for maintaining the distribution system. This includes adding corrosion control inhibitors and measuring water quality parameters necessary for adjusting chemical dosage rates.","Intermediate","Drinking Water and Distribution","List the four components of the galvanic cell and explain why corrosion of similar and dissimilar metals occurs.","Describe the 5 types of corrosion control accepted for use by EPA in water distribution systems.","Properly conduct the following laboratory tests: chlorine residual, alkalinity, and hardness.","Compare and contrast the Langelier Saturation Index (LSI) and Calcium Carbonate Precipitation Potential (CCWP) and how each can be used to predict corrosion or deposition in a water distribution system."]
[null,"WATER-009",null,"Fire Hydrant Operation and Inspection (under construction)","S. Innerebner, PhD, PE",2,"24-10672-001",null,null,null,null,null,null,null,null,null,null,null,null,null,null,null,null,null,null,null,null,null,null,null,null,null,null,null,null,null,null,null,null,null,null,null,"IWG-D5109-OM",2,"DW Only",null,null,null,null,null,null,null,null,null,null,null,2024.0183,"W, D",2,"Yes",2,"No","This course covers the different types of hydrants used in distribution systems, their components, operation and maintenance.",null,null,null,null,null,"Describe the different classifications of fire hydrants.","Identify the major components of different types of hydrants.","Describe the operation of compression and toggle style hydrants.","Describe operational considerations for use of fire hydrants including: marking inoperable hydrants, color coding hydrant barrels, and managing the use of hydrants.","List the steps for lubricating dry barrel hydrants.","Inspect dry and wet barrel hydrants.","Identify and solve common hydrant problems."]
[null,null,null,"Laboratory Procedures"]
[null,"LAB-001",435,"Basic Chemistry","S. Innerebner, PhD, PE",2.5,"24-05997-001","23-05997-001","22-05997-001",0.25,0.25,0.25,0.25,0.25,0.25,"See NV, WY, or WA","WWT23-3488-T00-G02",null,2,null,null,null,null,"6015-16-11","All Operators","Non-Process",2,null,null,null,null,null,null,2,2,"2.5 TC",2.5,"NV22-124",2.5,"WW",2,"OEPA-B576552-OM","IWG-B6101-OM",{"$f":"J85*10","v":2.5},"Both DW and WW","R23176",2.5,2.5,2.5,2.5,2.5,0.2,"ECY22-3134","3ttg-jlqj",2,2,2024.0165999999999,"W, D, WW",2.5,"No",2.5,"No","This course covers the periodic table, atoms, ionic and covalent bonding, determining the makeup of a chemical compound (stoichiometry), naming of compounds, atomic and formula weights, calculating chemical dosages, and the concept of limiting reactant.  Examples are drawn from phosphorus precipitation, disinfection, and other common reactions in wastewater.","2023 LAB-001 Basic Chemistry | indigowatergroup.ispringmarket.com","A full semester of inorganic chemistry compressed down into a 2.5 hour review with examples.","Water and wastewater operators must understand basic chemistry to correctly calculate chemical dosages used in treatment. Chemistry aids in understanding water quality parameters such as pH, alkalinity, and hardness.","Intermediate","All operators","Understand the concept of chemical equilibrium.","Convert nitrogen compounds to \"N\" and phosphate compounds from phosphate to \"P\".  Convert ammonia to ammonia as N, for example.","Predict whether a solid precipitate could form as a result of a chemical reaction using information from the solubility tables.","Apply knowledge of precipitation chemistry to removing phosphorus from wastewater by chemical treatment.","Calculate formula weights for different compounds given the chemical formula.","Predict whether an atom will gain or lose electrons and which ion will be formed as a result.","Combine ions in the correct proportions to form chemical compounds.","Balance chemical equations.","Calculate the number of grams of reactant required to chemically react with another reactant given the chemical equation."]
[null,"LAB-002",436,"Laboratory - pH, Alkalinity, and Hardness","S. Innerebner, PhD, PE",2,"24-07704-001","23-07704-001","22-07704-001",0.2,0.2,0.2,0.2,0.05,0.05,"See NV, WY, or WA","WWT23-3489-T02-G00",2,null,null,null,null,null,"7189-1-22","All Operators","Non-Process",2,null,null,null,null,null,null,null,null,"2.0 TC",2,"NV22-125",2,"WW",0,null,"IWG-B6102-OM",{"$f":"J86*10","v":2},"Both DW and WW","R23177",2,2,2,0,2,0,"Not Approved","Not Approved.",null,null,2024.0198,"W, D, WW",2,"Yes",2,"No","This course walks attendees through the theory behind the pH, alkalinity, and hardness laboratory tests.  Attendees will learn why alkalinity and hardness are both expressed as mg/L of calcium carbonate.  Each procedure is presented step-by-step in accordance with the requirements and guidelines set forth in Standard Methods including required quality assurance and quality control samples. ","2023 LAB-002 pH Alkalinity Hard | indigowatergroup.ispringmarket.com","This course walks attendees through the theory behind the pH, alkalinity, and hardness laboratory tests.","Operators often conduct their own on-site testing or are reviewing data supplied by other labs.  Production of accurate, legally defensible data is required for permit compliance and protection of public health.","Intermediate","All operators","Define pH, alkalinity, and hardness.","Explain why alkalinity and hardness are both expressed as mg/L of calcium carbonate.","Conduct pH, alkalinity, and hardness tests on water and wastewater samples.","List the required QA/QC samples for each test method."]
[null,"LAB-003",437,"Laboratory - TDS, Conductivity, and Turbidity","S. Innerebner, PhD, PE",2,"24-07745-001","23-07745-001","22-07745-001",0.2,0.2,0.2,0.2,0.1,0.05,null,"WWT23-3490-T02-G00",2,null,null,null,null,null,"7585-9-23","All Operators","Non-Process",2,null,null,null,null,null,null,null,null,"2.0 TC",2,"NV22-126",2,"WW",0,null,"IWG-B6103-OM",2,"Both DW and WW","R23178",2,2,2,2,2,null,"Not Approved","Not Approved.",null,null,2024.0201,"W, D, WW",2,"Yes",2,"No","This course walks attendees through the theory behind the total dissolved solids (TDS), conductivity, and turbidity tests.  While these parameters are related to one another, they don't measure the same thing.  Each procedure is presented step-by-step in accordance with the requirements and guidelines set forth in Standard Methods including required quality assurance and quality control samples. ","2023 LAB-003 TDS Cond Turbid | indigowatergroup.ispringmarket.com","This course walks attendees through the theory behind the total dissolved solids (TDS), conductivity, and turbidity tests. Step by step procedures for each method.","Operators often conduct their own on-site testing or are reviewing data supplied by other labs.  Production of accurate, legally defensible data is required for permit compliance and protection of public health.","Intermediate","All operators","Explain how TDS and conductivity are related to one another but why one cannot definitively be used to predict the other.","Conduct TDS, conductivity, and turbidity analyses on water and wastewater samples.","List the required QA/QC samples for each test method."]
[null,"LAB-004",438,"Laboratory - Total Suspended Solids","S. Innerebner, PhD, PE",1,"24-06028-001","23-06028-001","22-06028-001",0.1,0.1,0.1,0.1,0,0,"See NV, WY, or WA","WWT23-3491-T1 .5-G00",1.5,null,null,null,null,null,"6012-16-11","All WW, All IWW, All WT Operators","Non-Process",1,null,null,null,null,null,null,1,1,"1.5 TC",1.5,"NV22-127",1.5,"WW",1.5,"OEPA-S581445-OM","IWG-S6104-OM",{"$f":"J88*10","v":1},"WW Only","R23179",1.5,0,0,0,1.5,0.1,"ECY22-3135","6dp3-dpe6",0,1,2024.0201999999999,"WW",1,"Yes",1.5,"No"," This course covers solids testing for wastewater samples.  Each test method is presented with lots of photographs to walk attendees through the procedures step by step.  Appropriate QA/QC samples for each test method are presented, why they are needed, and what information they give.  Example calculations demonstrate how to obtain final results, percent recovery for standards, and RPD for duplicates.","2023 LAB-004 Suspended Solids | indigowatergroup.ispringmarket.com","This course covers solids testing for wastewater samples.  Each test method is presented with lots of photographs to walk attendees through the procedures step by step.","Operators often conduct their own on-site testing or are reviewing data supplied by other labs.  Production of accurate, legally defensible data is required for permit compliance and protection of public health.","Intermediate","Wastewater","Compare and contrast three methods for measuring total suspended solids: gravimetric analysis, TSS meter, and centrifuge spins.  Comment on the relative accuracy of each method.","Correctly set up and execute the gravimetric total suspended solids procedure for analysis of wastewater samples including required QA/QC.","Calculate total suspended solids concentrations from raw laboratory data.  Interprete QA/QC sample results and take corrective action."]
[null,"LAB-005",439,"Laboratory - Proper Use of Spectrophotometers (QA/QC)","S. Innerebner, PhD, PE",1.5,"24-06030-001","23-06030-001","22-06030-001",0.15,0.15,0.15,0.15,0.15,0.15,"See NV, WY, or WA","WWT23-3492-T1 .5-G00",1.5,null,null,null,null,null,"6014-16-11","All Operators","Non-Process",1,null,null,null,null,null,null,1,1,"1.5 TC",1.5,"NV22-128",1.5,"WW",1.5,"OEPA-B579847-OM","IWG-B6105-OM",{"$f":"J89*10","v":1.5},"Both DW and WW","R23180",1.5,1.5,1.5,0,1.5,0.1,"ECY22-3136","7nmw-sr80",1,1,2024.0199,"W, D, WW",1.5,"Yes",1.5,"No","Every water and wastewater plant has a spectrophotometer or colorimater that is used for process control and sometimes for reporting compliance sample results.  Are you using yours correctly?  Learn when a blank, standard, spike, spike duplicate, and other quality assurance and quality control samples are needed, how to interpret results, and the appropriate corrective actions.","2023 LAB-005 Spectrophotometers | indigowatergroup.ispringmarket.com","Course discusses quality assurance and quality control practices for samples analyzed with colorimeters and spectrophotometers and why various QA/QC samples are needed.","Operators often conduct their own on-site testing or are reviewing data supplied by other labs.  Production of accurate, legally defensible data is required for permit compliance and protection of public health.","Intermediate","All operators","Discuss the limitations of spectrophotometers and the concept of a method detection limit.","Select appropriate quality assurance and quality control samples for a given analysis.  Explain the purpose behind each type of QA/QC sample and the information gained by analyzing them.","Understand that the visible spectrum, colors of light, are dependent on their wavelength.","Explain Beer's Law and why samples must be diluted and reanalyzed when they are over the calibrated linear range."]
[null,"LAB-006",440,"Laboratory - Chlorine Residual by DPD","S. Innerebner, PhD, PE",0.5,"24-07709-001","23-07709-001","22-07709-001",0.05,0.05,0.05,0.05,0.05,0,"See NV, WY, or WA","WWT23-3493-T0. 5-G00",0.5,null,null,null,null,null,"7190-1-22","All Operators","Non-Process",0.5,null,null,null,null,null,null,null,null,"0.5 TC",0.5,"NV22-129",0.5,"WW",0,null,"IWG-B6106-OM",0.5,"Both DW and WW","Not Approved.",0,0,0,0,0.5,0,"Not Approved","Not Approved.",null,null,2024.0195000000001,"W, D, WW",0.5,"Yes",0.5,"No","This course covers residual chlorine analysis using either the total chlorine residual OR free chlorine residual DPD method using a hand-held pocket colorimeter.  The procedure is presented step-by-step in accordance with the requirements and guidelines set forth in Standard Methods including required quality assurance and quality control samples.  This course includes a discussion of DPD chemistry, the breakpoint chlorination curve, formation of chloramines, and the differences between the total and free chlorine residual tests.  The course concludes with a discussion of required QA/QC samples.  ","2023 LAB-006 Chlorine Residual | indigowatergroup.ispringmarket.com","This course covers residual chlorine analysis using either the total chlorine residual OR free chlorine residual DPD method using a hand-held pocket colorimeter.","Operators often conduct their own on-site testing or are reviewing data supplied by other labs.  Production of accurate, legally defensible data is required for permit compliance and protection of public health.","Intermediate","All operators","Understand the different types of residuals.","Explain why it is possible to get the same total chlorine result at three different points on the breakpoint chlorination curve.","Analyze samples for free or total chlorine using the DPD test method.","List the required QA/QC samples and the information gained by analyzing each type."]
[null,"LAB-007",441,"Laboratory - Spectroscopic Tests: Fluoride, Nitrite, and Nitrate \n(under construction)","S. Innerebner, PhD, PE",1.5,"24-08960-001","23-08960-001","22-08960-001",0.15,0.15,0.1,0.15,0.05,0.05,null,null,null,null,null,null,null,null,null,null,null,null,null,null,null,null,null,null,null,null,"1.5 TC",1.5,null,null,null,0,null,"IWG-B6007-OM",{"$f":"J91*10","v":1.5},"Both DW and WW","Not Approved.",null,null,null,null,1.5,null,"Not Approved","Not Approved.",null,null,2024.02,"W, D, WW",1.5,"Yes",1.5,"No","This course covers three colorimetric test methods commonly performed at drinking water and wastewater treatment facilities using a hand-held pocket colorimeter.  The procedures for each test method are presented step-by-step in accordance with the requirements and guidelines set forth in Standard Methods including required quality assurance and quality control samples.  This course includes a discussion of the chemistry behind each test method and potential interferences.  The course concludes with a discussion of required QA/QC samples.  ",null,null,"Operators often conduct their own on-site testing or are reviewing data supplied by other labs.  Production of accurate, legally defensible data is required for permit compliance and protection of public health.","Intermediate","Water / Wastewater"]
[null,"LAB-008",442,"Laboratory - Ion-Selective Electrodes (ammonia, nitrate, fluoride)\n(under construction)","S. Innerebner, PhD, PE",2,"24-08961-001","23-08961-001","22-08961-001",0.2,0.2,0.15,0.2,0.05,0.05,null,null,null,null,null,null,null,null,null,null,null,null,null,null,null,null,null,null,null,null,"2.0 TC",2,null,null,null,0,null,"IWG-B6108-OM",{"$f":"J92*10","v":2},"Both DW and WW","Not Approved.",null,null,null,null,2,null,"Not Approved","Not Approved.",null,null,2024.0196000000001,"W, WW",2,"Yes",2,"No","This course covers three ion-selective test methods commonly performed at drinking water and wastewater treatment facilities.  The procedures for each test method are presented step-by-step in accordance with the requirements and guidelines set forth in Standard Methods including required quality assurance and quality control samples.  This course includes a discussion of the chemistry behind each test method and potential interferences.  The course concludes with a discussion of required QA/QC samples.  ",null,null,"Operators often conduct their own on-site testing or are reviewing data supplied by other labs.  Production of accurate, legally defensible data is required for permit compliance and protection of public health.","Intermediate","Water / Wastewater"]
[null,"LAB-009",443,"Laboratory - Jar Testing","S. Innerebner, PhD, PE",1,"24-07639-001","23-07639-001","22-07639-001",0.1,0.1,0.1,0.1,0,0,"See NV, WY, or WA","WWT23-3494-T01-G00",1,null,null,null,null,null,"7586-9-23","All W, WW, Ind","Non-Process",1.25,null,null,null,null,null,null,null,null,"1.0 TC",1,"NV22-130",1,"WW",0,null,"IWG-B6109-OM",1,"Both DW and WW","R23181",1,1,0,0,1,0,"Not Approved","Not Approved.",null,null,2024.0197000000001,"W, WW",1,"Yes",1,"No","This course walks attendees through the fundamentals of jar testing.  The class starts with a review of drinking water treatment and a discussion of practical applications of jar testing in wastewater treatment.  Attendees will learn how to 1) match jar test mixing intensity and times to conditions in the full scale facility, 2) select chemical dosages, 3) create stock solutions and dilute them, 4) read a G-force chart, 5) interpret jar testing results, and 6) translate results into process adjustments in the full-scale facility.","2023 LAB-009 Jar Testing | indigowatergroup.ispringmarket.com","This course walks attendees through the fundamentals of jar testing for water and wastewater applications. Calculations for determining mixing energy and sampling times.","Operators often conduct their own on-site testing or are reviewing data supplied by other labs.  Production of accurate, legally defensible data is required for permit compliance and protection of public health.","Advanced","Water / Wastewater","After completing this course, attendees should be able to calculate G-force, HRT,  and SOR for a full scale facility and match jar test mixing intensity and times to those conditions.","Select chemical dosage ranges for an initial jar test and then adjust dosages based on results.","Create stock solutions and dilute them appropriately to achieve desired chemical doses.","Read a G-force chart for a gang stirrer or other jar testing device.","Interpret jar testing results and adjust chemical dosages in response.","Translate results into process adjustments in the full-scale facility."]
[null,"LAB-010",444,"Laboratory Testing - Biochemical Oxygen Demand","S. Innerebner, PhD, PE",2,"24-07744-001","23-07744-001","22-07744-001",0.2,0,0.2,0.2,0,0,null,"WWT23-3495-T1.5-G00",1.5,null,null,null,null,null,"7587-9-23","All WW and Ind","Non-Process",2,null,null,null,null,null,null,2,1,"1.5 TC",1.5,"NV22-131",1.5,"WW",0,"OEPA-B579848-OM","IWG-S6110-OM",{"$f":"J94*10","v":2},"WW Only","R23182",1.5,0,0,0,1.5,0.2,"ECY22-3137","Not Approved.",null,null,2024.0202999999999,"WW",2,"Yes",1.5,"No","This test covers the Biochemical Oxygen Demand (BOD) laboratory test.  It walks you through each step including QA/QC and calculations with lots of helpful hints and background.  A deep dive into this Standard Method.","2023 LAB-010 BOD Testing | indigowatergroup.ispringmarket.com","This test covers the theory and practice of the Biochemical Oxygen Demand (BOD) laboratory test.  It walks you through each step.","Operators often conduct their own on-site testing or are reviewing data supplied by other labs.  Production of accurate, legally defensible data is required for permit compliance and protection of public health.","Advanced","Wastewater","Understand the historical and theoretical basis for the BOD test: a bulk estimate of organic content.","Calculate BOD results from raw analytical data and evaluate results from QA/QC samples.","Correctly set up testing for biochemical oxygen demand including all required and recommended quality assurance and quality control samples.  Explain why each step of the procedure is necessary.","List the required QA/QC samples for the BOD test and describe the purpose of each."]
[null,"LAB-011",445,"Laboratory Testing - Total coliforms by MPN (under construction)","S. Innerebner, PhD, PE",1.5,null,"None for 2023","22-06029-001",0.15,0.15,0.15,0.15,0.15,0,null,null,null,null,null,null,null,null,"6013-16-11","All WW, All IWW, All WT Operators","Non-Process",1,null,null,null,null,null,null,1.5,0,"1.5 TC",1.5,"NV22-132",1.5,"WW",1.5,"OEPA-B579850-OM","IWG-B6111-OM",{"$f":"J95*10","v":1.5},"Both DW and WW","R23183",1.5,1.5,0,0,1.5,0.1,"ECY22-3138","Not Approved.",null,null,2024.0204000000001,"W, D, WW",1.5,"Yes",1.5,"No","These method specific talks cover a variety of laboratory testing procedures used in water and wastewater labs.  Each method has its own one hour powerpoint presentation with lots of photographs walking analysts through procedures step by step.  Appropriate QA/QC samples for each method are discussed as well as what to do when QA samples are out of limits.  Each presentation references back to EPA 200 series methods and Standard Methods.",null,null,"Operators often conduct their own on-site testing or are reviewing data supplied by other labs.  Production of accurate, legally defensible data is required for permit compliance and protection of public health.","Advanced","Water / Wastewater","Correctly set up a fecal coliform analysis using the most probable number (MPN) method including both presumptive and confirmation steps with all required quality assurance and quality control samples.  Calculate results from raw laboratory data.","Discuss the concept of an indicator organism and list at least three properties of a good indicator.","Compare and contrast Most Probable Number and Membrane Filtration methods of fecal coliform analysis.  Explain the meaning of MPN/100 mL versus #CFU per 100 mL.","Correctly set up a fecal coliform analysis using the membrane filtration method including all required quality assurance and quality control samples.","Calculate results for a membrane filtration fecal coliform test.  Interpret results from quality assurance and quality control samples and take corrective action."]

{"sheet":"Learning Paths","index":2,"n_rows":415,"n_cols":32,"rows_kept":415,"cut":false,"hidden":false,"merged":[]}
["2024-01 Math Bundle",null,null,null,null,null,null,null,{"$f":"D10*10*20*0.8","v":88},null,null,null,null,null,null,null,null,null,null,null,null,null,null,"Course ID","Topic","Approval","Max","W","WW","I","D","C"]
["Course ID","Topic","Approval #","Max","W","WW","I","D","C",null,null,null,null,null,null,null,null,null,null,null,null,null,null,"ALL-001","Pumps",{"$f":"'2024NewCourses'!G16","v":"24-06046-002"},{"$f":"'2024NewCourses'!J16","v":0.2},{"$f":"'2024NewCourses'!K16","v":0.2},{"$f":"'2024NewCourses'!L16","v":0.2},{"$f":"'2024NewCourses'!M16","v":0.2},{"$f":"'2024NewCourses'!N16","v":0.2},{"$f":"'2024NewCourses'!O16","v":0.2}]
["MATH-000",{"$f":"LOOKUP($A3,$X:$X,Y:Y)","v":"Math Strategies for Success"},"24-05983-002",0.1,0.1,0.1,0.1,0.1,0.1,null,null,null,null,null,null,null,null,null,null,null,null,null,null,"ALL-002","Hydraulics Basics",{"$f":"'2024NewCourses'!G17","v":"24-05990-001"},{"$f":"'2024NewCourses'!J17","v":0.15},{"$f":"'2024NewCourses'!K17","v":0.15},{"$f":"'2024NewCourses'!L17","v":0.15},{"$f":"'2024NewCourses'!M17","v":0.15},{"$f":"'2024NewCourses'!N17","v":0.15},{"$f":"'2024NewCourses'!O17","v":0.15}]
["MATH-001","Unit Conversions","24-05984-002",0.05,0.05,0.05,0.05,0.05,0.05,null,null,null,null,null,null,null,null,null,null,null,null,null,null,"ALL-003","Hydraulics of Pumped Systems",{"$f":"'2024NewCourses'!G18","v":"24-05991-001"},{"$f":"'2024NewCourses'!J18","v":0.2},{"$f":"'2024NewCourses'!K18","v":0.2},{"$f":"'2024NewCourses'!L18","v":0.2},{"$f":"'2024NewCourses'!M18","v":0.2},{"$f":"'2024NewCourses'!N18","v":0.2},{"$f":"'2024NewCourses'!O18","v":0.2}]
["MATH-002","Geometry","24-05985-002",0.05,0.05,0.05,0.05,0.05,0.05,null,null,null,null,null,null,null,null,null,null,null,null,null,null,"ALL-004","Aeration Systems",{"$f":"'2024NewCourses'!G19","v":"24-09505-001"},{"$f":"'2024NewCourses'!J19","v":0.15},{"$f":"'2024NewCourses'!K19","v":0.15},{"$f":"'2024NewCourses'!L19","v":0.15},{"$f":"'2024NewCourses'!M19","v":0.15},{"$f":"'2024NewCourses'!N19","v":0.15},{"$f":"'2024NewCourses'!O19","v":0.15}]
["MATH-003","Chemical Dosing","24-05986-002",0.05,0.05,0.05,0.05,0.05,0.05,null,null,null,null,null,null,null,null,null,null,null,null,null,null,"ALL-005","Corrosion Control",{"$f":"'2024NewCourses'!G20","v":"24-05992-001"},{"$f":"'2024NewCourses'!J20","v":0.25},{"$f":"'2024NewCourses'!K20","v":0.25},{"$f":"'2024NewCourses'!L20","v":0.25},{"$f":"'2024NewCourses'!M20","v":0.25},{"$f":"'2024NewCourses'!N20","v":0.25},{"$f":"'2024NewCourses'!O20","v":0.25}]
["MATH-004","Velocity and Hydraulic Detention Time","24-05987-001",0.1,0.1,0.1,0.1,0.1,0.1,null,null,null,null,null,null,null,null,null,null,null,null,null,null,"ALL-006","Maintenance",{"$f":"'2024NewCourses'!G21","v":"24-05993-001"},{"$f":"'2024NewCourses'!J21","v":0.2},{"$f":"'2024NewCourses'!K21","v":0.2},{"$f":"'2024NewCourses'!L21","v":0.2},{"$f":"'2024NewCourses'!M21","v":0.2},{"$f":"'2024NewCourses'!N21","v":0.2},{"$f":"'2024NewCourses'!O21","v":0.2}]
["MATH-005","Geometry and Velocity","24-05988-001",0.15,0.15,0.15,0.15,0.15,0.15,null,null,null,null,null,null,null,null,null,null,null,null,null,null,"ALL-007","Electrical Fundamentals",{"$f":"'2024NewCourses'!G22","v":"24-05994-001"},{"$f":"'2024NewCourses'!J22","v":0.15},{"$f":"'2024NewCourses'!K22","v":0.15},{"$f":"'2024NewCourses'!L22","v":0.15},{"$f":"'2024NewCourses'!M22","v":0.15},{"$f":"'2024NewCourses'!N22","v":0.15},{"$f":"'2024NewCourses'!O22","v":0.15}]
["MATH-006","Using the Two-Normal and Three-Normal Equations","24-06672-001",0.05,0.05,0.05,0.05,0.05,0.05,null,null,null,null,null,null,null,null,null,null,null,null,null,null,"ALL-008","Representative Sampling",{"$f":"'2024NewCourses'!G23","v":"24-05995-002"},{"$f":"'2024NewCourses'!J23","v":0.15},{"$f":"'2024NewCourses'!K23","v":0.15},{"$f":"'2024NewCourses'!L23","v":0.15},{"$f":"'2024NewCourses'!M23","v":0.15},{"$f":"'2024NewCourses'!N23","v":0.15},{"$f":"'2024NewCourses'!O23","v":0}]
["Total",null,null,{"$f":"SUM(Table3[Max])","v":0.55000000000000004},{"$f":"SUM(Table3[W])","v":0.55000000000000004},{"$f":"SUM(Table3[WW])","v":0.55000000000000004},{"$f":"SUM(Table3[I])","v":0.55000000000000004},{"$f":"SUM(Table3[D])","v":0.55000000000000004},{"$f":"SUM(Table3[C])","v":0.55000000000000004},null,null,null,null,null,null,null,null,null,null,null,null,null,null,"ALL-009","Disinfection Byproducts",{"$f":"'2024NewCourses'!G24","v":"24-05996-001"},{"$f":"'2024NewCourses'!J24","v":0.15},{"$f":"'2024NewCourses'!K24","v":0.15},{"$f":"'2024NewCourses'!L24","v":0.15},{"$f":"'2024NewCourses'!M24","v":0.15},{"$f":"'2024NewCourses'!N24","v":0.15},{"$f":"'2024NewCourses'!O24","v":0}]
[null,null,null,null,null,null,null,null,null,null,null,null,null,null,null,null,null,null,null,null,null,null,null,"ALL-010","Chemical Handling (under construction)",{"$f":"'2024NewCourses'!G25","v":0},{"$f":"'2024NewCourses'!J25","v":0},{"$f":"'2024NewCourses'!K25","v":0},{"$f":"'2024NewCourses'!L25","v":0},{"$f":"'2024NewCourses'!M25","v":0},{"$f":"'2024NewCourses'!N25","v":0},{"$f":"'2024NewCourses'!O25","v":0}]
["2024-02 Advanced Wastewater Math Bundle",null,null,null,null,null,null,null,{"$f":"D17*10*20*0.8","v":96.000000000000014},null,null,null,null,null,null,null,null,null,null,null,null,null,null,"ALL-011","Backflow Preventers",{"$f":"'2024NewCourses'!G26","v":"24-08959-001"},{"$f":"'2024NewCourses'!J26","v":0.05},{"$f":"'2024NewCourses'!K26","v":0.05},{"$f":"'2024NewCourses'!L26","v":0.05},{"$f":"'2024NewCourses'!M26","v":0.05},{"$f":"'2024NewCourses'!N26","v":0.05},{"$f":"'2024NewCourses'!O26","v":0.05}]
["Course ID","Topic","Approval #","Max","W","WW","I","D","C2",null,null,null,null,null,null,null,null,null,null,null,null,null,null,"COL-001","Introduction to Collections Systems",{"$f":"'2024NewCourses'!G32","v":"24-06000-002"},{"$f":"'2024NewCourses'!J32","v":0.15},{"$f":"'2024NewCourses'!K32","v":0},{"$f":"'2024NewCourses'!L32","v":0},{"$f":"'2024NewCourses'!M32","v":0},{"$f":"'2024NewCourses'!N32","v":0},{"$f":"'2024NewCourses'!O32","v":0.15}]
["MATH-007",{"$f":"LOOKUP($A14,$X:$X,Y:Y)","v":"Advanced Activated Sludge and Clarifier Math"},"24-10564-001",0.2,0,0.2,0.2,0,0,null,null,null,null,null,null,null,null,null,null,null,null,null,null,"COL-002","Collection System Inspection, Testing, and Cleaning - Part 1",{"$f":"'2024NewCourses'!G33","v":"24-06001-002"},{"$f":"'2024NewCourses'!J33","v":0.2},{"$f":"'2024NewCourses'!K33","v":0},{"$f":"'2024NewCourses'!L33","v":0},{"$f":"'2024NewCourses'!M33","v":0},{"$f":"'2024NewCourses'!N33","v":0},{"$f":"'2024NewCourses'!O33","v":0.2}]
["MATH-008","Advanced Anaerobic Digester and Solids Math","24-10565-001",0.2,0,0.2,0.2,0,0,null,null,null,null,null,null,null,null,null,null,null,null,null,null,"COL-003","Collection System Inspection, Testing, and Cleaning - Part 2",{"$f":"'2024NewCourses'!G34","v":"24-06002-002"},{"$f":"'2024NewCourses'!J34","v":0.25},{"$f":"'2024NewCourses'!K34","v":0},{"$f":"'2024NewCourses'!L34","v":0},{"$f":"'2024NewCourses'!M34","v":0},{"$f":"'2024NewCourses'!N34","v":0},{"$f":"'2024NewCourses'!O34","v":0.25}]
["MATH-009","Advanced Wastewater Math Grab Bag","24-10566-001",0.2,0.2,0.2,0.2,0.2,0.2,null,null,null,null,null,null,null,null,null,null,null,null,null,null,"COL-004","Lift Stations",{"$f":"'2024NewCourses'!G35","v":"24-06003-001"},{"$f":"'2024NewCourses'!J35","v":0.2},{"$f":"'2024NewCourses'!K35","v":0},{"$f":"'2024NewCourses'!L35","v":0.2},{"$f":"'2024NewCourses'!M35","v":0.2},{"$f":"'2024NewCourses'!N35","v":0},{"$f":"'2024NewCourses'!O35","v":0.2}]
["Total",null,null,{"$f":"SUM(D14:D16)","v":0.60000000000000009},{"$f":"SUM(E14:E16)","v":0.2},0.60000000000000009,0.60000000000000009,0.2,0.2,null,null,null,null,null,null,null,null,null,null,null,null,null,null,"COL-005","Pretreatment and Pollution Prevention",{"$f":"'2024NewCourses'!G36","v":"24-06004-001"},{"$f":"'2024NewCourses'!J36","v":0.3},{"$f":"'2024NewCourses'!K36","v":0.3},{"$f":"'2024NewCourses'!L36","v":0.3},{"$f":"'2024NewCourses'!M36","v":0.3},{"$f":"'2024NewCourses'!N36","v":0},{"$f":"'2024NewCourses'!O36","v":0.3}]
[null,null,null,null,null,null,null,null,null,null,null,null,null,null,null,null,null,null,null,null,null,null,null,"COL-006","Manholes",{"$f":"'2024NewCourses'!G37","v":"24-06005-001"},{"$f":"'2024NewCourses'!J37","v":0.1},{"$f":"'2024NewCourses'!K37","v":0},{"$f":"'2024NewCourses'!L37","v":0},{"$f":"'2024NewCourses'!M37","v":0},{"$f":"'2024NewCourses'!N37","v":0},{"$f":"'2024NewCourses'!O37","v":0.1}]
["2024-03 Mix It Up Bundle 1",null,null,null,null,null,null,null,{"$f":"D26*10*20*0.8","v":144},null,null,null,null,null,null,null,null,null,null,null,null,null,null,"LAB-001","Basic Chemistry",{"$f":"'2024NewCourses'!G85","v":"24-05997-001"},{"$f":"'2024NewCourses'!J85","v":0.25},{"$f":"'2024NewCourses'!K85","v":0.25},{"$f":"'2024NewCourses'!L85","v":0.25},{"$f":"'2024NewCourses'!M85","v":0.25},{"$f":"'2024NewCourses'!N85","v":0.25},{"$f":"'2024NewCourses'!O85","v":0.25}]
["Course ID","Topic","Approval #","Max","W","WW","I","D","C",null,null,null,null,null,null,null,null,null,null,null,null,null,null,"LAB-002","Laboratory - pH, Alkalinity, and Hardness",{"$f":"'2024NewCourses'!G86","v":"24-07704-001"},{"$f":"'2024NewCourses'!J86","v":0.2},{"$f":"'2024NewCourses'!K86","v":0.2},{"$f":"'2024NewCourses'!L86","v":0.2},{"$f":"'2024NewCourses'!M86","v":0.2},{"$f":"'2024NewCourses'!N86","v":0.05},{"$f":"'2024NewCourses'!O86","v":0.05}]
["ALL-002",{"$f":"LOOKUP($A21,$X:$X,Y:Y)","v":"Hydraulics Basics"},"24-05990-001",0.15,0.15,0.15,0.15,0.15,0.15,null,null,null,null,null,null,null,null,null,null,null,null,null,null,"LAB-003","Laboratory - TDS, Conductivity, and Turbidity",{"$f":"'2024NewCourses'!G87","v":"24-07745-001"},{"$f":"'2024NewCourses'!J87","v":0.2},{"$f":"'2024NewCourses'!K87","v":0.2},{"$f":"'2024NewCourses'!L87","v":0.2},{"$f":"'2024NewCourses'!M87","v":0.2},{"$f":"'2024NewCourses'!N87","v":0.1},{"$f":"'2024NewCourses'!O87","v":0.05}]
["ALL-006","Maintenance","24-05993-001",0.2,0.2,0.2,0.2,0.2,0.2,null,null,null,null,null,null,null,null,null,null,null,null,null,null,"LAB-004","Laboratory - Total Suspended Solids",{"$f":"'2024NewCourses'!G88","v":"24-06028-001"},{"$f":"'2024NewCourses'!J88","v":0.1},{"$f":"'2024NewCourses'!K88","v":0.1},{"$f":"'2024NewCourses'!L88","v":0.1},{"$f":"'2024NewCourses'!M88","v":0.1},{"$f":"'2024NewCourses'!N88","v":0},{"$f":"'2024NewCourses'!O88","v":0}]
["ALL-007","Electrical Fundamentals","24-05994-001",0.15,0.15,0.15,0.15,0.15,0.15,null,null,null,null,null,null,null,null,null,null,null,null,null,null,"LAB-005","Laboratory - Proper Use of Spectrophotometers (QA/QC)",{"$f":"'2024NewCourses'!G89","v":"24-06030-001"},{"$f":"'2024NewCourses'!J89","v":0.15},{"$f":"'2024NewCourses'!K89","v":0.15},{"$f":"'2024NewCourses'!L89","v":0.15},{"$f":"'2024NewCourses'!M89","v":0.15},{"$f":"'2024NewCourses'!N89","v":0.15},{"$f":"'2024NewCourses'!O89","v":0.15}]
["LAB-001","Basic Chemistry","24-05997-001",0.25,0.25,0.25,0.25,0.25,0.25,null,null,null,null,null,null,null,null,null,null,null,null,null,null,"LAB-006","Laboratory - Chlorine Residual by DPD",{"$f":"'2024NewCourses'!G90","v":"24-07709-001"},{"$f":"'2024NewCourses'!J90","v":0.05},{"$f":"'2024NewCourses'!K90","v":0.05},{"$f":"'2024NewCourses'!L90","v":0.05},{"$f":"'2024NewCourses'!M90","v":0.05},{"$f":"'2024NewCourses'!N90","v":0.05},{"$f":"'2024NewCourses'!O90","v":0}]
["LAB-005","Laboratory - Proper Use of Spectrophotometers (QA/QC)","24-06030-001",0.15,0.15,0.15,0.15,0.15,0.15,null,null,null,null,null,null,null,null,null,null,null,null,null,null,"LAB-007","Laboratory - Spectroscopic Tests: Fluoride, Nitrite, and Nitrate ",{"$f":"'2024NewCourses'!G91","v":"24-08960-001"},{"$f":"'2024NewCourses'!J91","v":0.15},{"$f":"'2024NewCourses'!K91","v":0.15},{"$f":"'2024NewCourses'!L91","v":0.1},{"$f":"'2024NewCourses'!M91","v":0.15},{"$f":"'2024NewCourses'!N91","v":0.05},{"$f":"'2024NewCourses'!O91","v":0.05}]
["Total",null,null,{"$f":"SUM(Table36[Max])","v":0.9},{"$f":"SUM(Table36[W])","v":0.9},{"$f":"SUM(Table36[WW])","v":0.9},{"$f":"SUM(Table36[I])","v":0.9},{"$f":"SUM(Table36[D])","v":0.9},{"$f":"SUM(Table36[C])","v":0.9},null,null,null,null,null,null,null,null,null,null,null,null,null,null,"LAB-008","Laboratory - Ion-Selective Electrodes (ammonia, nitrate, fluoride)",{"$f":"'2024NewCourses'!G92","v":"24-08961-001"},{"$f":"'2024NewCourses'!J92","v":0.2},{"$f":"'2024NewCourses'!K92","v":0.2},{"$f":"'2024NewCourses'!L92","v":0.15},{"$f":"'2024NewCourses'!M92","v":0.2},{"$f":"'2024NewCourses'!N92","v":0.05},{"$f":"'2024NewCourses'!O92","v":0.05}]
[null,null,null,null,null,null,null,null,null,null,null,null,null,null,null,null,null,null,null,null,null,null,null,"LAB-009","Laboratory - Jar Testing",{"$f":"'2024NewCourses'!G93","v":"24-07639-001"},{"$f":"'2024NewCourses'!J93","v":0.1},{"$f":"'2024NewCourses'!K93","v":0.1},{"$f":"'2024NewCourses'!L93","v":0.1},{"$f":"'2024NewCourses'!M93","v":0.1},{"$f":"'2024NewCourses'!N93","v":0},{"$f":"'2024NewCourses'!O93","v":0}]
["2024-04 Mix It Up Bundle 2",null,null,null,null,null,null,null,{"$f":"D35*10*20*0.8","v":136},null,null,null,null,null,null,null,null,null,null,null,null,null,null,"LAB-010","Laboratory Testing - Biochemical Oxygen Demand",{"$f":"'2024NewCourses'!G94","v":"24-07744-001"},{"$f":"'2024NewCourses'!J94","v":0.2},{"$f":"'2024NewCourses'!K94","v":0},{"$f":"'2024NewCourses'!L94","v":0.2},{"$f":"'2024NewCourses'!M94","v":0.2},{"$f":"'2024NewCourses'!N94","v":0},{"$f":"'2024NewCourses'!O94","v":0}]
["Course ID","Topic","Approval #","Max","W","WW","I","D","C",null,null,null,null,null,null,null,null,null,null,null,null,null,null,"LAB-011","Laboratory Testing - Total coliforms by MPN",{"$f":"'2024NewCourses'!G95","v":0},{"$f":"'2024NewCourses'!J95","v":0.15},{"$f":"'2024NewCourses'!K95","v":0.15},{"$f":"'2024NewCourses'!L95","v":0.15},{"$f":"'2024NewCourses'!M95","v":0.15},{"$f":"'2024NewCourses'!N95","v":0.15},{"$f":"'2024NewCourses'!O95","v":0}]
["ALL-001",{"$f":"LOOKUP($A30,$X:$X,Y:Y)","v":"Pumps"},"24-06046-002",0.2,0.2,0.2,0.2,0.2,0.2,null,null,null,null,null,null,null,null,null,null,null,null,null,null,"MATH-000","Math Strategies for Success",{"$f":"'2024NewCourses'!G5","v":"24-05983-002"},{"$f":"'2024NewCourses'!J5","v":0.1},{"$f":"'2024NewCourses'!K5","v":0.1},{"$f":"'2024NewCourses'!L5","v":0.1},{"$f":"'2024NewCourses'!M5","v":0.1},{"$f":"'2024NewCourses'!N5","v":0.1},{"$f":"'2024NewCourses'!O5","v":0.1}]
["ALL-004","Aeration Systems","24-09505-001",0.15,0.15,0.15,0.15,0.15,0.15,null,null,null,null,null,null,null,null,null,null,null,null,null,null,"MATH-001","Unit Conversions",{"$f":"'2024NewCourses'!G6","v":"24-05984-002"},{"$f":"'2024NewCourses'!J6","v":0.05},{"$f":"'2024NewCourses'!K6","v":0.05},{"$f":"'2024NewCourses'!L6","v":0.05},{"$f":"'2024NewCourses'!M6","v":0.05},{"$f":"'2024NewCourses'!N6","v":0.05},{"$f":"'2024NewCourses'!O6","v":0.05}]
["ALL-005","Corrosion Control","24-05992-001",0.25,0.25,0.25,0.25,0.25,0.25,null,null,null,null,null,null,null,null,null,null,null,null,null,null,"MATH-002","Geometry",{"$f":"'2024NewCourses'!G7","v":"24-05985-002"},{"$f":"'2024NewCourses'!J7","v":0.05},{"$f":"'2024NewCourses'!K7","v":0.05},{"$f":"'2024NewCourses'!L7","v":0.05},{"$f":"'2024NewCourses'!M7","v":0.05},{"$f":"'2024NewCourses'!N7","v":0.05},{"$f":"'2024NewCourses'!O7","v":0.05}]
["ALL-011","Backflow Preventers","24-08959-001",0.05,0.05,0.05,0.05,0.05,0.05,null,null,null,null,null,null,null,null,null,null,null,null,null,null,"MATH-003","Chemical Dosing",{"$f":"'2024NewCourses'!G8","v":"24-05986-002"},{"$f":"'2024NewCourses'!J8","v":0.05},{"$f":"'2024NewCourses'!K8","v":0.05},{"$f":"'2024NewCourses'!L8","v":0.05},{"$f":"'2024NewCourses'!M8","v":0.05},{"$f":"'2024NewCourses'!N8","v":0.05},{"$f":"'2024NewCourses'!O8","v":0.05}]
["LAB-002","Laboratory - pH, Alkalinity, and Hardness","24-07704-001",0.2,0.2,0.2,0.2,0.05,0.05,null,null,null,null,null,null,null,null,null,null,null,null,null,null,"MATH-004","Velocity and Hydraulic Detention Time",{"$f":"'2024NewCourses'!G9","v":"24-05987-001"},{"$f":"'2024NewCourses'!J9","v":0.1},{"$f":"'2024NewCourses'!K9","v":0.1},{"$f":"'2024NewCourses'!L9","v":0.1},{"$f":"'2024NewCourses'!M9","v":0.1},{"$f":"'2024NewCourses'!N9","v":0.1},{"$f":"'2024NewCourses'!O9","v":0.1}]
["Total",null,null,{"$f":"SUM(Table38[Max])","v":0.85000000000000009},{"$f":"SUM(Table38[W])","v":0.85000000000000009},{"$f":"SUM(Table38[WW])","v":0.85000000000000009},{"$f":"SUM(Table38[I])","v":0.85000000000000009},{"$f":"SUM(Table38[D])","v":0.70000000000000007},{"$f":"SUM(Table38[C])","v":0.70000000000000007},null,null,null,null,null,null,null,null,null,null,null,null,null,null,"MATH-005","Geometry and Velocity",{"$f":"'2024NewCourses'!G10","v":"24-05988-001"},{"$f":"'2024NewCourses'!J10","v":0.15},{"$f":"'2024NewCourses'!K10","v":0.15},{"$f":"'2024NewCourses'!L10","v":0.15},{"$f":"'2024NewCourses'!M10","v":0.15},{"$f":"'2024NewCourses'!N10","v":0.15},{"$f":"'2024NewCourses'!O10","v":0.15}]
[null,null,null,null,null,null,null,null,null,null,null,null,null,null,null,null,null,null,null,null,null,null,null,"MATH-006","Using the Two-Normal and Three-Normal Equations",{"$f":"'2024NewCourses'!G11","v":"24-06672-001"},{"$f":"'2024NewCourses'!J11","v":0.05},{"$f":"'2024NewCourses'!K11","v":0.05},{"$f":"'2024NewCourses'!L11","v":0.05},{"$f":"'2024NewCourses'!M11","v":0.05},{"$f":"'2024NewCourses'!N11","v":0.05},{"$f":"'2024NewCourses'!O11","v":0.05}]
["2024-05 Laboratory Procedures Bundle",null,null,null,null,null,null,null,{"$f":"D50*10*20*0.8","v":256},null,null,null,null,null,null,null,null,null,null,null,null,null,null,"MATH-007","Advanced Activated Sludge and Clarifier Math",{"$f":"'2024NewCourses'!G12","v":"24-10564-001"},{"$f":"'2024NewCourses'!J12","v":0.2},{"$f":"'2024NewCourses'!K12","v":0},{"$f":"'2024NewCourses'!L12","v":0.2},{"$f":"'2024NewCourses'!M12","v":0.2},{"$f":"'2024NewCourses'!N12","v":0},{"$f":"'2024NewCourses'!O12","v":0}]
["Course ID","Topic","Approval #","Max","W","WW","I","D","C",null,null,null,null,null,null,null,null,null,null,null,null,null,null,"MATH-008","Advanced Anaerobic Digester and Solids Math",{"$f":"'2024NewCourses'!G13","v":"24-10565-001"},{"$f":"'2024NewCourses'!J13","v":0.2},{"$f":"'2024NewCourses'!K13","v":0},{"$f":"'2024NewCourses'!L13","v":0.2},{"$f":"'2024NewCourses'!M13","v":0.2},{"$f":"'2024NewCourses'!N13","v":0},{"$f":"'2024NewCourses'!O13","v":0}]
["LAB-001",{"$f":"LOOKUP($A39,$X:$X,Y:Y)","v":"Basic Chemistry"},{"$f":"LOOKUP($A39,$X:$X,Z:Z)","v":"24-05997-001"},{"$f":"LOOKUP($A39,$X:$X,AA:AA)","v":0.25},{"$f":"LOOKUP($A39,$X:$X,AB:AB)","v":0.25},{"$f":"LOOKUP($A39,$X:$X,AC:AC)","v":0.25},{"$f":"LOOKUP($A39,$X:$X,AD:AD)","v":0.25},{"$f":"LOOKUP($A39,$X:$X,AE:AE)","v":0.25},{"$f":"LOOKUP($A39,$X:$X,AF:AF)","v":0.25},null,null,null,null,null,null,null,null,null,null,null,null,null,null,"MATH-009","Advanced Wastewater Math Grab Bag",{"$f":"'2024NewCourses'!G14","v":"24-10566-001"},{"$f":"'2024NewCourses'!J14","v":0.2},{"$f":"'2024NewCourses'!K14","v":0.2},{"$f":"'2024NewCourses'!L14","v":0.2},{"$f":"'2024NewCourses'!M14","v":0.2},{"$f":"'2024NewCourses'!N14","v":0.2},{"$f":"'2024NewCourses'!O14","v":0.2}]
["LAB-002","Laboratory - pH, Alkalinity, and Hardness","24-07704-001",0.2,0.2,0.2,0.2,0.05,0.05,null,null,null,null,null,null,null,null,null,null,null,null,null,null,"SAF-001","Trenching and Shoring",{"$f":"'2024NewCourses'!G27","v":"24-05998-001"},{"$f":"'2024NewCourses'!J27","v":0.25},{"$f":"'2024NewCourses'!K27","v":0},{"$f":"'2024NewCourses'!L27","v":0},{"$f":"'2024NewCourses'!M27","v":0},{"$f":"'2024NewCourses'!N27","v":0.25},{"$f":"'2024NewCourses'!O27","v":0.25}]
["LAB-003","Laboratory - TDS, Conductivity, and Turbidity","24-07745-001",0.2,0.2,0.2,0.2,0.1,0.05,null,null,null,null,null,null,null,null,null,null,null,null,null,null,"SAF-002","Confined Space Entry",{"$f":"'2024NewCourses'!G28","v":"24-05999-001"},{"$f":"'2024NewCourses'!J28","v":0.15},{"$f":"'2024NewCourses'!K28","v":0},{"$f":"'2024NewCourses'!L28","v":0},{"$f":"'2024NewCourses'!M28","v":0},{"$f":"'2024NewCourses'!N28","v":0},{"$f":"'2024NewCourses'!O28","v":0}]
["LAB-004","Laboratory - Total Suspended Solids","24-06028-001",0.1,0.1,0.1,0.1,0,0,null,null,null,null,null,null,null,null,null,null,null,null,null,null,"SAF-003","Lockout / Tagout",{"$f":"'2024NewCourses'!G29","v":"24-09451-001"},{"$f":"'2024NewCourses'!J29","v":0.1},{"$f":"'2024NewCourses'!K29","v":0},{"$f":"'2024NewCourses'!L29","v":0},{"$f":"'2024NewCourses'!M29","v":0},{"$f":"'2024NewCourses'!N29","v":0},{"$f":"'2024NewCourses'!O29","v":0}]
["LAB-005","Laboratory - Proper Use of Spectrophotometers (QA/QC)","24-06030-001",0.15,0.15,0.15,0.15,0.15,0.15,null,null,null,null,null,null,null,null,null,null,null,null,null,null,"SAF-004","Demolition Saw Safety",{"$f":"'2024NewCourses'!G30","v":"24-09506-001"},{"$f":"'2024NewCourses'!J30","v":0.05},{"$f":"'2024NewCourses'!K30","v":0},{"$f":"'2024NewCourses'!L30","v":0},{"$f":"'2024NewCourses'!M30","v":0},{"$f":"'2024NewCourses'!N30","v":0},{"$f":"'2024NewCourses'!O30","v":0}]
["LAB-006","Laboratory - Chlorine Residual by DPD","24-07709-001",0.05,0.05,0.05,0.05,0.05,0,null,null,null,null,null,null,null,null,null,null,null,null,null,null,"WATER-001","Introduction to Small Water Systems",{"$f":"'2024NewCourses'!G75","v":"24-06034-002"},{"$f":"'2024NewCourses'!J75","v":0.15},{"$f":"'2024NewCourses'!K75","v":0.15},{"$f":"'2024NewCourses'!L75","v":0},{"$f":"'2024NewCourses'!M75","v":0},{"$f":"'2024NewCourses'!N75","v":0.15},{"$f":"'2024NewCourses'!O75","v":0}]
["LAB-007","Laboratory - Spectroscopic Tests: Fluoride, Nitrite, and Nitrate ","24-08960-001",0.15,0.15,0.1,0.15,0.05,0.05,null,null,null,null,null,null,null,null,null,null,null,null,null,null,"WATER-002","Water Sources Part 1",{"$f":"'2024NewCourses'!G76","v":"24-06035-001"},{"$f":"'2024NewCourses'!J76","v":0.15},{"$f":"'2024NewCourses'!K76","v":0.15},{"$f":"'2024NewCourses'!L76","v":0.1},{"$f":"'2024NewCourses'!M76","v":0.1},{"$f":"'2024NewCourses'!N76","v":0.1},{"$f":"'2024NewCourses'!O76","v":0.05}]
["LAB-008","Laboratory - Ion-Selective Electrodes (ammonia, nitrate, fluoride)","24-08961-001",0.2,0.2,0.15,0.2,0.05,0.05,null,null,null,null,null,null,null,null,null,null,null,null,null,null,"WATER-003","Water Sources Part 2",{"$f":"'2024NewCourses'!G77","v":"24-06036-001"},{"$f":"'2024NewCourses'!J77","v":0.1},{"$f":"'2024NewCourses'!K77","v":0.1},{"$f":"'2024NewCourses'!L77","v":0},{"$f":"'2024NewCourses'!M77","v":0.1},{"$f":"'2024NewCourses'!N77","v":0.1},{"$f":"'2024NewCourses'!O77","v":0}]
["LAB-009","Laboratory - Jar Testing","24-07639-001",0.1,0.1,0.1,0.1,0,0,null,null,null,null,null,null,null,null,null,null,null,null,null,null,"WATER-004","Drinking Water Treatment Part 1",{"$f":"'2024NewCourses'!G78","v":"24-06037-001"},{"$f":"'2024NewCourses'!J78","v":0.25},{"$f":"'2024NewCourses'!K78","v":0.25},{"$f":"'2024NewCourses'!L78","v":0},{"$f":"'2024NewCourses'!M78","v":0},{"$f":"'2024NewCourses'!N78","v":0},{"$f":"'2024NewCourses'!O78","v":0}]
["LAB-010","Laboratory Testing - Biochemical Oxygen Demand","24-07744-001",0.2,0,0.2,0.2,0,0,null,null,null,null,null,null,null,null,null,null,null,null,null,null,"WATER-005","Water Treatment Part 2 (Disinfection, Water Focus)",{"$f":"'2024NewCourses'!G79","v":"24-06038-001"},{"$f":"'2024NewCourses'!J79","v":0.25},{"$f":"'2024NewCourses'!K79","v":0.25},{"$f":"'2024NewCourses'!L79","v":0.25},{"$f":"'2024NewCourses'!M79","v":0.25},{"$f":"'2024NewCourses'!N79","v":0.25},{"$f":"'2024NewCourses'!O79","v":0}]
["LAB-011",{"$f":"LOOKUP($A49,$X:$X,Y:Y)","v":"Laboratory Testing - Total coliforms by MPN"},{"$f":"LOOKUP($A49,$X:$X,Z:Z)","v":0},0,0,0,0,0,{"$f":"LOOKUP($A49,$X:$X,AF:AF)","v":0},null,null,null,null,null,null,null,null,null,null,null,null,null,null,"WATER-006","Intro to Distribution Systems",{"$f":"'2024NewCourses'!G80","v":"24-06696-001"},{"$f":"'2024NewCourses'!J80","v":0.15},{"$f":"'2024NewCourses'!K80","v":0.1},{"$f":"'2024NewCourses'!L80","v":0.1},{"$f":"'2024NewCourses'!M80","v":0.1},{"$f":"'2024NewCourses'!N80","v":0.15},{"$f":"'2024NewCourses'!O80","v":0.1}]
["Total",null,null,{"$f":"SUM(Table39[Max])","v":1.6},{"$f":"SUM(Table39[W])","v":1.4000000000000001},{"$f":"SUM(Table39[WW])","v":1.5},{"$f":"SUM(Table39[I])","v":1.6},{"$f":"SUM(Table39[D])","v":0.70000000000000018},{"$f":"SUM(Table39[C])","v":0.60000000000000009},null,null,null,null,null,null,null,null,null,null,null,null,null,null,"WATER-007","MRT Drinking Water Regulatory Course",{"$f":"'2024NewCourses'!G81","v":"24-06743-002"},{"$f":"'2024NewCourses'!J81","v":0.3},{"$f":"'2024NewCourses'!K81","v":0.3},{"$f":"'2024NewCourses'!L81","v":0},{"$f":"'2024NewCourses'!M81","v":0},{"$f":"'2024NewCourses'!N81","v":0.3},{"$f":"'2024NewCourses'!O81","v":0}]
[null,null,null,null,null,null,null,null,null,null,null,null,null,null,null,null,null,null,null,null,null,null,null,"WATER-008","Corrosion Control and Laboratory",{"$f":"'2024NewCourses'!G82","v":"24-06039-001"},{"$f":"'2024NewCourses'!J82","v":0.2},{"$f":"'2024NewCourses'!K82","v":0.2},{"$f":"'2024NewCourses'!L82","v":0.2},{"$f":"'2024NewCourses'!M82","v":0.2},{"$f":"'2024NewCourses'!N82","v":0.1},{"$f":"'2024NewCourses'!O82","v":0.1}]
["2024-06 Small Water Systems Renewal (Colorado)",null,null,null,null,null,null,null,{"$f":"(D65-0.3)*10*20*0.8","v":247.99999999999997},null,null,null,null,null,null,null,null,null,null,null,null,null,null,"WATER-009","Fire Hydrant Operation and Inspection (under construction)",{"$f":"'2024NewCourses'!G83","v":"24-10672-001"},{"$f":"'2024NewCourses'!J83","v":0},{"$f":"'2024NewCourses'!K83","v":0},{"$f":"'2024NewCourses'!L83","v":0},{"$f":"'2024NewCourses'!M83","v":0},{"$f":"'2024NewCourses'!N83","v":0},{"$f":"'2024NewCourses'!O83","v":0}]
["Course ID","Topic","Approval #","Max","W","WW","I","D","C",null,null,null,null,null,null,null,null,null,null,null,null,null,null,"WWT-001","Introduction to Wastewater:  A Plant Overview",{"$f":"'2024NewCourses'!G39","v":"24-06006-001"},{"$f":"'2024NewCourses'!J39","v":0.2},{"$f":"'2024NewCourses'!K39","v":0},{"$f":"'2024NewCourses'!L39","v":0.2},{"$f":"'2024NewCourses'!M39","v":0.2},{"$f":"'2024NewCourses'!N39","v":0},{"$f":"'2024NewCourses'!O39","v":0}]
["WATER-006",{"$f":"LOOKUP($A54,$X:$X,Y:Y)","v":"Intro to Distribution Systems"},{"$f":"LOOKUP($A54,$X:$X,Z:Z)","v":"24-06696-001"},{"$f":"LOOKUP($A54,$X:$X,AA:AA)","v":0.15},{"$f":"LOOKUP($A54,$X:$X,AB:AB)","v":0.1},{"$f":"LOOKUP($A54,$X:$X,AC:AC)","v":0.1},{"$f":"LOOKUP($A54,$X:$X,AD:AD)","v":0.1},{"$f":"LOOKUP($A54,$X:$X,AE:AE)","v":0.15},{"$f":"LOOKUP($A54,$X:$X,AF:AF)","v":0.1},null,null,null,null,null,null,null,null,null,null,null,null,null,null,"WWT-002","What's In My Wastewater: Definitions and Typical Ratios",{"$f":"'2024NewCourses'!G40","v":"24-06007-001"},{"$f":"'2024NewCourses'!J40","v":0.15},{"$f":"'2024NewCourses'!K40","v":0},{"$f":"'2024NewCourses'!L40","v":0.15},{"$f":"'2024NewCourses'!M40","v":0.15},{"$f":"'2024NewCourses'!N40","v":0},{"$f":"'2024NewCourses'!O40","v":0.05}]
["ALL-001","Pumps","24-06046-002",0.2,0.2,0.2,0.2,0.2,0.2,null,null,null,null,null,null,null,null,null,null,null,null,null,null,"WWT-003","Preliminary Treatment",{"$f":"'2024NewCourses'!G41","v":"24-09381-001"},{"$f":"'2024NewCourses'!J41","v":0.1},{"$f":"'2024NewCourses'!K41","v":0.05},{"$f":"'2024NewCourses'!L41","v":0.1},{"$f":"'2024NewCourses'!M41","v":0.1},{"$f":"'2024NewCourses'!N41","v":0},{"$f":"'2024NewCourses'!O41","v":0.05}]
["ALL-002","Hydraulics Basics","24-05990-001",0.15,0.15,0.15,0.15,0.15,0.15,null,null,null,null,null,null,null,null,null,null,null,null,null,null,"WWT-004","Primary Treatment ",{"$f":"'2024NewCourses'!G42","v":"24-09382-001"},{"$f":"'2024NewCourses'!J42","v":0.2},{"$f":"'2024NewCourses'!K42","v":0},{"$f":"'2024NewCourses'!L42","v":0.2},{"$f":"'2024NewCourses'!M42","v":0.2},{"$f":"'2024NewCourses'!N42","v":0},{"$f":"'2024NewCourses'!O42","v":0}]
["WATER-003","Water Sources Part 2","24-06036-001",0.1,0.1,0,0.1,0.1,0,null,null,null,null,null,null,null,null,null,null,null,null,null,null,"WWT-005","Biological Treatment Basics",{"$f":"'2024NewCourses'!G43","v":"24-07222-001"},{"$f":"'2024NewCourses'!J43","v":0.15},{"$f":"'2024NewCourses'!K43","v":0},{"$f":"'2024NewCourses'!L43","v":0.15},{"$f":"'2024NewCourses'!M43","v":0.15},{"$f":"'2024NewCourses'!N43","v":0},{"$f":"'2024NewCourses'!O43","v":0}]
["ALL-011","Backflow Preventers","24-08959-001",0.05,0.05,0.05,0.05,0.05,0.05,null,null,null,null,null,null,null,null,null,null,null,null,null,null,"WWT-006","Fixed Film: Trickling Filters and RBCs",{"$f":"'2024NewCourses'!G44","v":"24-06008-001"},{"$f":"'2024NewCourses'!J44","v":0.15},{"$f":"'2024NewCourses'!K44","v":0},{"$f":"'2024NewCourses'!L44","v":0.15},{"$f":"'2024NewCourses'!M44","v":0.15},{"$f":"'2024NewCourses'!N44","v":0},{"$f":"'2024NewCourses'!O44","v":0}]
["LAB-006","Laboratory - Chlorine Residual by DPD","24-07709-001",0.05,0.05,0.05,0.05,0.05,0,null,null,null,null,null,null,null,null,null,null,null,null,null,null,"WWT-007","Lagoons and Wetlands",{"$f":"'2024NewCourses'!G45","v":"24-06009-001"},{"$f":"'2024NewCourses'!J45","v":0.25},{"$f":"'2024NewCourses'!K45","v":0},{"$f":"'2024NewCourses'!L45","v":0.25},{"$f":"'2024NewCourses'!M45","v":0.25},{"$f":"'2024NewCourses'!N45","v":0},{"$f":"'2024NewCourses'!O45","v":0}]
["WATER-007","MRT Drinking Water Regulatory Course","24-06743-002",0.3,0.3,0,0,0.3,0,null,null,null,null,null,null,null,null,null,null,null,null,null,null,"WWT-007A","Wastewater Treatment Lagoons",{"$f":"'2024NewCourses'!G46","v":"24-10618-001"},{"$f":"'2024NewCourses'!J46","v":0.2},{"$f":"'2024NewCourses'!K46","v":0},{"$f":"'2024NewCourses'!L46","v":0.2},{"$f":"'2024NewCourses'!M46","v":0.2},{"$f":"'2024NewCourses'!N46","v":0},{"$f":"'2024NewCourses'!O46","v":0}]
["WATER-005","Water Treatment Part 2 (Disinfection, Water Focus)","24-06038-001",0.25,0.25,0.25,0.25,0.25,0,null,null,null,null,null,null,null,null,null,null,null,null,null,null,"WWT-007B","Subsurface Flow Wetlands for Wastewater Treatment",{"$f":"'2024NewCourses'!G47","v":"24-10616-001"},{"$f":"'2024NewCourses'!J47","v":0.1},{"$f":"'2024NewCourses'!K47","v":0},{"$f":"'2024NewCourses'!L47","v":0.1},{"$f":"'2024NewCourses'!M47","v":0.1},{"$f":"'2024NewCourses'!N47","v":0},{"$f":"'2024NewCourses'!O47","v":0}]
["ALL-005","Corrosion Control","24-05992-001",0.25,0.25,0.25,0.25,0.25,0.25,null,null,null,null,null,null,null,null,null,null,null,null,null,null,"WWT-008","Lagoons and Fixed Film",{"$f":"'2024NewCourses'!G48","v":"24-06010-001"},{"$f":"'2024NewCourses'!J48","v":0.2},{"$f":"'2024NewCourses'!K48","v":0.15},{"$f":"'2024NewCourses'!L48","v":0.2},{"$f":"'2024NewCourses'!M48","v":0.2},{"$f":"'2024NewCourses'!N48","v":0},{"$f":"'2024NewCourses'!O48","v":0}]
["ALL-006","Maintenance","24-05993-001",0.2,0.2,0.2,0.2,0.2,0.2,null,null,null,null,null,null,null,null,null,null,null,null,null,null,"WWT-009","Activated Sludge Basics",{"$f":"'2024NewCourses'!G49","v":"24-06011-002"},{"$f":"'2024NewCourses'!J49","v":0.3},{"$f":"'2024NewCourses'!K49","v":0},{"$f":"'2024NewCourses'!L49","v":0.3},{"$f":"'2024NewCourses'!M49","v":0.3},{"$f":"'2024NewCourses'!N49","v":0},{"$f":"'2024NewCourses'!O49","v":0}]
["ALL-007","Electrical Fundamentals","24-05994-001",0.15,0.15,0.15,0.15,0.15,0.15,null,null,null,null,null,null,null,null,null,null,null,null,null,null,"WWT-010","Activated Sludge Basics: A Mechanical Approach",{"$f":"'2024NewCourses'!G50","v":"24-06012-001"},{"$f":"'2024NewCourses'!J50","v":0.2},{"$f":"'2024NewCourses'!K50","v":0},{"$f":"'2024NewCourses'!L50","v":0.2},{"$f":"'2024NewCourses'!M50","v":0.2},{"$f":"'2024NewCourses'!N50","v":0},{"$f":"'2024NewCourses'!O50","v":0}]
["Total",null,null,{"$f":"SUM(Table3910[Max])","v":1.8499999999999999},{"$f":"SUM(Table3910[W])","v":1.8},{"$f":"SUM(Table3910[WW])","v":1.4000000000000001},{"$f":"SUM(Table3910[I])","v":1.5},{"$f":"SUM(Table3910[D])","v":1.8499999999999999},{"$f":"SUM(Table3910[C])","v":1.1000000000000001},null,null,null,null,null,null,null,null,null,null,null,null,null,null,"WWT-011","Top 10 Questions for Activated Sludge Process Control",{"$f":"'2024NewCourses'!G51","v":"24-07727-001"},{"$f":"'2024NewCourses'!J51","v":0.25},{"$f":"'2024NewCourses'!K51","v":0},{"$f":"'2024NewCourses'!L51","v":0.25},{"$f":"'2024NewCourses'!M51","v":0.25},{"$f":"'2024NewCourses'!N51","v":0},{"$f":"'2024NewCourses'!O51","v":0}]
[null,null,null,null,null,null,null,null,null,null,null,null,null,null,null,null,null,null,null,null,null,null,null,"WWT-012A","Activated Sludge Microbiology: A View Beneath the Surface",{"$f":"'2024NewCourses'!G52","v":"24-08900-001"},{"$f":"'2024NewCourses'!J52","v":0.1},{"$f":"'2024NewCourses'!K52","v":0},{"$f":"'2024NewCourses'!L52","v":0.1},{"$f":"'2024NewCourses'!M52","v":0.1},{"$f":"'2024NewCourses'!N52","v":0},{"$f":"'2024NewCourses'!O52","v":0}]
["2024-07 Water D / Distribution 1 Renewal (Colorado)",null,null,null,null,null,null,null,{"$f":"(D75-0.3)*10*20*0.8","v":152},null,null,null,null,null,null,null,null,null,null,null,null,null,null,"WWT-012B","Activated Sludge Microbiology: Microscope Basics and the Micro Exam",{"$f":"'2024NewCourses'!G53","v":"24-08901-001"},{"$f":"'2024NewCourses'!J53","v":0.1},{"$f":"'2024NewCourses'!K53","v":0.1},{"$f":"'2024NewCourses'!L53","v":0.1},{"$f":"'2024NewCourses'!M53","v":0.1},{"$f":"'2024NewCourses'!N53","v":0.1},{"$f":"'2024NewCourses'!O53","v":0}]
["Course ID","Topic","Approval #","Max","W","WW","I","D","C",null,null,null,null,null,null,null,null,null,null,null,null,null,null,"WWT-013","Activated Sludge Microbiology: Filaments and Settling Problems",{"$f":"'2024NewCourses'!G54","v":"24-08902-001"},{"$f":"'2024NewCourses'!J54","v":0.1},{"$f":"'2024NewCourses'!K54","v":0},{"$f":"'2024NewCourses'!L54","v":0.1},{"$f":"'2024NewCourses'!M54","v":0.1},{"$f":"'2024NewCourses'!N54","v":0},{"$f":"'2024NewCourses'!O54","v":0}]
["ALL-001",{"$f":"LOOKUP($A69,$X:$X,Y:Y)","v":"Pumps"},"24-06046-002",0.2,0.2,0.2,0.2,0.2,0.2,null,null,null,null,null,null,null,null,null,null,null,null,null,null,"WWT-014","Types of Activated Sludge Systems",{"$f":"'2024NewCourses'!G55","v":"24-06015-001"},{"$f":"'2024NewCourses'!J55","v":0.15},{"$f":"'2024NewCourses'!K55","v":0},{"$f":"'2024NewCourses'!L55","v":0.15},{"$f":"'2024NewCourses'!M55","v":0.15},{"$f":"'2024NewCourses'!N55","v":0},{"$f":"'2024NewCourses'!O55","v":0}]
["WATER-003","Water Sources Part 2","24-06036-001",0.1,0.1,0,0.1,0.1,0,null,null,null,null,null,null,null,null,null,null,null,null,null,null,"WWT-015","Sequencing Batch Reactors (under construction)",{"$f":"'2024NewCourses'!G56","v":0},{"$f":"'2024NewCourses'!J56","v":0},{"$f":"'2024NewCourses'!K56","v":0},{"$f":"'2024NewCourses'!L56","v":0},{"$f":"'2024NewCourses'!M56","v":0},{"$f":"'2024NewCourses'!N56","v":0},{"$f":"'2024NewCourses'!O56","v":0}]
["WATER-004","Drinking Water Treatment Part 1","24-06037-001",0.25,0.25,0,0,0,0,null,null,null,null,null,null,null,null,null,null,null,null,null,null,"WWT-016","Nitrification and Denitrification",{"$f":"'2024NewCourses'!G57","v":"24-06016-001"},{"$f":"'2024NewCourses'!J57","v":0.3},{"$f":"'2024NewCourses'!K57","v":0.3},{"$f":"'2024NewCourses'!L57","v":0.3},{"$f":"'2024NewCourses'!M57","v":0.3},{"$f":"'2024NewCourses'!N57","v":0},{"$f":"'2024NewCourses'!O57","v":0}]
["WATER-005","Water Treatment Part 2 (Disinfection, Water Focus)","24-06038-001",0.25,0.25,0.25,0.25,0.25,0,null,null,null,null,null,null,null,null,null,null,null,null,null,null,"WWT-017","Biological and Chemical Phosphorus Removal",{"$f":"'2024NewCourses'!G58","v":"24-06017-001"},{"$f":"'2024NewCourses'!J58","v":0.2},{"$f":"'2024NewCourses'!K58","v":0},{"$f":"'2024NewCourses'!L58","v":0.2},{"$f":"'2024NewCourses'!M58","v":0.2},{"$f":"'2024NewCourses'!N58","v":0},{"$f":"'2024NewCourses'!O58","v":0}]
["WATER-006","Intro to Distribution Systems","24-06696-001",0.15,0.1,0.1,0.1,0.15,0.1,null,null,null,null,null,null,null,null,null,null,null,null,null,null,"WWT-018","State Point Analysis for Secondary Clarifiers",{"$f":"'2024NewCourses'!G59","v":"24-06018-001"},{"$f":"'2024NewCourses'!J59","v":0.15},{"$f":"'2024NewCourses'!K59","v":0.15},{"$f":"'2024NewCourses'!L59","v":0.15},{"$f":"'2024NewCourses'!M59","v":0.15},{"$f":"'2024NewCourses'!N59","v":0},{"$f":"'2024NewCourses'!O59","v":0}]
["WATER-007","MRT Drinking Water Regulatory Course","24-06743-002",0.3,0.3,0,0,0.3,0,null,null,null,null,null,null,null,null,null,null,null,null,null,null,"WWT-019","Activated Sludge Process Control Tests and Troubleshooting",{"$f":"'2024NewCourses'!G60","v":"24-06019-001"},{"$f":"'2024NewCourses'!J60","v":0.25},{"$f":"'2024NewCourses'!K60","v":0},{"$f":"'2024NewCourses'!L60","v":0.25},{"$f":"'2024NewCourses'!M60","v":0.25},{"$f":"'2024NewCourses'!N60","v":0},{"$f":"'2024NewCourses'!O60","v":0}]
["Total",null,null,{"$f":"SUM(Table391012[Max])","v":1.25},{"$f":"SUM(Table391012[W])","v":1.2},{"$f":"SUM(Table391012[WW])","v":0.55000000000000004},{"$f":"SUM(Table391012[I])","v":0.65},{"$f":"SUM(Table391012[D])","v":1},{"$f":"SUM(Table391012[C])","v":0.30000000000000004},null,null,null,null,null,null,null,null,null,null,null,null,null,null,"TEST","Membranes for Water and Wastewater Treatment (under construction)",{"$f":"'2024NewCourses'!G61","v":0},{"$f":"'2024NewCourses'!J61","v":0.1},{"$f":"'2024NewCourses'!K61","v":0.1},{"$f":"'2024NewCourses'!L61","v":0.1},{"$f":"'2024NewCourses'!M61","v":0.1},{"$f":"'2024NewCourses'!N61","v":0},{"$f":"'2024NewCourses'!O61","v":0}]
[null,null,null,null,null,null,null,null,null,null,null,null,null,null,null,null,null,null,null,null,null,null,null,"WWT-020","Chlorine Disinfection",{"$f":"'2024NewCourses'!G62","v":"24-06020-001"},{"$f":"'2024NewCourses'!J62","v":0.25},{"$f":"'2024NewCourses'!K62","v":0.25},{"$f":"'2024NewCourses'!L62","v":0.25},{"$f":"'2024NewCourses'!M62","v":0.25},{"$f":"'2024NewCourses'!N62","v":0.25},{"$f":"'2024NewCourses'!O62","v":0}]
["2024-08 Water C / Distribution 2 Renewal (Colorado)",null,null,null,null,null,null,null,{"$f":"(D89-0.3)*10*20*0.8","v":247.99999999999997},null,null,null,null,null,null,null,null,null,null,null,null,null,null,"WWT-021","UV Disinfection (under construction)",{"$f":"'2024NewCourses'!G63","v":0},{"$f":"'2024NewCourses'!J63","v":0},{"$f":"'2024NewCourses'!K63","v":0},{"$f":"'2024NewCourses'!L63","v":0},{"$f":"'2024NewCourses'!M63","v":0},{"$f":"'2024NewCourses'!N63","v":0},{"$f":"'2024NewCourses'!O63","v":0}]
["Course ID","Topic","Approval #","Max","W","WW","I","D","C",null,null,null,null,null,null,null,null,null,null,null,null,null,null,"WWT-022","Introduction to Solids Handling and 503 Regulations",{"$f":"'2024NewCourses'!G64","v":"24-06022-002"},{"$f":"'2024NewCourses'!J64","v":0.15},{"$f":"'2024NewCourses'!K64","v":0},{"$f":"'2024NewCourses'!L64","v":0.15},{"$f":"'2024NewCourses'!M64","v":0},{"$f":"'2024NewCourses'!N64","v":0},{"$f":"'2024NewCourses'!O64","v":0}]
["ALL-001",{"$f":"LOOKUP($A79,$X:$X,Y:Y)","v":"Pumps"},{"$f":"LOOKUP($A79,$X:$X,Z:Z)","v":"24-06046-002"},{"$f":"LOOKUP($A79,$X:$X,AA:AA)","v":0.2},{"$f":"LOOKUP($A79,$X:$X,AB:AB)","v":0.2},{"$f":"LOOKUP($A79,$X:$X,AC:AC)","v":0.2},{"$f":"LOOKUP($A79,$X:$X,AD:AD)","v":0.2},{"$f":"LOOKUP($A79,$X:$X,AE:AE)","v":0.2},{"$f":"LOOKUP($A79,$X:$X,AF:AF)","v":0.2},null,null,null,null,null,null,null,null,null,null,null,null,null,null,"WWT-023","Aerobic and Anaerobic Digestion",{"$f":"'2024NewCourses'!G65","v":"24-06023-001"},{"$f":"'2024NewCourses'!J65","v":0.3},{"$f":"'2024NewCourses'!K65","v":0},{"$f":"'2024NewCourses'!L65","v":0.3},{"$f":"'2024NewCourses'!M65","v":0.3},{"$f":"'2024NewCourses'!N65","v":0},{"$f":"'2024NewCourses'!O65","v":0}]
["ALL-002","Hydraulics Basics","24-05990-001",0.15,0.15,0.15,0.15,0.15,0.15,null,null,null,null,null,null,null,null,null,null,null,null,null,null,"WWT-024","Belt Filter Presses",{"$f":"'2024NewCourses'!G66","v":"24-06024-001"},{"$f":"'2024NewCourses'!J66","v":0.2},{"$f":"'2024NewCourses'!K66","v":0.2},{"$f":"'2024NewCourses'!L66","v":0.2},{"$f":"'2024NewCourses'!M66","v":0.2},{"$f":"'2024NewCourses'!N66","v":0},{"$f":"'2024NewCourses'!O66","v":0}]
["ALL-005","Corrosion Control","24-05992-001",0.25,0.25,0.25,0.25,0.25,0.25,null,null,null,null,null,null,null,null,null,null,null,null,null,null,"WWT-025","Centrifuges",{"$f":"'2024NewCourses'!G67","v":"24-06025-001"},{"$f":"'2024NewCourses'!J67","v":0.2},{"$f":"'2024NewCourses'!K67","v":0.2},{"$f":"'2024NewCourses'!L67","v":0.2},{"$f":"'2024NewCourses'!M67","v":0.2},{"$f":"'2024NewCourses'!N67","v":0},{"$f":"'2024NewCourses'!O67","v":0}]
["ALL-009","Disinfection Byproducts","24-05996-001",0.15,0.15,0.15,0.15,0.15,0,null,null,null,null,null,null,null,null,null,null,null,null,null,null,"WWT-026","Odor Control",{"$f":"'2024NewCourses'!G69","v":"24-06026-001"},{"$f":"'2024NewCourses'!J69","v":0.2},{"$f":"'2024NewCourses'!K69","v":0},{"$f":"'2024NewCourses'!L69","v":0.2},{"$f":"'2024NewCourses'!M69","v":0.2},{"$f":"'2024NewCourses'!N69","v":0},{"$f":"'2024NewCourses'!O69","v":0.2}]
["LAB-006","Laboratory - Chlorine Residual by DPD","24-07709-001",0.05,0.05,0.05,0.05,0.05,0,null,null,null,null,null,null,null,null,null,null,null,null,null,null,"WWT-027","Treatment of Metal Wastestreams",{"$f":"'2024NewCourses'!G70","v":"24-06032-001"},{"$f":"'2024NewCourses'!J70","v":0.15},{"$f":"'2024NewCourses'!K70","v":0},{"$f":"'2024NewCourses'!L70","v":0.15},{"$f":"'2024NewCourses'!M70","v":0.15},{"$f":"'2024NewCourses'!N70","v":0},{"$f":"'2024NewCourses'!O70","v":0}]
["WATER-003","Water Sources Part 2","24-06036-001",0.1,0.1,0,0.1,0.1,0,null,null,null,null,null,null,null,null,null,null,null,null,null,null,"WWT-028","Completing the Discharge Monitoring Report (under construction)",{"$f":"'2024NewCourses'!G71","v":0},{"$f":"'2024NewCourses'!J71","v":0},{"$f":"'2024NewCourses'!K71","v":0},{"$f":"'2024NewCourses'!L71","v":0},{"$f":"'2024NewCourses'!M71","v":0},{"$f":"'2024NewCourses'!N71","v":0},{"$f":"'2024NewCourses'!O71","v":0}]
["WATER-004","Drinking Water Treatment Part 1","24-06037-001",0.25,0.25,0,0,0,0,null,null,null,null,null,null,null,null,null,null,null,null,null,null,"WWT-029","How Did CDPHE Determine My Permit Limits?",{"$f":"'2024NewCourses'!G72","v":"24-06033-001"},{"$f":"'2024NewCourses'!J72","v":0.2},{"$f":"'2024NewCourses'!K72","v":0.2},{"$f":"'2024NewCourses'!L72","v":0.2},{"$f":"'2024NewCourses'!M72","v":0.2},{"$f":"'2024NewCourses'!N72","v":0},{"$f":"'2024NewCourses'!O72","v":0}]
["WATER-005","Water Treatment Part 2 (Disinfection, Water Focus)","24-06038-001",0.25,0.25,0.25,0.25,0.25,0,null,null,null,null,null,null,null,null,null,null,null,null,null,null,"WWT-030","MRT for Wastewater Treatment and Collection Systems",{"$f":"'2024NewCourses'!G73","v":"24-06840-002"},{"$f":"'2024NewCourses'!J73","v":0.2},{"$f":"'2024NewCourses'!K73","v":0},{"$f":"'2024NewCourses'!L73","v":0.2},{"$f":"'2024NewCourses'!M73","v":0.2},{"$f":"'2024NewCourses'!N73","v":0},{"$f":"'2024NewCourses'!O73","v":0.2}]
["WATER-006","Intro to Distribution Systems","24-06696-001",0.15,0.1,0.1,0.1,0.15,0.1,null,null,null,null,null,null,null,null,null,null,null,null,null,null,"WWT-031","Gravity and Dissolved Air Floatation Thickeners",{"$f":"'2024NewCourses'!G68","v":"24-10671-001"},{"$f":"'2024NewCourses'!J68","v":0.2},{"$f":"'2024NewCourses'!K68","v":0.05},{"$f":"'2024NewCourses'!L68","v":0.2},{"$f":"'2024NewCourses'!M68","v":0.2},{"$f":"'2024NewCourses'!N68","v":0.05},{"$f":"'2024NewCourses'!O68","v":0.05}]
["WATER-007","MRT Drinking Water Regulatory Course","24-06743-002",0.3,0.3,0,0,0.3,0]
["Total",null,null,{"$f":"SUM(Table39101216[Max])","v":1.8499999999999999},{"$f":"SUM(Table39101216[W])","v":1.8},{"$f":"SUM(Table39101216[WW])","v":1.1500000000000001},{"$f":"SUM(Table39101216[I])","v":1.25},{"$f":"SUM(Table39101216[D])","v":1.5999999999999999},{"$f":"SUM(Table39101216[C])","v":0.7}]
[]
["2024-09 Water B / Distribution 3 Renewal (Colorado)",null,null,null,null,null,null,null,{"$f":"(D107-0.3)*10*20*0.8","v":336}]
["Course ID","Topic","Approval #","Max","W","WW","I","D","C"]
["ALL-001",{"$f":"LOOKUP($A93,$X:$X,Y:Y)","v":"Pumps"},{"$f":"LOOKUP($A93,$X:$X,Z:Z)","v":"24-06046-002"},{"$f":"LOOKUP($A93,$X:$X,AA:AA)","v":0.2},{"$f":"LOOKUP($A93,$X:$X,AB:AB)","v":0.2},{"$f":"LOOKUP($A93,$X:$X,AC:AC)","v":0.2},{"$f":"LOOKUP($A93,$X:$X,AD:AD)","v":0.2},{"$f":"LOOKUP($A93,$X:$X,AE:AE)","v":0.2},{"$f":"LOOKUP($A93,$X:$X,AF:AF)","v":0.2}]
["ALL-002","Hydraulics Basics","24-05990-001",0.15,0.15,0.15,0.15,0.15,0.15]
["ALL-005","Corrosion Control","24-05992-001",0.25,0.25,0.25,0.25,0.25,0.25]
["ALL-006","Maintenance","24-05993-001",0.2,0.2,0.2,0.2,0.2,0.2]
["ALL-007","Electrical Fundamentals","24-05994-001",0.15,0.15,0.15,0.15,0.15,0.15]
["ALL-009","Disinfection Byproducts","24-05996-001",0.15,0.15,0.15,0.15,0.15,0]
["ALL-011","Backflow Preventers","24-08959-001",0.05,0.05,0.05,0.05,0.05,0.05]
["LAB-006","Laboratory - Chlorine Residual by DPD","24-07709-001",0.05,0.05,0.05,0.05,0.05,0]
["LAB-009","Laboratory - Jar Testing","24-07639-001",0.1,0.1,0.1,0.1,0,0]
["WATER-001","Introduction to Small Water Systems","24-06034-002",0.15,0.15,0,0,0.15,0]
["WATER-004","Drinking Water Treatment Part 1","24-06037-001",0.25,0.25,0,0,0,0]
["WATER-005","Water Treatment Part 2 (Disinfection, Water Focus)","24-06038-001",0.25,0.25,0.25,0.25,0.25,0]
["WATER-006","Intro to Distribution Systems","24-06696-001",0.15,0.1,0.1,0.1,0.15,0.1]
["WATER-007","MRT Drinking Water Regulatory Course","24-06743-002",0.3,0.3,0,0,0.3,0]
["Total",null,null,{"$f":"SUM(Table39101217[Max])","v":2.4},{"$f":"SUM(Table39101217[W])","v":2.35},{"$f":"SUM(Table39101217[WW])","v":1.6500000000000004},{"$f":"SUM(Table39101217[I])","v":1.6500000000000004},{"$f":"SUM(Table39101217[D])","v":2.0499999999999998},{"$f":"SUM(Table39101217[C])","v":1.1000000000000001}]
[]
["2024-10 Water A / Distribution 4 Renewal (Colorado)",null,null,null,null,null,null,null,{"$f":"(D129-0.3)*10*20*0.8","v":448.00000000000011}]
["Course ID","Topic","Approval #","Max","W","WW","I","D","C"]
["ALL-001",{"$f":"LOOKUP($A111,$X:$X,Y:Y)","v":"Pumps"},{"$f":"LOOKUP($A111,$X:$X,Z:Z)","v":"24-06046-002"},{"$f":"LOOKUP($A111,$X:$X,AA:AA)","v":0.2},{"$f":"LOOKUP($A111,$X:$X,AB:AB)","v":0.2},{"$f":"LOOKUP($A111,$X:$X,AC:AC)","v":0.2},{"$f":"LOOKUP($A111,$X:$X,AD:AD)","v":0.2},{"$f":"LOOKUP($A111,$X:$X,AE:AE)","v":0.2},{"$f":"LOOKUP($A111,$X:$X,AF:AF)","v":0.2}]
["ALL-002","Hydraulics Basics","24-05990-001",0.15,0.15,0.15,0.15,0.15,0.15]
["ALL-005","Corrosion Control","24-05992-001",0.25,0.25,0.25,0.25,0.25,0.25]
["ALL-006","Maintenance","24-05993-001",0.2,0.2,0.2,0.2,0.2,0.2]
["ALL-007","Electrical Fundamentals","24-05994-001",0.15,0.15,0.15,0.15,0.15,0.15]
["ALL-009","Disinfection Byproducts","24-05996-001",0.15,0.15,0.15,0.15,0.15,0]
["ALL-011","Backflow Preventers","24-08959-001",0.05,0.05,0.05,0.05,0.05,0.05]
["LAB-002","Laboratory - pH, Alkalinity, and Hardness","24-07704-001",0.2,0.2,0.2,0.2,0.05,0.05]
["LAB-006","Laboratory - Chlorine Residual by DPD","24-07709-001",0.05,0.05,0.05,0.05,0.05,0]
["LAB-009","Laboratory - Jar Testing","24-07639-001",0.1,0.1,0.1,0.1,0,0]
["SAF-001","Trenching and Shoring","24-05998-001",0.25,0,0,0,0.25,0.25]
["WATER-001","Introduction to Small Water Systems","24-06034-002",0.15,0.15,0,0,0.15,0]
["WATER-002","Water Sources Part 1","24-06035-001",0.15,0.15,0.1,0.1,0.1,0.05]
["WATER-003","Water Sources Part 2","24-06036-001",0.1,0.1,0,0.1,0.1,0]
["WATER-004","Drinking Water Treatment Part 1","24-06037-001",0.25,0.25,0,0,0,0]
["WATER-005","Water Treatment Part 2 (Disinfection, Water Focus)","24-06038-001",0.25,0.25,0.25,0.25,0.25,0]
["WATER-006","Intro to Distribution Systems","24-06696-001",0.15,0.1,0.1,0.1,0.15,0.1]
["WATER-007","MRT Drinking Water Regulatory Course","24-06743-002",0.3,0.3,0,0,0.3,0]
["Total",null,null,{"$f":"SUM(Table39101218[Max])","v":3.1},{"$f":"SUM(Table39101218[W])","v":2.8000000000000003},{"$f":"SUM(Table39101218[WW])","v":1.9500000000000004},{"$f":"SUM(Table39101218[I])","v":2.0500000000000003},{"$f":"SUM(Table39101218[D])","v":2.5500000000000003},{"$f":"SUM(Table39101218[C])","v":1.4500000000000002}]
[]
["2024-11 Small Wastewater Systems Renewal (Colorado)",null,null,null,null,null,null,null,{"$f":"(D144-0.25)*10*20*0.8","v":247.99999999999997}]
["Course ID","Topic","Approval #","Max","W","WW","I","D","C"]
["ALL-001",{"$f":"LOOKUP($A133,$X:$X,Y:Y)","v":"Pumps"},{"$f":"LOOKUP($A133,$X:$X,Z:Z)","v":"24-06046-002"},{"$f":"LOOKUP($A133,$X:$X,AA:AA)","v":0.2},{"$f":"LOOKUP($A133,$X:$X,AB:AB)","v":0.2},{"$f":"LOOKUP($A133,$X:$X,AC:AC)","v":0.2},{"$f":"LOOKUP($A133,$X:$X,AD:AD)","v":0.2},{"$f":"LOOKUP($A133,$X:$X,AE:AE)","v":0.2},{"$f":"LOOKUP($A133,$X:$X,AF:AF)","v":0.2}]
["ALL-004","Aeration Systems","24-09505-001",0.15,0.15,0.15,0.15,0.15,0.15]
["ALL-007","Electrical Fundamentals","24-05994-001",0.15,0.15,0.15,0.15,0.15,0.15]
["COL-004","Lift Stations","24-06003-001",0.2,0,0.2,0.2,0,0.2]
["LAB-004","Laboratory - Total Suspended Solids","24-06028-001",0.1,0.1,0.1,0.1,0,0]
["WWT-002","What's In My Wastewater: Definitions and Typical Ratios","24-06007-001",0.15,0,0.15,0.15,0,0.05]
["WWT-003","Preliminary Treatment","24-09381-001",0.1,0.05,0.1,0.1,0,0.05]
["WWT-004","Primary Treatment ","24-09382-001",0.2,0,0.2,0.2,0,0]
["WWT-006","Fixed Film: Trickling Filters and RBCs","24-06008-001",0.15,0,0.15,0.15,0,0]
["WWT-007A","Wastewater Treatment Lagoons","24-10618-001",0.2,0,0.2,0.2,0,0]
["WWT-030","MRT for Wastewater Treatment and Collection Systems","24-06840-002",0.2,0,0.2,0.2,0,0.2]
["Total",null,null,{"$f":"SUM(Table3910121820[Max])","v":1.7999999999999998},{"$f":"SUM(Table3910121820[W])","v":0.65},{"$f":"SUM(Table3910121820[WW])","v":1.7999999999999998},{"$f":"SUM(Table3910121820[I])","v":1.7999999999999998},{"$f":"SUM(Table3910121820[D])","v":0.5},{"$f":"SUM(Table3910121820[C])","v":1}]
[]
["2024-12 Wastewater D Renewal (Colorado)",null,null,null,null,null,null,null,{"$f":"(D155-0.25)*10*20*0.8","v":152}]
["Course ID","Topic","Approval #","Max","W","WW","I","D","C"]
["ALL-001",{"$f":"LOOKUP($A148,$X:$X,Y:Y)","v":"Pumps"},"24-06046-002",0.2,0.2,0.2,0.2,0.2,0.2]
["COL-004","Lift Stations","24-06003-001",0.2,0,0.2,0.2,0,0.2]
["WWT-002","What's In My Wastewater: Definitions and Typical Ratios","24-06007-001",0.15,0,0.15,0.15,0,0.05]
["WWT-003","Preliminary Treatment","24-09381-001",0.1,0.05,0.1,0.1,0,0.05]
["WWT-006","Fixed Film: Trickling Filters and RBCs","24-06008-001",0.15,0,0.15,0.15,0,0]
["WWT-007A","Wastewater Treatment Lagoons","24-10618-001",0.2,0,0.2,0.2,0,0]
["WWT-030","MRT for Wastewater Treatment and Collection Systems","24-06840-002",0.2,0,0.2,0.2,0,0.2]
["Total",null,null,{"$f":"SUM(Table3910121821[Max])","v":1.2},{"$f":"SUM(Table3910121821[W])","v":0.25},{"$f":"SUM(Table3910121821[WW])","v":1.2},{"$f":"SUM(Table3910121821[I])","v":1.2},{"$f":"SUM(Table3910121821[D])","v":0.2},{"$f":"SUM(Table3910121821[C])","v":0.7}]
[]
["2024-13 Wastewater C Renewal (Colorado)",null,null,null,null,null,null,null,{"$f":"(D170-0.25)*10*20*0.8","v":248}]
["Course ID","Topic","Approval #","Max","W","WW","I","D","C"]
["ALL-001",{"$f":"LOOKUP($A159,$X:$X,Y:Y)","v":"Pumps"},{"$f":"LOOKUP($A159,$X:$X,Z:Z)","v":"24-06046-002"},{"$f":"LOOKUP($A159,$X:$X,AA:AA)","v":0.2},{"$f":"LOOKUP($A159,$X:$X,AB:AB)","v":0.2},{"$f":"LOOKUP($A159,$X:$X,AC:AC)","v":0.2},{"$f":"LOOKUP($A159,$X:$X,AD:AD)","v":0.2},{"$f":"LOOKUP($A159,$X:$X,AE:AE)","v":0.2},{"$f":"LOOKUP($A159,$X:$X,AF:AF)","v":0.2}]
["COL-004","Lift Stations","24-06003-001",0.2,0,0.2,0.2,0,0.2]
["WWT-003","Preliminary Treatment","24-09381-001",0.1,0.05,0.1,0.1,0,0.05]
["WWT-006","Fixed Film: Trickling Filters and RBCs","24-06008-001",0.15,0,0.15,0.15,0,0]
["WWT-007A","Wastewater Treatment Lagoons","24-10618-001",0.2,0,0.2,0.2,0,0]
["WWT-012A","Activated Sludge Microbiology: A View Beneath the Surface","24-08900-001",0.1,0,0.1,0.1,0,0]
["WWT-012B","Activated Sludge Microbiology: Microscope Basics and the Micro Exam","24-08901-001",0.1,0.1,0.1,0.1,0.1,0]
["WWT-013","Activated Sludge Microbiology: Filaments and Settling Problems","24-08902-001",0.1,0,0.1,0.1,0,0]
["WWT-020","Chlorine Disinfection","24-06020-001",0.25,0.25,0.25,0.25,0.25,0]
["WWT-030","MRT for Wastewater Treatment and Collection Systems","24-06840-002",0.2,0,0.2,0.2,0,0.2]
["WWT-031","Gravity and Dissolved Air Floatation Thickeners","24-10671-001",0.2,0.05,0.2,0.2,0.05,0.05]
["Total",null,null,{"$f":"SUM(Table391012182123[Max])","v":1.8},{"$f":"SUM(Table391012182123[W])","v":0.65},{"$f":"SUM(Table391012182123[WW])","v":1.8},{"$f":"SUM(Table391012182123[I])","v":1.8},{"$f":"SUM(Table391012182123[D])","v":0.60000000000000009},{"$f":"SUM(Table391012182123[C])","v":0.70000000000000007}]
[]
["2024-14 Wastewater B Renewal (Colorado)",null,null,null,null,null,null,null,{"$f":"(D185-0.25)*10*20*0.8","v":352}]
["Course ID","Topic","Approval #","Max","W","WW","I","D","C"]
["COL-004",{"$f":"LOOKUP($A174,$X:$X,Y:Y)","v":"Lift Stations"},{"$f":"LOOKUP($A174,$X:$X,Z:Z)","v":"24-06003-001"},{"$f":"LOOKUP($A174,$X:$X,AA:AA)","v":0.2},{"$f":"LOOKUP($A174,$X:$X,AB:AB)","v":0},{"$f":"LOOKUP($A174,$X:$X,AC:AC)","v":0.2},{"$f":"LOOKUP($A174,$X:$X,AD:AD)","v":0.2},{"$f":"LOOKUP($A174,$X:$X,AE:AE)","v":0},{"$f":"LOOKUP($A174,$X:$X,AF:AF)","v":0.2}]
["WWT-011","Top 10 Questions for Activated Sludge Process Control","24-07727-001",0.25,0,0.25,0.25,0,0]
["WWT-016","Nitrification and Denitrification","24-06016-001",0.3,0.3,0.3,0.3,0,0]
["WWT-017","Biological and Chemical Phosphorus Removal","24-06017-001",0.2,0,0.2,0.2,0,0]
["WWT-018","State Point Analysis for Secondary Clarifiers","24-06018-001",0.15,0.15,0.15,0.15,0,0]
["WWT-020","Chlorine Disinfection","24-06020-001",0.25,0.25,0.25,0.25,0.25,0]
["WWT-023","Aerobic and Anaerobic Digestion","24-06023-001",0.3,0,0.3,0.3,0,0]
["WWT-024","Belt Filter Presses","24-06024-001",0.2,0.2,0.2,0.2,0,0]
["WWT-025","Centrifuges","24-06025-001",0.2,0.2,0.2,0.2,0,0]
["WWT-030","MRT for Wastewater Treatment and Collection Systems","24-06840-002",0.2,0,0.2,0.2,0,0.2]
["WWT-031","Gravity and Dissolved Air Floatation Thickeners","24-10671-001",0.2,0.05,0.2,0.2,0.05,0.05]
["Total",null,null,{"$f":"SUM(Table391012182125[Max])","v":2.4500000000000002},{"$f":"SUM(Table391012182125[W])","v":1.1499999999999999},{"$f":"SUM(Table391012182125[WW])","v":2.4500000000000002},{"$f":"SUM(Table391012182125[I])","v":2.4500000000000002},{"$f":"SUM(Table391012182125[D])","v":0.3},{"$f":"SUM(Table391012182125[C])","v":0.45}]
[]
["2024-15 Wastewater A Renewal (Colorado)",null,null,null,null,null,null,null,{"$f":"(D203-0.25)*10*20*0.8","v":440.00000000000011}]
["Course ID","Topic","Approval #","Max","W","WW","I","D","C"]
["ALL-004",{"$f":"LOOKUP($A189,$X:$X,Y:Y)","v":"Aeration Systems"},{"$f":"LOOKUP($A189,$X:$X,Z:Z)","v":"24-09505-001"},{"$f":"LOOKUP($A189,$X:$X,AA:AA)","v":0.15},{"$f":"LOOKUP($A189,$X:$X,AB:AB)","v":0.15},{"$f":"LOOKUP($A189,$X:$X,AC:AC)","v":0.15},{"$f":"LOOKUP($A189,$X:$X,AD:AD)","v":0.15},{"$f":"LOOKUP($A189,$X:$X,AE:AE)","v":0.15},{"$f":"LOOKUP($A189,$X:$X,AF:AF)","v":0.15}]
["COL-004","Lift Stations","24-06003-001",0.2,0,0.2,0.2,0,0.2]
["WWT-011","Top 10 Questions for Activated Sludge Process Control","24-07727-001",0.25,0,0.25,0.25,0,0]
["WWT-016","Nitrification and Denitrification","24-06016-001",0.3,0.3,0.3,0.3,0,0]
["WWT-017","Biological and Chemical Phosphorus Removal","24-06017-001",0.2,0,0.2,0.2,0,0]
["WWT-018","State Point Analysis for Secondary Clarifiers","24-06018-001",0.15,0.15,0.15,0.15,0,0]
["WWT-020","Chlorine Disinfection","24-06020-001",0.25,0.25,0.25,0.25,0.25,0]
["WWT-023","Aerobic and Anaerobic Digestion","24-06023-001",0.3,0,0.3,0.3,0,0]
["WWT-024","Belt Filter Presses","24-06024-001",0.2,0.2,0.2,0.2,0,0]
["WWT-025","Centrifuges","24-06025-001",0.2,0.2,0.2,0.2,0,0]
["WWT-026","Odor Control","24-06026-001",0.2,0,0.2,0.2,0,0.2]
["WWT-029","How Did CDPHE Determine My Permit Limits?","24-06033-001",0.2,0.2,0.2,0.2,0,0]
["WWT-030","MRT for Wastewater Treatment and Collection Systems","24-06840-002",0.2,0,0.2,0.2,0,0.2]
["WWT-031","Gravity and Dissolved Air Floatation Thickeners","24-10671-001",0.2,0.05,0.2,0.2,0.05,0.05]
["Total",null,null,{"$f":"SUM(Table391012182126[Max])","v":3.0000000000000004},{"$f":"SUM(Table391012182126[W])","v":1.5},{"$f":"SUM(Table391012182126[WW])","v":3.0000000000000004},{"$f":"SUM(Table391012182126[I])","v":3.0000000000000004},{"$f":"SUM(Table391012182126[D])","v":0.45},{"$f":"SUM(Table391012182126[C])","v":0.8}]
[]
["2024-16 Activated Sludge Bundle",null,null,null,null,null,null,null,{"$f":"(D216)*10*20*0.8","v":239.99999999999997}]
["Course ID","Topic","Approval #","Max","W","WW","I","D","C"]
["ALL-004",{"$f":"LOOKUP($A207,$X:$X,Y:Y)","v":"Aeration Systems"},{"$f":"LOOKUP($A207,$X:$X,Z:Z)","v":"24-09505-001"},{"$f":"LOOKUP($A207,$X:$X,AA:AA)","v":0.15},{"$f":"LOOKUP($A207,$X:$X,AB:AB)","v":0.15},{"$f":"LOOKUP($A207,$X:$X,AC:AC)","v":0.15},{"$f":"LOOKUP($A207,$X:$X,AD:AD)","v":0.15},{"$f":"LOOKUP($A207,$X:$X,AE:AE)","v":0.15},{"$f":"LOOKUP($A207,$X:$X,AF:AF)","v":0.15}]
["WWT-005","Biological Treatment Basics","24-07222-001",0.15,0,0.15,0.15,0,0]
["WWT-011","Top 10 Questions for Activated Sludge Process Control","24-07727-001",0.25,0,0.25,0.25,0,0]
["WWT-012A","Activated Sludge Microbiology: A View Beneath the Surface","24-08900-001",0.1,0,0.1,0.1,0,0]
["WWT-012B","Activated Sludge Microbiology: Microscope Basics and the Micro Exam","24-08901-001",0.1,0.1,0.1,0.1,0.1,0]
["WWT-013","Activated Sludge Microbiology: Filaments and Settling Problems","24-08902-001",0.1,0,0.1,0.1,0,0]
["WWT-016","Nitrification and Denitrification","24-06016-001",0.3,0.3,0.3,0.3,0,0]
["WWT-017","Biological and Chemical Phosphorus Removal","24-06017-001",0.2,0,0.2,0.2,0,0]
["WWT-018","State Point Analysis for Secondary Clarifiers","24-06018-001",0.15,0.15,0.15,0.15,0,0]
["Total",null,null,{"$f":"SUM(Table39101218212628[Max])","v":1.4999999999999998},{"$f":"SUM(Table39101218212628[W])","v":0.70000000000000007},{"$f":"SUM(Table39101218212628[WW])","v":1.4999999999999998},{"$f":"SUM(Table39101218212628[I])","v":1.4999999999999998},{"$f":"SUM(Table39101218212628[D])","v":0.25},{"$f":"SUM(Table39101218212628[C])","v":0.15}]
[]
["2024-17 Solids Handling Bundle",null,null,null,null,null,null,null,{"$f":"(D225)*10*20*0.8","v":168}]
["Course ID","Topic","Approval #","Max","W","WW","I","D","C"]
["WWT-022",{"$f":"LOOKUP($A220,$X:$X,Y:Y)","v":"Introduction to Solids Handling and 503 Regulations"},"24-06022-002",0.15,0,0.15,0,0,0]
["WWT-023","Aerobic and Anaerobic Digestion","24-06023-001",0.3,0,0.3,0.3,0,0]
["WWT-024","Belt Filter Presses","24-06024-001",0.2,0.2,0.2,0.2,0,0]
["WWT-025","Centrifuges","24-06025-001",0.2,0.2,0.2,0.2,0,0]
["WWT-031","Gravity and Dissolved Air Floatation Thickeners","24-10671-001",0.2,0.05,0.2,0.2,0.05,0.05]
["Total",null,null,{"$f":"SUM(Table3910121821262829[Max])","v":1.0499999999999998},{"$f":"SUM(Table3910121821262829[W])","v":0.45},{"$f":"SUM(Table3910121821262829[WW])","v":1.0499999999999998},{"$f":"SUM(Table3910121821262829[I])","v":0.89999999999999991},{"$f":"SUM(Table3910121821262829[D])","v":0.05},{"$f":"SUM(Table3910121821262829[C])","v":0.05}]
[]
["2024-18 Collections 1 Renewal (Colorado)",null,null,null,null,null,null,null,{"$f":"(D236-0.25)*10*20*0.8","v":160}]
["Course ID","Topic","Approval #","Max","W","WW","I","D","C"]
["ALL-001",{"$f":"LOOKUP($A229,$X:$X,Y:Y)","v":"Pumps"},"24-06046-002",0.2,0.2,0.2,0.2,0.2,0.2]
["ALL-011","Backflow Preventers","24-08959-001",0.05,0.05,0.05,0.05,0.05,0.05]
["COL-001","Introduction to Collections Systems","24-06000-002",0.15,0,0,0,0,0.15]
["COL-002","Collection System Inspection, Testing, and Cleaning - Part 1","24-06001-002",0.2,0,0,0,0,0.2]
["COL-003","Collection System Inspection, Testing, and Cleaning - Part 2","24-06002-002",0.25,0,0,0,0,0.25]
["COL-004","Lift Stations","24-06003-001",0.2,0,0.2,0.2,0,0.2]
["WWT-030","MRT for Wastewater Treatment and Collection Systems","24-06840-002",0.2,0,0.2,0.2,0,0.2]
["Total",null,null,{"$f":"SUM(Table39101218212631[Max])","v":1.25},{"$f":"SUM(Table39101218212631[W])","v":0.25},{"$f":"SUM(Table39101218212631[WW])","v":0.65},{"$f":"SUM(Table39101218212631[I])","v":0.65},{"$f":"SUM(Table39101218212631[D])","v":0.25},{"$f":"SUM(Table39101218212631[C])","v":1.25}]
[]
["2024-19 Collections 2 Renewal (Colorado)",null,null,null,null,null,null,null,{"$f":"(D251-0.25)*10*20*0.8","v":248}]
["Course ID","Topic","Approval #","Max","W","WW","I","D","C"]
["ALL-001",{"$f":"LOOKUP($A240,$X:$X,Y:Y)","v":"Pumps"},{"$f":"LOOKUP($A240,$X:$X,Z:Z)","v":"24-06046-002"},{"$f":"LOOKUP($A240,$X:$X,AA:AA)","v":0.2},{"$f":"LOOKUP($A240,$X:$X,AB:AB)","v":0.2},{"$f":"LOOKUP($A240,$X:$X,AC:AC)","v":0.2},{"$f":"LOOKUP($A240,$X:$X,AD:AD)","v":0.2},{"$f":"LOOKUP($A240,$X:$X,AE:AE)","v":0.2},{"$f":"LOOKUP($A240,$X:$X,AF:AF)","v":0.2}]
["ALL-007","Electrical Fundamentals","24-05994-001",0.15,0.15,0.15,0.15,0.15,0.15]
["ALL-011","Backflow Preventers","24-08959-001",0.05,0.05,0.05,0.05,0.05,0.05]
["COL-001","Introduction to Collections Systems","24-06000-002",0.15,0,0,0,0,0.15]
["COL-002","Collection System Inspection, Testing, and Cleaning - Part 1","24-06001-002",0.2,0,0,0,0,0.2]
["COL-003","Collection System Inspection, Testing, and Cleaning - Part 2","24-06002-002",0.25,0,0,0,0,0.25]
["COL-004","Lift Stations","24-06003-001",0.2,0,0.2,0.2,0,0.2]
["COL-006","Manholes","24-06005-001",0.1,0,0,0,0,0.1]
["SAF-001","Trenching and Shoring","24-05998-001",0.25,0,0,0,0.25,0.25]
["SAF-004","Demolition Saw Safety","24-09506-001",0.05,0,0,0,0,0]
["WWT-030","MRT for Wastewater Treatment and Collection Systems","24-06840-002",0.2,0,0.2,0.2,0,0.2]
["Total",null,null,{"$f":"SUM(Table3910121821263133[Max])","v":1.8},{"$f":"SUM(Table3910121821263133[W])","v":0.39999999999999997},{"$f":"SUM(Table3910121821263133[WW])","v":0.8},{"$f":"SUM(Table3910121821263133[I])","v":0.8},{"$f":"SUM(Table3910121821263133[D])","v":0.64999999999999991},{"$f":"SUM(Table3910121821263133[C])","v":1.75}]
[]
["2024-20 Collections 3 Renewal (Colorado)",null,null,null,null,null,null,null,{"$f":"(D269-0.25)*10*20*0.8","v":344.00000000000006}]
["Course ID","Topic","Approval #","Max","W","WW","I","D","C"]
["ALL-001",{"$f":"LOOKUP($A255,$X:$X,Y:Y)","v":"Pumps"},{"$f":"LOOKUP($A255,$X:$X,Z:Z)","v":"24-06046-002"},{"$f":"LOOKUP($A255,$X:$X,AA:AA)","v":0.2},{"$f":"LOOKUP($A255,$X:$X,AB:AB)","v":0.2},{"$f":"LOOKUP($A255,$X:$X,AC:AC)","v":0.2},{"$f":"LOOKUP($A255,$X:$X,AD:AD)","v":0.2},{"$f":"LOOKUP($A255,$X:$X,AE:AE)","v":0.2},{"$f":"LOOKUP($A255,$X:$X,AF:AF)","v":0.2}]
["ALL-002","Hydraulics Basics","24-05990-001",0.15,0.15,0.15,0.15,0.15,0.15]
["ALL-005","Corrosion Control","24-05992-001",0.25,0.25,0.25,0.25,0.25,0.25]
["ALL-007","Electrical Fundamentals","24-05994-001",0.15,0.15,0.15,0.15,0.15,0.15]
["ALL-011","Backflow Preventers","24-08959-001",0.05,0.05,0.05,0.05,0.05,0.05]
["COL-001","Introduction to Collections Systems","24-06000-002",0.15,0,0,0,0,0.15]
["COL-002","Collection System Inspection, Testing, and Cleaning - Part 1","24-06001-002",0.2,0,0,0,0,0.2]
["COL-003","Collection System Inspection, Testing, and Cleaning - Part 2","24-06002-002",0.25,0,0,0,0,0.25]
["COL-004","Lift Stations","24-06003-001",0.2,0,0.2,0.2,0,0.2]
["COL-006","Manholes","24-06005-001",0.1,0,0,0,0,0.1]
["SAF-001","Trenching and Shoring","24-05998-001",0.25,0,0,0,0.25,0.25]
["SAF-004","Demolition Saw Safety","24-09506-001",0.05,0,0,0,0,0]
["WWT-026","Odor Control","24-06026-001",0.2,0,0.2,0.2,0,0.2]
["WWT-030","MRT for Wastewater Treatment and Collection Systems","24-06840-002",0.2,0,0.2,0.2,0,0.2]
["Total",null,null,{"$f":"SUM(Table391012182126313334[Max])","v":2.4000000000000004},{"$f":"SUM(Table391012182126313334[W])","v":0.8},{"$f":"SUM(Table391012182126313334[WW])","v":1.4},{"$f":"SUM(Table391012182126313334[I])","v":1.4},{"$f":"SUM(Table391012182126313334[D])","v":1.05},{"$f":"SUM(Table391012182126313334[C])","v":2.3500000000000005}]
[]
["2024-21 Collections 4 Renewal (Colorado)",null,null,null,null,null,null,null,{"$f":"(D290-0.25)*10*20*0.8","v":440}]
["Course ID","Topic","Approval #","Max","W","WW","I","D","C"]
["ALL-001",{"$f":"LOOKUP($A273,$X:$X,Y:Y)","v":"Pumps"},{"$f":"LOOKUP($A273,$X:$X,Z:Z)","v":"24-06046-002"},{"$f":"LOOKUP($A273,$X:$X,AA:AA)","v":0.2},{"$f":"LOOKUP($A273,$X:$X,AB:AB)","v":0.2},{"$f":"LOOKUP($A273,$X:$X,AC:AC)","v":0.2},{"$f":"LOOKUP($A273,$X:$X,AD:AD)","v":0.2},{"$f":"LOOKUP($A273,$X:$X,AE:AE)","v":0.2},{"$f":"LOOKUP($A273,$X:$X,AF:AF)","v":0.2}]
["ALL-002","Hydraulics Basics","24-05990-001",0.15,0.15,0.15,0.15,0.15,0.15]
["ALL-005","Corrosion Control","24-05992-001",0.25,0.25,0.25,0.25,0.25,0.25]
["ALL-006","Maintenance","24-05993-001",0.2,0.2,0.2,0.2,0.2,0.2]
["ALL-007","Electrical Fundamentals","24-05994-001",0.15,0.15,0.15,0.15,0.15,0.15]
["ALL-011","Backflow Preventers","24-08959-001",0.05,0.05,0.05,0.05,0.05,0.05]
["COL-001","Introduction to Collections Systems","24-06000-002",0.15,0,0,0,0,0.15]
["COL-002","Collection System Inspection, Testing, and Cleaning - Part 1","24-06001-002",0.2,0,0,0,0,0.2]
["COL-003","Collection System Inspection, Testing, and Cleaning - Part 2","24-06002-002",0.25,0,0,0,0,0.25]
["COL-004","Lift Stations","24-06003-001",0.2,0,0.2,0.2,0,0.2]
["COL-005","Pretreatment and Pollution Prevention","24-06004-001",0.3,0.3,0.3,0.3,0,0.3]
["COL-006","Manholes","24-06005-001",0.1,0,0,0,0,0.1]
["SAF-001","Trenching and Shoring","24-05998-001",0.25,0,0,0,0.25,0.25]
["SAF-004","Demolition Saw Safety","24-09506-001",0.05,0,0,0,0,0]
["WWT-003","Preliminary Treatment","24-09381-001",0.1,0.05,0.1,0.1,0,0.05]
["WWT-026","Odor Control","24-06026-001",0.2,0,0.2,0.2,0,0.2]
["WWT-030","MRT for Wastewater Treatment and Collection Systems","24-06840-002",0.2,0,0.2,0.2,0,0.2]
["Total",null,null,{"$f":"SUM(Table391012182126313335[Max])","v":3},{"$f":"SUM(Table391012182126313335[W])","v":1.35},{"$f":"SUM(Table391012182126313335[WW])","v":2},{"$f":"SUM(Table391012182126313335[I])","v":2},{"$f":"SUM(Table391012182126313335[D])","v":1.25},{"$f":"SUM(Table391012182126313335[C])","v":2.9}]
[]
["2024-22 Joint Renewal Wastewater D and Drinking Water D (Colorado)",null,null,null,null,null,null,null,{"$f":"(D301-0.5)*10*20*0.8","v":127.99999999999999}]
["Course ID","Topic","Approval #","Max","W","WW","I","D","C"]
["COL-004",{"$f":"LOOKUP($A294,$X:$X,Y:Y)","v":"Lift Stations"},"24-06003-001",0.2,0,0.2,0.2,0,0.2]
["LAB-006","Laboratory - Chlorine Residual by DPD","24-07709-001",0.05,0.05,0.05,0.05,0.05,0]
["WATER-003","Water Sources Part 2","24-06036-001",0.1,0.1,0,0.1,0.1,0]
["WATER-004","Drinking Water Treatment Part 1","24-06037-001",0.25,0.25,0,0,0,0]
["WATER-007","MRT Drinking Water Regulatory Course","24-06743-002",0.3,0.3,0,0,0.3,0]
["WWT-007A","Wastewater Treatment Lagoons","24-10618-001",0.2,0,0.2,0.2,0,0]
["WWT-030","MRT for Wastewater Treatment and Collection Systems","24-06840-002",0.2,0,0.2,0.2,0,0.2]
["Total",null,null,{"$f":"SUM(Table39101218212631333536[Max])","v":1.2999999999999998},{"$f":"SUM(Table39101218212631333536[W])","v":0.7},{"$f":"SUM(Table39101218212631333536[WW])","v":0.65},{"$f":"SUM(Table39101218212631333536[I])","v":0.75},{"$f":"SUM(Table39101218212631333536[D])","v":0.45},{"$f":"SUM(Table39101218212631333536[C])","v":0.4}]
[]
["2024-23 Joint Renewal Wastewater C and Drinking Water C or S (Colorado)",null,null,null,null,null,null,null,{"$f":"(D315-0.5)*10*20*0.8","v":215.99999999999997}]
["Course ID","Topic","Approval #","Max","W","WW","I","D","C"]
["ALL-001",{"$f":"LOOKUP($A305,$X:$X,Y:Y)","v":"Pumps"},{"$f":"LOOKUP($A305,$X:$X,Z:Z)","v":"24-06046-002"},{"$f":"LOOKUP($A305,$X:$X,AA:AA)","v":0.2},{"$f":"LOOKUP($A305,$X:$X,AB:AB)","v":0.2},{"$f":"LOOKUP($A305,$X:$X,AC:AC)","v":0.2},{"$f":"LOOKUP($A305,$X:$X,AD:AD)","v":0.2},{"$f":"LOOKUP($A305,$X:$X,AE:AE)","v":0.2},{"$f":"LOOKUP($A305,$X:$X,AF:AF)","v":0.2}]
["COL-004","Lift Stations","24-06003-001",0.2,0,0.2,0.2,0,0.2]
["LAB-006","Laboratory - Chlorine Residual by DPD","24-07709-001",0.05,0.05,0.05,0.05,0.05,0]
["WATER-002","Water Sources Part 1","24-06035-001",0.15,0.15,0.1,0.1,0.1,0.05]
["WATER-003","Water Sources Part 2","24-06036-001",0.1,0.1,0,0.1,0.1,0]
["WATER-004","Drinking Water Treatment Part 1","24-06037-001",0.25,0.25,0,0,0,0]
["WATER-005","Water Treatment Part 2 (Disinfection, Water Focus)","24-06038-001",0.25,0.25,0.25,0.25,0.25,0]
["WATER-007","MRT Drinking Water Regulatory Course","24-06743-002",0.3,0.3,0,0,0.3,0]
["WWT-006","Fixed Film: Trickling Filters and RBCs","24-06008-001",0.15,0,0.15,0.15,0,0]
["WWT-030","MRT for Wastewater Treatment and Collection Systems","24-06840-002",0.2,0,0.2,0.2,0,0.2]
["Total",null,null,{"$f":"SUM(Table3910121821263133353638[Max])","v":1.8499999999999999},{"$f":"SUM(Table3910121821263133353638[W])","v":1.3},{"$f":"SUM(Table3910121821263133353638[WW])","v":1.1500000000000001},{"$f":"SUM(Table3910121821263133353638[I])","v":1.25},{"$f":"SUM(Table3910121821263133353638[D])","v":1},{"$f":"SUM(Table3910121821263133353638[C])","v":0.65}]
[]
["2024-24 Joint Renewal Wastewater B and Drinking Water B (Colorado)",null,null,null,null,null,null,null,{"$f":"(D334-0.5)*10*20*0.8","v":312}]
["Course ID","Topic","Approval #","Max","W","WW","I","D","C"]
["ALL-001",{"$f":"LOOKUP($A319,$X:$X,Y:Y)","v":"Pumps"},{"$f":"LOOKUP($A319,$X:$X,Z:Z)","v":"24-06046-002"},{"$f":"LOOKUP($A319,$X:$X,AA:AA)","v":0.2},{"$f":"LOOKUP($A319,$X:$X,AB:AB)","v":0.2},{"$f":"LOOKUP($A319,$X:$X,AC:AC)","v":0.2},{"$f":"LOOKUP($A319,$X:$X,AD:AD)","v":0.2},{"$f":"LOOKUP($A319,$X:$X,AE:AE)","v":0.2},{"$f":"LOOKUP($A319,$X:$X,AF:AF)","v":0.2}]
["ALL-011","Backflow Preventers","24-08959-001",0.05,0.05,0.05,0.05,0.05,0.05]
["COL-004","Lift Stations","24-06003-001",0.2,0,0.2,0.2,0,0.2]
["LAB-006","Laboratory - Chlorine Residual by DPD","24-07709-001",0.05,0.05,0.05,0.05,0.05,0]
["WATER-002","Water Sources Part 1","24-06035-001",0.15,0.15,0.1,0.1,0.1,0.05]
["WATER-003","Water Sources Part 2","24-06036-001",0.1,0.1,0,0.1,0.1,0]
["WATER-004","Drinking Water Treatment Part 1","24-06037-001",0.25,0.25,0,0,0,0]
["WATER-005","Water Treatment Part 2 (Disinfection, Water Focus)","24-06038-001",0.25,0.25,0.25,0.25,0.25,0]
["WATER-007","MRT Drinking Water Regulatory Course","24-06743-002",0.3,0.3,0,0,0.3,0]
["WWT-006","Fixed Film: Trickling Filters and RBCs","24-06008-001",0.15,0,0.15,0.15,0,0]
["WWT-011","Top 10 Questions for Activated Sludge Process Control","24-07727-001",0.25,0,0.25,0.25,0,0]
["WWT-012A","Activated Sludge Microbiology: A View Beneath the Surface","24-08900-001",0.1,0,0.1,0.1,0,0]
["WWT-012B","Activated Sludge Microbiology: Microscope Basics and the Micro Exam","24-08901-001",0.1,0.1,0.1,0.1,0.1,0]
["WWT-013","Activated Sludge Microbiology: Filaments and Settling Problems","24-08902-001",0.1,0,0.1,0.1,0,0]
["WWT-030","MRT for Wastewater Treatment and Collection Systems","24-06840-002",0.2,0,0.2,0.2,0,0.2]
["Total",null,null,{"$f":"SUM(Table3910121821263133353639[Max])","v":2.4500000000000002},{"$f":"SUM(Table3910121821263133353639[W])","v":1.45},{"$f":"SUM(Table3910121821263133353639[WW])","v":1.7500000000000002},{"$f":"SUM(Table3910121821263133353639[I])","v":1.85},{"$f":"SUM(Table3910121821263133353639[D])","v":1.1500000000000001},{"$f":"SUM(Table3910121821263133353639[C])","v":0.7}]
[]
["2024-25 Joint Renewal Wastewater A and Drinking Water A (Colorado)",null,null,null,null,null,null,null,{"$f":"(D356-0.5)*10*20*0.8","v":400.00000000000011}]
["Course ID","Topic","Approval #","Max","W","WW","I","D","C"]
["ALL-001",{"$f":"LOOKUP($A338,$X:$X,Y:Y)","v":"Pumps"},{"$f":"LOOKUP($A338,$X:$X,Z:Z)","v":"24-06046-002"},{"$f":"LOOKUP($A338,$X:$X,AA:AA)","v":0.2},{"$f":"LOOKUP($A338,$X:$X,AB:AB)","v":0.2},{"$f":"LOOKUP($A338,$X:$X,AC:AC)","v":0.2},{"$f":"LOOKUP($A338,$X:$X,AD:AD)","v":0.2},{"$f":"LOOKUP($A338,$X:$X,AE:AE)","v":0.2},{"$f":"LOOKUP($A338,$X:$X,AF:AF)","v":0.2}]
["ALL-006","Maintenance","24-05993-001",0.2,0.2,0.2,0.2,0.2,0.2]
["ALL-009","Disinfection Byproducts","24-05996-001",0.15,0.15,0.15,0.15,0.15,0]
["ALL-011","Backflow Preventers","24-08959-001",0.05,0.05,0.05,0.05,0.05,0.05]
["COL-004","Lift Stations","24-06003-001",0.2,0,0.2,0.2,0,0.2]
["LAB-006","Laboratory - Chlorine Residual by DPD","24-07709-001",0.05,0.05,0.05,0.05,0.05,0]
["WATER-002","Water Sources Part 1","24-06035-001",0.15,0.15,0.1,0.1,0.1,0.05]
["WATER-003","Water Sources Part 2","24-06036-001",0.1,0.1,0,0.1,0.1,0]
["WATER-004","Drinking Water Treatment Part 1","24-06037-001",0.25,0.25,0,0,0,0]
["WATER-005","Water Treatment Part 2 (Disinfection, Water Focus)","24-06038-001",0.25,0.25,0.25,0.25,0.25,0]
["WATER-007","MRT Drinking Water Regulatory Course","24-06743-002",0.3,0.3,0,0,0.3,0]
["WWT-006","Fixed Film: Trickling Filters and RBCs","24-06008-001",0.15,0,0.15,0.15,0,0]
["WWT-007A","Wastewater Treatment Lagoons","24-10618-001",0.2,0,0.2,0.2,0,0]
["WWT-011","Top 10 Questions for Activated Sludge Process Control","24-07727-001",0.25,0,0.25,0.25,0,0]
["WWT-012A","Activated Sludge Microbiology: A View Beneath the Surface","24-08900-001",0.1,0,0.1,0.1,0,0]
["WWT-012B","Activated Sludge Microbiology: Microscope Basics and the Micro Exam","24-08901-001",0.1,0.1,0.1,0.1,0.1,0]
["WWT-013","Activated Sludge Microbiology: Filaments and Settling Problems","24-08902-001",0.1,0,0.1,0.1,0,0]
["WWT-030","MRT for Wastewater Treatment and Collection Systems","24-06840-002",0.2,0,0.2,0.2,0,0.2]
["Total",null,null,{"$f":"SUM(Table3910121821263133353641[Max])","v":3.0000000000000009},{"$f":"SUM(Table3910121821263133353641[W])","v":1.8000000000000003},{"$f":"SUM(Table3910121821263133353641[WW])","v":2.3000000000000003},{"$f":"SUM(Table3910121821263133353641[I])","v":2.4000000000000004},{"$f":"SUM(Table3910121821263133353641[D])","v":1.5000000000000002},{"$f":"SUM(Table3910121821263133353641[C])","v":0.90000000000000013}]
[]
["2024-26 Joint Renewal Collections 1 and Distribution 1 (Colorado)",null,null,null,null,null,null,null,{"$f":"(D366-0.5)*10*20*0.8","v":120}]
["Course ID","Topic","Approval #","Max","W","WW","I","D","C"]
["ALL-001",{"$f":"LOOKUP($A360,$X:$X,Y:Y)","v":"Pumps"},"24-06046-002",0.2,0.2,0.2,0.2,0.2,0.2]
["COL-001","Introduction to Collections Systems","24-06000-002",0.15,0,0,0,0,0.15]
["WATER-005","Water Treatment Part 2 (Disinfection, Water Focus)","24-06038-001",0.25,0.25,0.25,0.25,0.25,0]
["WATER-006","Intro to Distribution Systems","24-06696-001",0.15,0.1,0.1,0.1,0.15,0.1]
["WATER-007","MRT Drinking Water Regulatory Course","24-06743-002",0.3,0.3,0,0,0.3,0]
["WWT-030","MRT for Wastewater Treatment and Collection Systems","24-06840-002",0.2,0,0.2,0.2,0,0.2]
["Total",null,null,{"$f":"SUM(Table391012182126313335364142[Max])","v":1.25},{"$f":"SUM(Table391012182126313335364142[W])","v":0.85000000000000009},{"$f":"SUM(Table391012182126313335364142[WW])","v":0.75},{"$f":"SUM(Table391012182126313335364142[I])","v":0.75},{"$f":"SUM(Table391012182126313335364142[D])","v":0.89999999999999991},{"$f":"SUM(Table391012182126313335364142[C])","v":0.64999999999999991}]
[]
["2024-27 Joint Renewal Collections 2 and Distribution 2 (Colorado)",null,null,null,null,null,null,null,{"$f":"(D379-0.5)*10*20*0.8","v":216}]
["Course ID","Topic","Approval #","Max","W","WW","I","D","C"]
["ALL-001",{"$f":"LOOKUP($A370,$X:$X,Y:Y)","v":"Pumps"},{"$f":"LOOKUP($A370,$X:$X,Z:Z)","v":"24-06046-002"},{"$f":"LOOKUP($A370,$X:$X,AA:AA)","v":0.2},{"$f":"LOOKUP($A370,$X:$X,AB:AB)","v":0.2},{"$f":"LOOKUP($A370,$X:$X,AC:AC)","v":0.2},{"$f":"LOOKUP($A370,$X:$X,AD:AD)","v":0.2},{"$f":"LOOKUP($A370,$X:$X,AE:AE)","v":0.2},{"$f":"LOOKUP($A370,$X:$X,AF:AF)","v":0.2}]
["COL-002","Collection System Inspection, Testing, and Cleaning - Part 1","24-06001-002",0.2,0,0,0,0,0.2]
["COL-003","Collection System Inspection, Testing, and Cleaning - Part 2","24-06002-002",0.25,0,0,0,0,0.25]
["COL-004","Lift Stations","24-06003-001",0.2,0,0.2,0.2,0,0.2]
["WATER-003","Water Sources Part 2","24-06036-001",0.1,0.1,0,0.1,0.1,0]
["WATER-005","Water Treatment Part 2 (Disinfection, Water Focus)","24-06038-001",0.25,0.25,0.25,0.25,0.25,0]
["WATER-006","Intro to Distribution Systems","24-06696-001",0.15,0.1,0.1,0.1,0.15,0.1]
["WATER-007","MRT Drinking Water Regulatory Course","24-06743-002",0.3,0.3,0,0,0.3,0]
["WWT-030","MRT for Wastewater Treatment and Collection Systems","24-06840-002",0.2,0,0.2,0.2,0,0.2]
["Total",null,null,{"$f":"SUM(Table39101218212631333536414243[Max])","v":1.85},{"$f":"SUM(Table39101218212631333536414243[W])","v":0.95},{"$f":"SUM(Table39101218212631333536414243[WW])","v":0.95},{"$f":"SUM(Table39101218212631333536414243[I])","v":1.05},{"$f":"SUM(Table39101218212631333536414243[D])","v":1},{"$f":"SUM(Table39101218212631333536414243[C])","v":1.1500000000000001}]
[]
["2024-28 Joint Renewal Collections 3 and Distribution 3 (Colorado)",null,null,null,null,null,null,null,{"$f":"(D395-0.5)*10*20*0.8","v":304.00000000000006}]
["Course ID","Topic","Approval #","Max","W","WW","I","D","C"]
["ALL-001",{"$f":"LOOKUP($A383,$X:$X,Y:Y)","v":"Pumps"},{"$f":"LOOKUP($A383,$X:$X,Z:Z)","v":"24-06046-002"},{"$f":"LOOKUP($A383,$X:$X,AA:AA)","v":0.2},{"$f":"LOOKUP($A383,$X:$X,AB:AB)","v":0.2},{"$f":"LOOKUP($A383,$X:$X,AC:AC)","v":0.2},{"$f":"LOOKUP($A383,$X:$X,AD:AD)","v":0.2},{"$f":"LOOKUP($A383,$X:$X,AE:AE)","v":0.2},{"$f":"LOOKUP($A383,$X:$X,AF:AF)","v":0.2}]
["ALL-005","Corrosion Control","24-05992-001",0.25,0.25,0.25,0.25,0.25,0.25]
["COL-001","Introduction to Collections Systems","24-06000-002",0.15,0,0,0,0,0.15]
["COL-004","Lift Stations","24-06003-001",0.2,0,0.2,0.2,0,0.2]
["COL-005","Pretreatment and Pollution Prevention","24-06004-001",0.3,0.3,0.3,0.3,0,0.3]
["SAF-001","Trenching and Shoring","24-05998-001",0.25,0,0,0,0.25,0.25]
["SAF-004","Demolition Saw Safety","24-09506-001",0.05,0,0,0,0,0]
["WATER-003","Water Sources Part 2","24-06036-001",0.1,0.1,0,0.1,0.1,0]
["WATER-005","Water Treatment Part 2 (Disinfection, Water Focus)","24-06038-001",0.25,0.25,0.25,0.25,0.25,0]
["WATER-006","Intro to Distribution Systems","24-06696-001",0.15,0.1,0.1,0.1,0.15,0.1]
["WATER-007","MRT Drinking Water Regulatory Course","24-06743-002",0.3,0.3,0,0,0.3,0]
["WWT-030","MRT for Wastewater Treatment and Collection Systems","24-06840-002",0.2,0,0.2,0.2,0,0.2]
["Total",null,null,{"$f":"SUM(Table39101218212631333536414245[Max])","v":2.4000000000000004},{"$f":"SUM(Table39101218212631333536414245[W])","v":1.5000000000000002},{"$f":"SUM(Table39101218212631333536414245[WW])","v":1.5},{"$f":"SUM(Table39101218212631333536414245[I])","v":1.6},{"$f":"SUM(Table39101218212631333536414245[D])","v":1.4999999999999998},{"$f":"SUM(Table39101218212631333536414245[C])","v":1.6500000000000001}]
[]
["2024-29 Joint Renewal Collections 4 and Distribution 4 (Colorado)",null,null,null,null,null,null,null,{"$f":"(D415-0.5)*10*20*0.8","v":415.99999999999994}]
["Course ID","Topic","Approval #","Max","W","WW","I","D","C"]
["ALL-001",{"$f":"LOOKUP($A399,$X:$X,Y:Y)","v":"Pumps"},{"$f":"LOOKUP($A399,$X:$X,Z:Z)","v":"24-06046-002"},{"$f":"LOOKUP($A399,$X:$X,AA:AA)","v":0.2},{"$f":"LOOKUP($A399,$X:$X,AB:AB)","v":0.2},{"$f":"LOOKUP($A399,$X:$X,AC:AC)","v":0.2},{"$f":"LOOKUP($A399,$X:$X,AD:AD)","v":0.2},{"$f":"LOOKUP($A399,$X:$X,AE:AE)","v":0.2},{"$f":"LOOKUP($A399,$X:$X,AF:AF)","v":0.2}]
["ALL-002","Hydraulics Basics","24-05990-001",0.15,0.15,0.15,0.15,0.15,0.15]
["ALL-005","Corrosion Control","24-05992-001",0.25,0.25,0.25,0.25,0.25,0.25]
["COL-001","Introduction to Collections Systems","24-06000-002",0.15,0,0,0,0,0.15]
["COL-002","Collection System Inspection, Testing, and Cleaning - Part 1","24-06001-002",0.2,0,0,0,0,0.2]
["COL-003","Collection System Inspection, Testing, and Cleaning - Part 2","24-06002-002",0.25,0,0,0,0,0.25]
["COL-004","Lift Stations","24-06003-001",0.2,0,0.2,0.2,0,0.2]
["COL-005","Pretreatment and Pollution Prevention","24-06004-001",0.3,0.3,0.3,0.3,0,0.3]
["COL-006","Manholes","24-06005-001",0.1,0,0,0,0,0.1]
["SAF-001","Trenching and Shoring","24-05998-001",0.25,0,0,0,0.25,0.25]
["SAF-004","Demolition Saw Safety","24-09506-001",0.05,0,0,0,0,0]
["WATER-003","Water Sources Part 2","24-06036-001",0.1,0.1,0,0.1,0.1,0]
["WATER-005","Water Treatment Part 2 (Disinfection, Water Focus)","24-06038-001",0.25,0.25,0.25,0.25,0.25,0]
["WATER-006","Intro to Distribution Systems","24-06696-001",0.15,0.1,0.1,0.1,0.15,0.1]
["WATER-007","MRT Drinking Water Regulatory Course","24-06743-002",0.3,0.3,0,0,0.3,0]
["WWT-030","MRT for Wastewater Treatment and Collection Systems","24-06840-002",0.2,0,0.2,0.2,0,0.2]
["Total",null,null,{"$f":"SUM(Table39101218212631333536414246[Max])","v":3.0999999999999996},{"$f":"SUM(Table39101218212631333536414246[W])","v":1.6500000000000001},{"$f":"SUM(Table39101218212631333536414246[WW])","v":1.6500000000000001},{"$f":"SUM(Table39101218212631333536414246[I])","v":1.7500000000000002},{"$f":"SUM(Table39101218212631333536414246[D])","v":1.65},{"$f":"SUM(Table39101218212631333536414246[C])","v":2.35}]

{"sheet":"Wastewater Short School","index":3,"n_rows":43,"n_cols":10,"rows_kept":43,"cut":false,"hidden":false,"merged":[[39,0,39,8]]}
["On-Line Wastewater Short School"]
[]
["Indigo ID Number","Topic","Existing Approval No.","Portal Topic Used for TUs Calculation","Max TUs","W","WW","I","D","C"]
["ALL-001",{"$f":"LOOKUP($A4,'Learning Paths'!$X:$X,'Learning Paths'!Y:Y)","v":"Pumps"},{"$f":"LOOKUP($A4,'Learning Paths'!$X:$X,'Learning Paths'!Z:Z)","v":"24-06046-002"},{"$f":"LOOKUP($A4,'Learning Paths'!$X:$X,'Learning Paths'!AA:AA)","v":0.2},{"$f":"LOOKUP($A4,'Learning Paths'!$X:$X,'Learning Paths'!AA:AA)","v":0.2},{"$f":"LOOKUP($A4,'Learning Paths'!$X:$X,'Learning Paths'!AB:AB)","v":0.2},{"$f":"LOOKUP($A4,'Learning Paths'!$X:$X,'Learning Paths'!AC:AC)","v":0.2},{"$f":"LOOKUP($A4,'Learning Paths'!$X:$X,'Learning Paths'!AD:AD)","v":0.2},{"$f":"LOOKUP($A4,'Learning Paths'!$X:$X,'Learning Paths'!AE:AE)","v":0.2},{"$f":"LOOKUP($A4,'Learning Paths'!$X:$X,'Learning Paths'!AF:AF)","v":0.2}]
["ALL-002",{"$f":"LOOKUP($A5,'Learning Paths'!$X:$X,'Learning Paths'!Y:Y)","v":"Hydraulics Basics"},{"$f":"LOOKUP($A5,'Learning Paths'!$X:$X,'Learning Paths'!Z:Z)","v":"24-05990-001"},{"$f":"LOOKUP($A5,'Learning Paths'!$X:$X,'Learning Paths'!AA:AA)","v":0.15},{"$f":"LOOKUP($A5,'Learning Paths'!$X:$X,'Learning Paths'!AA:AA)","v":0.15},{"$f":"LOOKUP($A5,'Learning Paths'!$X:$X,'Learning Paths'!AB:AB)","v":0.15},{"$f":"LOOKUP($A5,'Learning Paths'!$X:$X,'Learning Paths'!AC:AC)","v":0.15},{"$f":"LOOKUP($A5,'Learning Paths'!$X:$X,'Learning Paths'!AD:AD)","v":0.15},{"$f":"LOOKUP($A5,'Learning Paths'!$X:$X,'Learning Paths'!AE:AE)","v":0.15},{"$f":"LOOKUP($A5,'Learning Paths'!$X:$X,'Learning Paths'!AF:AF)","v":0.15}]
["ALL-004",{"$f":"LOOKUP($A6,'Learning Paths'!$X:$X,'Learning Paths'!Y:Y)","v":"Aeration Systems"},{"$f":"LOOKUP($A6,'Learning Paths'!$X:$X,'Learning Paths'!Z:Z)","v":"24-09505-001"},{"$f":"LOOKUP($A6,'Learning Paths'!$X:$X,'Learning Paths'!AA:AA)","v":0.15},{"$f":"LOOKUP($A6,'Learning Paths'!$X:$X,'Learning Paths'!AA:AA)","v":0.15},{"$f":"LOOKUP($A6,'Learning Paths'!$X:$X,'Learning Paths'!AB:AB)","v":0.15},{"$f":"LOOKUP($A6,'Learning Paths'!$X:$X,'Learning Paths'!AC:AC)","v":0.15},{"$f":"LOOKUP($A6,'Learning Paths'!$X:$X,'Learning Paths'!AD:AD)","v":0.15},{"$f":"LOOKUP($A6,'Learning Paths'!$X:$X,'Learning Paths'!AE:AE)","v":0.15},{"$f":"LOOKUP($A6,'Learning Paths'!$X:$X,'Learning Paths'!AF:AF)","v":0.15}]
["ALL-007",{"$f":"LOOKUP($A7,'Learning Paths'!$X:$X,'Learning Paths'!Y:Y)","v":"Electrical Fundamentals"},{"$f":"LOOKUP($A7,'Learning Paths'!$X:$X,'Learning Paths'!Z:Z)","v":"24-05994-001"},{"$f":"LOOKUP($A7,'Learning Paths'!$X:$X,'Learning Paths'!AA:AA)","v":0.15},{"$f":"LOOKUP($A7,'Learning Paths'!$X:$X,'Learning Paths'!AA:AA)","v":0.15},{"$f":"LOOKUP($A7,'Learning Paths'!$X:$X,'Learning Paths'!AB:AB)","v":0.15},{"$f":"LOOKUP($A7,'Learning Paths'!$X:$X,'Learning Paths'!AC:AC)","v":0.15},{"$f":"LOOKUP($A7,'Learning Paths'!$X:$X,'Learning Paths'!AD:AD)","v":0.15},{"$f":"LOOKUP($A7,'Learning Paths'!$X:$X,'Learning Paths'!AE:AE)","v":0.15},{"$f":"LOOKUP($A7,'Learning Paths'!$X:$X,'Learning Paths'!AF:AF)","v":0.15}]
["ALL-008",{"$f":"LOOKUP($A8,'Learning Paths'!$X:$X,'Learning Paths'!Y:Y)","v":"Representative Sampling"},{"$f":"LOOKUP($A8,'Learning Paths'!$X:$X,'Learning Paths'!Z:Z)","v":"24-05995-002"},{"$f":"LOOKUP($A8,'Learning Paths'!$X:$X,'Learning Paths'!AA:AA)","v":0.15},{"$f":"LOOKUP($A8,'Learning Paths'!$X:$X,'Learning Paths'!AA:AA)","v":0.15},{"$f":"LOOKUP($A8,'Learning Paths'!$X:$X,'Learning Paths'!AB:AB)","v":0.15},{"$f":"LOOKUP($A8,'Learning Paths'!$X:$X,'Learning Paths'!AC:AC)","v":0.15},{"$f":"LOOKUP($A8,'Learning Paths'!$X:$X,'Learning Paths'!AD:AD)","v":0.15},{"$f":"LOOKUP($A8,'Learning Paths'!$X:$X,'Learning Paths'!AE:AE)","v":0.15},{"$f":"LOOKUP($A8,'Learning Paths'!$X:$X,'Learning Paths'!AF:AF)","v":0}]
["ALL-011",{"$f":"LOOKUP($A9,'Learning Paths'!$X:$X,'Learning Paths'!Y:Y)","v":"Backflow Preventers"},{"$f":"LOOKUP($A9,'Learning Paths'!$X:$X,'Learning Paths'!Z:Z)","v":"24-08959-001"},{"$f":"LOOKUP($A9,'Learning Paths'!$X:$X,'Learning Paths'!AA:AA)","v":0.05},{"$f":"LOOKUP($A9,'Learning Paths'!$X:$X,'Learning Paths'!AA:AA)","v":0.05},{"$f":"LOOKUP($A9,'Learning Paths'!$X:$X,'Learning Paths'!AB:AB)","v":0.05},{"$f":"LOOKUP($A9,'Learning Paths'!$X:$X,'Learning Paths'!AC:AC)","v":0.05},{"$f":"LOOKUP($A9,'Learning Paths'!$X:$X,'Learning Paths'!AD:AD)","v":0.05},{"$f":"LOOKUP($A9,'Learning Paths'!$X:$X,'Learning Paths'!AE:AE)","v":0.05},{"$f":"LOOKUP($A9,'Learning Paths'!$X:$X,'Learning Paths'!AF:AF)","v":0.05}]
["COL-004",{"$f":"LOOKUP($A10,'Learning Paths'!$X:$X,'Learning Paths'!Y:Y)","v":"Lift Stations"},{"$f":"LOOKUP($A10,'Learning Paths'!$X:$X,'Learning Paths'!Z:Z)","v":"24-06003-001"},{"$f":"LOOKUP($A10,'Learning Paths'!$X:$X,'Learning Paths'!AA:AA)","v":0.2},{"$f":"LOOKUP($A10,'Learning Paths'!$X:$X,'Learning Paths'!AA:AA)","v":0.2},{"$f":"LOOKUP($A10,'Learning Paths'!$X:$X,'Learning Paths'!AB:AB)","v":0},{"$f":"LOOKUP($A10,'Learning Paths'!$X:$X,'Learning Paths'!AC:AC)","v":0.2},{"$f":"LOOKUP($A10,'Learning Paths'!$X:$X,'Learning Paths'!AD:AD)","v":0.2},{"$f":"LOOKUP($A10,'Learning Paths'!$X:$X,'Learning Paths'!AE:AE)","v":0},{"$f":"LOOKUP($A10,'Learning Paths'!$X:$X,'Learning Paths'!AF:AF)","v":0.2}]
["LAB-004",{"$f":"LOOKUP($A11,'Learning Paths'!$X:$X,'Learning Paths'!Y:Y)","v":"Laboratory - Total Suspended Solids"},{"$f":"LOOKUP($A11,'Learning Paths'!$X:$X,'Learning Paths'!Z:Z)","v":"24-06028-001"},{"$f":"LOOKUP($A11,'Learning Paths'!$X:$X,'Learning Paths'!AA:AA)","v":0.1},{"$f":"LOOKUP($A11,'Learning Paths'!$X:$X,'Learning Paths'!AA:AA)","v":0.1},{"$f":"LOOKUP($A11,'Learning Paths'!$X:$X,'Learning Paths'!AB:AB)","v":0.1},{"$f":"LOOKUP($A11,'Learning Paths'!$X:$X,'Learning Paths'!AC:AC)","v":0.1},{"$f":"LOOKUP($A11,'Learning Paths'!$X:$X,'Learning Paths'!AD:AD)","v":0.1},{"$f":"LOOKUP($A11,'Learning Paths'!$X:$X,'Learning Paths'!AE:AE)","v":0},{"$f":"LOOKUP($A11,'Learning Paths'!$X:$X,'Learning Paths'!AF:AF)","v":0}]
["LAB-010",{"$f":"LOOKUP($A12,'Learning Paths'!$X:$X,'Learning Paths'!Y:Y)","v":"Laboratory Testing - Biochemical Oxygen Demand"},{"$f":"LOOKUP($A12,'Learning Paths'!$X:$X,'Learning Paths'!Z:Z)","v":"24-07744-001"},{"$f":"LOOKUP($A12,'Learning Paths'!$X:$X,'Learning Paths'!AA:AA)","v":0.2},{"$f":"LOOKUP($A12,'Learning Paths'!$X:$X,'Learning Paths'!AA:AA)","v":0.2},{"$f":"LOOKUP($A12,'Learning Paths'!$X:$X,'Learning Paths'!AB:AB)","v":0},{"$f":"LOOKUP($A12,'Learning Paths'!$X:$X,'Learning Paths'!AC:AC)","v":0.2},{"$f":"LOOKUP($A12,'Learning Paths'!$X:$X,'Learning Paths'!AD:AD)","v":0.2},{"$f":"LOOKUP($A12,'Learning Paths'!$X:$X,'Learning Paths'!AE:AE)","v":0},{"$f":"LOOKUP($A12,'Learning Paths'!$X:$X,'Learning Paths'!AF:AF)","v":0}]
["MATH-000",{"$f":"LOOKUP($A13,'Learning Paths'!$X:$X,'Learning Paths'!Y:Y)","v":"Math Strategies for Success"},{"$f":"LOOKUP($A13,'Learning Paths'!$X:$X,'Learning Paths'!Z:Z)","v":"24-05983-002"},{"$f":"LOOKUP($A13,'Learning Paths'!$X:$X,'Learning Paths'!AA:AA)","v":0.1},{"$f":"LOOKUP($A13,'Learning Paths'!$X:$X,'Learning Paths'!AA:AA)","v":0.1},{"$f":"LOOKUP($A13,'Learning Paths'!$X:$X,'Learning Paths'!AB:AB)","v":0.1},{"$f":"LOOKUP($A13,'Learning Paths'!$X:$X,'Learning Paths'!AC:AC)","v":0.1},{"$f":"LOOKUP($A13,'Learning Paths'!$X:$X,'Learning Paths'!AD:AD)","v":0.1},{"$f":"LOOKUP($A13,'Learning Paths'!$X:$X,'Learning Paths'!AE:AE)","v":0.1},{"$f":"LOOKUP($A13,'Learning Paths'!$X:$X,'Learning Paths'!AF:AF)","v":0.1}]
["MATH-001",{"$f":"LOOKUP($A14,'Learning Paths'!$X:$X,'Learning Paths'!Y:Y)","v":"Unit Conversions"},{"$f":"LOOKUP($A14,'Learning Paths'!$X:$X,'Learning Paths'!Z:Z)","v":"24-05984-002"},{"$f":"LOOKUP($A14,'Learning Paths'!$X:$X,'Learning Paths'!AA:AA)","v":0.05},{"$f":"LOOKUP($A14,'Learning Paths'!$X:$X,'Learning Paths'!AA:AA)","v":0.05},{"$f":"LOOKUP($A14,'Learning Paths'!$X:$X,'Learning Paths'!AB:AB)","v":0.05},{"$f":"LOOKUP($A14,'Learning Paths'!$X:$X,'Learning Paths'!AC:AC)","v":0.05},{"$f":"LOOKUP($A14,'Learning Paths'!$X:$X,'Learning Paths'!AD:AD)","v":0.05},{"$f":"LOOKUP($A14,'Learning Paths'!$X:$X,'Learning Paths'!AE:AE)","v":0.05},{"$f":"LOOKUP($A14,'Learning Paths'!$X:$X,'Learning Paths'!AF:AF)","v":0.05}]
["MATH-002",{"$f":"LOOKUP($A15,'Learning Paths'!$X:$X,'Learning Paths'!Y:Y)","v":"Geometry"},{"$f":"LOOKUP($A15,'Learning Paths'!$X:$X,'Learning Paths'!Z:Z)","v":"24-05985-002"},{"$f":"LOOKUP($A15,'Learning Paths'!$X:$X,'Learning Paths'!AA:AA)","v":0.05},{"$f":"LOOKUP($A15,'Learning Paths'!$X:$X,'Learning Paths'!AA:AA)","v":0.05},{"$f":"LOOKUP($A15,'Learning Paths'!$X:$X,'Learning Paths'!AB:AB)","v":0.05},{"$f":"LOOKUP($A15,'Learning Paths'!$X:$X,'Learning Paths'!AC:AC)","v":0.05},{"$f":"LOOKUP($A15,'Learning Paths'!$X:$X,'Learning Paths'!AD:AD)","v":0.05},{"$f":"LOOKUP($A15,'Learning Paths'!$X:$X,'Learning Paths'!AE:AE)","v":0.05},{"$f":"LOOKUP($A15,'Learning Paths'!$X:$X,'Learning Paths'!AF:AF)","v":0.05}]
["MATH-003",{"$f":"LOOKUP($A16,'Learning Paths'!$X:$X,'Learning Paths'!Y:Y)","v":"Chemical Dosing"},{"$f":"LOOKUP($A16,'Learning Paths'!$X:$X,'Learning Paths'!Z:Z)","v":"24-05986-002"},{"$f":"LOOKUP($A16,'Learning Paths'!$X:$X,'Learning Paths'!AA:AA)","v":0.05},{"$f":"LOOKUP($A16,'Learning Paths'!$X:$X,'Learning Paths'!AA:AA)","v":0.05},{"$f":"LOOKUP($A16,'Learning Paths'!$X:$X,'Learning Paths'!AB:AB)","v":0.05},{"$f":"LOOKUP($A16,'Learning Paths'!$X:$X,'Learning Paths'!AC:AC)","v":0.05},{"$f":"LOOKUP($A16,'Learning Paths'!$X:$X,'Learning Paths'!AD:AD)","v":0.05},{"$f":"LOOKUP($A16,'Learning Paths'!$X:$X,'Learning Paths'!AE:AE)","v":0.05},{"$f":"LOOKUP($A16,'Learning Paths'!$X:$X,'Learning Paths'!AF:AF)","v":0.05}]
["WWT-001",{"$f":"LOOKUP($A17,'Learning Paths'!$X:$X,'Learning Paths'!Y:Y)","v":"Introduction to Wastewater:  A Plant Overview"},{"$f":"LOOKUP($A17,'Learning Paths'!$X:$X,'Learning Paths'!Z:Z)","v":"24-06006-001"},{"$f":"LOOKUP($A17,'Learning Paths'!$X:$X,'Learning Paths'!AA:AA)","v":0.2},{"$f":"LOOKUP($A17,'Learning Paths'!$X:$X,'Learning Paths'!AA:AA)","v":0.2},{"$f":"LOOKUP($A17,'Learning Paths'!$X:$X,'Learning Paths'!AB:AB)","v":0},{"$f":"LOOKUP($A17,'Learning Paths'!$X:$X,'Learning Paths'!AC:AC)","v":0.2},{"$f":"LOOKUP($A17,'Learning Paths'!$X:$X,'Learning Paths'!AD:AD)","v":0.2},{"$f":"LOOKUP($A17,'Learning Paths'!$X:$X,'Learning Paths'!AE:AE)","v":0},{"$f":"LOOKUP($A17,'Learning Paths'!$X:$X,'Learning Paths'!AF:AF)","v":0}]
["WWT-002",{"$f":"LOOKUP($A18,'Learning Paths'!$X:$X,'Learning Paths'!Y:Y)","v":"What's In My Wastewater: Definitions and Typical Ratios"},{"$f":"LOOKUP($A18,'Learning Paths'!$X:$X,'Learning Paths'!Z:Z)","v":"24-06007-001"},{"$f":"LOOKUP($A18,'Learning Paths'!$X:$X,'Learning Paths'!AA:AA)","v":0.15},{"$f":"LOOKUP($A18,'Learning Paths'!$X:$X,'Learning Paths'!AA:AA)","v":0.15},{"$f":"LOOKUP($A18,'Learning Paths'!$X:$X,'Learning Paths'!AB:AB)","v":0},{"$f":"LOOKUP($A18,'Learning Paths'!$X:$X,'Learning Paths'!AC:AC)","v":0.15},{"$f":"LOOKUP($A18,'Learning Paths'!$X:$X,'Learning Paths'!AD:AD)","v":0.15},{"$f":"LOOKUP($A18,'Learning Paths'!$X:$X,'Learning Paths'!AE:AE)","v":0},{"$f":"LOOKUP($A18,'Learning Paths'!$X:$X,'Learning Paths'!AF:AF)","v":0.05}]
["WWT-003",{"$f":"LOOKUP($A19,'Learning Paths'!$X:$X,'Learning Paths'!Y:Y)","v":"Preliminary Treatment"},{"$f":"LOOKUP($A19,'Learning Paths'!$X:$X,'Learning Paths'!Z:Z)","v":"24-09381-001"},{"$f":"LOOKUP($A19,'Learning Paths'!$X:$X,'Learning Paths'!AA:AA)","v":0.1},{"$f":"LOOKUP($A19,'Learning Paths'!$X:$X,'Learning Paths'!AA:AA)","v":0.1},{"$f":"LOOKUP($A19,'Learning Paths'!$X:$X,'Learning Paths'!AB:AB)","v":0.05},{"$f":"LOOKUP($A19,'Learning Paths'!$X:$X,'Learning Paths'!AC:AC)","v":0.1},{"$f":"LOOKUP($A19,'Learning Paths'!$X:$X,'Learning Paths'!AD:AD)","v":0.1},{"$f":"LOOKUP($A19,'Learning Paths'!$X:$X,'Learning Paths'!AE:AE)","v":0},{"$f":"LOOKUP($A19,'Learning Paths'!$X:$X,'Learning Paths'!AF:AF)","v":0.05}]
["WWT-004",{"$f":"LOOKUP($A20,'Learning Paths'!$X:$X,'Learning Paths'!Y:Y)","v":"Primary Treatment "},{"$f":"LOOKUP($A20,'Learning Paths'!$X:$X,'Learning Paths'!Z:Z)","v":"24-09382-001"},{"$f":"LOOKUP($A20,'Learning Paths'!$X:$X,'Learning Paths'!AA:AA)","v":0.2},{"$f":"LOOKUP($A20,'Learning Paths'!$X:$X,'Learning Paths'!AA:AA)","v":0.2},{"$f":"LOOKUP($A20,'Learning Paths'!$X:$X,'Learning Paths'!AB:AB)","v":0},{"$f":"LOOKUP($A20,'Learning Paths'!$X:$X,'Learning Paths'!AC:AC)","v":0.2},{"$f":"LOOKUP($A20,'Learning Paths'!$X:$X,'Learning Paths'!AD:AD)","v":0.2},{"$f":"LOOKUP($A20,'Learning Paths'!$X:$X,'Learning Paths'!AE:AE)","v":0},{"$f":"LOOKUP($A20,'Learning Paths'!$X:$X,'Learning Paths'!AF:AF)","v":0}]
["WWT-006",{"$f":"LOOKUP($A21,'Learning Paths'!$X:$X,'Learning Paths'!Y:Y)","v":"Fixed Film: Trickling Filters and RBCs"},{"$f":"LOOKUP($A21,'Learning Paths'!$X:$X,'Learning Paths'!Z:Z)","v":"24-06008-001"},{"$f":"LOOKUP($A21,'Learning Paths'!$X:$X,'Learning Paths'!AA:AA)","v":0.15},{"$f":"LOOKUP($A21,'Learning Paths'!$X:$X,'Learning Paths'!AA:AA)","v":0.15},{"$f":"LOOKUP($A21,'Learning Paths'!$X:$X,'Learning Paths'!AB:AB)","v":0},{"$f":"LOOKUP($A21,'Learning Paths'!$X:$X,'Learning Paths'!AC:AC)","v":0.15},{"$f":"LOOKUP($A21,'Learning Paths'!$X:$X,'Learning Paths'!AD:AD)","v":0.15},{"$f":"LOOKUP($A21,'Learning Paths'!$X:$X,'Learning Paths'!AE:AE)","v":0},{"$f":"LOOKUP($A21,'Learning Paths'!$X:$X,'Learning Paths'!AF:AF)","v":0}]
["WWT-007A",{"$f":"LOOKUP($A22,'Learning Paths'!$X:$X,'Learning Paths'!Y:Y)","v":"Wastewater Treatment Lagoons"},{"$f":"LOOKUP($A22,'Learning Paths'!$X:$X,'Learning Paths'!Z:Z)","v":"24-10618-001"},{"$f":"LOOKUP($A22,'Learning Paths'!$X:$X,'Learning Paths'!AA:AA)","v":0.2},{"$f":"LOOKUP($A22,'Learning Paths'!$X:$X,'Learning Paths'!AA:AA)","v":0.2},{"$f":"LOOKUP($A22,'Learning Paths'!$X:$X,'Learning Paths'!AB:AB)","v":0},{"$f":"LOOKUP($A22,'Learning Paths'!$X:$X,'Learning Paths'!AC:AC)","v":0.2},{"$f":"LOOKUP($A22,'Learning Paths'!$X:$X,'Learning Paths'!AD:AD)","v":0.2},{"$f":"LOOKUP($A22,'Learning Paths'!$X:$X,'Learning Paths'!AE:AE)","v":0},{"$f":"LOOKUP($A22,'Learning Paths'!$X:$X,'Learning Paths'!AF:AF)","v":0}]
["WWT-010",{"$f":"LOOKUP($A23,'Learning Paths'!$X:$X,'Learning Paths'!Y:Y)","v":"Activated Sludge Basics: A Mechanical Approach"},{"$f":"LOOKUP($A23,'Learning Paths'!$X:$X,'Learning Paths'!Z:Z)","v":"24-06012-001"},{"$f":"LOOKUP($A23,'Learning Paths'!$X:$X,'Learning Paths'!AA:AA)","v":0.2},{"$f":"LOOKUP($A23,'Learning Paths'!$X:$X,'Learning Paths'!AA:AA)","v":0.2},{"$f":"LOOKUP($A23,'Learning Paths'!$X:$X,'Learning Paths'!AB:AB)","v":0},{"$f":"LOOKUP($A23,'Learning Paths'!$X:$X,'Learning Paths'!AC:AC)","v":0.2},{"$f":"LOOKUP($A23,'Learning Paths'!$X:$X,'Learning Paths'!AD:AD)","v":0.2},{"$f":"LOOKUP($A23,'Learning Paths'!$X:$X,'Learning Paths'!AE:AE)","v":0},{"$f":"LOOKUP($A23,'Learning Paths'!$X:$X,'Learning Paths'!AF:AF)","v":0}]
["WWT-012A",{"$f":"LOOKUP($A24,'Learning Paths'!$X:$X,'Learning Paths'!Y:Y)","v":"Activated Sludge Microbiology: A View Beneath the Surface"},{"$f":"LOOKUP($A24,'Learning Paths'!$X:$X,'Learning Paths'!Z:Z)","v":"24-08900-001"},{"$f":"LOOKUP($A24,'Learning Paths'!$X:$X,'Learning Paths'!AA:AA)","v":0.1},{"$f":"LOOKUP($A24,'Learning Paths'!$X:$X,'Learning Paths'!AA:AA)","v":0.1},{"$f":"LOOKUP($A24,'Learning Paths'!$X:$X,'Learning Paths'!AB:AB)","v":0},{"$f":"LOOKUP($A24,'Learning Paths'!$X:$X,'Learning Paths'!AC:AC)","v":0.1},{"$f":"LOOKUP($A24,'Learning Paths'!$X:$X,'Learning Paths'!AD:AD)","v":0.1},{"$f":"LOOKUP($A24,'Learning Paths'!$X:$X,'Learning Paths'!AE:AE)","v":0},{"$f":"LOOKUP($A24,'Learning Paths'!$X:$X,'Learning Paths'!AF:AF)","v":0}]
["WWT-012B",{"$f":"LOOKUP($A25,'Learning Paths'!$X:$X,'Learning Paths'!Y:Y)","v":"Activated Sludge Microbiology: Microscope Basics and the Micro Exam"},{"$f":"LOOKUP($A25,'Learning Paths'!$X:$X,'Learning Paths'!Z:Z)","v":"24-08901-001"},{"$f":"LOOKUP($A25,'Learning Paths'!$X:$X,'Learning Paths'!AA:AA)","v":0.1},{"$f":"LOOKUP($A25,'Learning Paths'!$X:$X,'Learning Paths'!AA:AA)","v":0.1},{"$f":"LOOKUP($A25,'Learning Paths'!$X:$X,'Learning Paths'!AB:AB)","v":0.1},{"$f":"LOOKUP($A25,'Learning Paths'!$X:$X,'Learning Paths'!AC:AC)","v":0.1},{"$f":"LOOKUP($A25,'Learning Paths'!$X:$X,'Learning Paths'!AD:AD)","v":0.1},{"$f":"LOOKUP($A25,'Learning Paths'!$X:$X,'Learning Paths'!AE:AE)","v":0.1},{"$f":"LOOKUP($A25,'Learning Paths'!$X:$X,'Learning Paths'!AF:AF)","v":0}]
["WWT-013",{"$f":"LOOKUP($A26,'Learning Paths'!$X:$X,'Learning Paths'!Y:Y)","v":"Activated Sludge Microbiology: Filaments and Settling Problems"},{"$f":"LOOKUP($A26,'Learning Paths'!$X:$X,'Learning Paths'!Z:Z)","v":"24-08902-001"},{"$f":"LOOKUP($A26,'Learning Paths'!$X:$X,'Learning Paths'!AA:AA)","v":0.1},{"$f":"LOOKUP($A26,'Learning Paths'!$X:$X,'Learning Paths'!AA:AA)","v":0.1},{"$f":"LOOKUP($A26,'Learning Paths'!$X:$X,'Learning Paths'!AB:AB)","v":0},{"$f":"LOOKUP($A26,'Learning Paths'!$X:$X,'Learning Paths'!AC:AC)","v":0.1},{"$f":"LOOKUP($A26,'Learning Paths'!$X:$X,'Learning Paths'!AD:AD)","v":0.1},{"$f":"LOOKUP($A26,'Learning Paths'!$X:$X,'Learning Paths'!AE:AE)","v":0},{"$f":"LOOKUP($A26,'Learning Paths'!$X:$X,'Learning Paths'!AF:AF)","v":0}]
["WWT-020",{"$f":"LOOKUP($A27,'Learning Paths'!$X:$X,'Learning Paths'!Y:Y)","v":"Chlorine Disinfection"},{"$f":"LOOKUP($A27,'Learning Paths'!$X:$X,'Learning Paths'!Z:Z)","v":"24-06020-001"},{"$f":"LOOKUP($A27,'Learning Paths'!$X:$X,'Learning Paths'!AA:AA)","v":0.25},{"$f":"LOOKUP($A27,'Learning Paths'!$X:$X,'Learning Paths'!AA:AA)","v":0.25},{"$f":"LOOKUP($A27,'Learning Paths'!$X:$X,'Learning Paths'!AB:AB)","v":0.25},{"$f":"LOOKUP($A27,'Learning Paths'!$X:$X,'Learning Paths'!AC:AC)","v":0.25},{"$f":"LOOKUP($A27,'Learning Paths'!$X:$X,'Learning Paths'!AD:AD)","v":0.25},{"$f":"LOOKUP($A27,'Learning Paths'!$X:$X,'Learning Paths'!AE:AE)","v":0.25},{"$f":"LOOKUP($A27,'Learning Paths'!$X:$X,'Learning Paths'!AF:AF)","v":0}]
["WWT-023",{"$f":"LOOKUP($A28,'Learning Paths'!$X:$X,'Learning Paths'!Y:Y)","v":"Aerobic and Anaerobic Digestion"},{"$f":"LOOKUP($A28,'Learning Paths'!$X:$X,'Learning Paths'!Z:Z)","v":"24-06023-001"},{"$f":"LOOKUP($A28,'Learning Paths'!$X:$X,'Learning Paths'!AA:AA)","v":0.3},{"$f":"LOOKUP($A28,'Learning Paths'!$X:$X,'Learning Paths'!AA:AA)","v":0.3},{"$f":"LOOKUP($A28,'Learning Paths'!$X:$X,'Learning Paths'!AB:AB)","v":0},{"$f":"LOOKUP($A28,'Learning Paths'!$X:$X,'Learning Paths'!AC:AC)","v":0.3},{"$f":"LOOKUP($A28,'Learning Paths'!$X:$X,'Learning Paths'!AD:AD)","v":0.3},{"$f":"LOOKUP($A28,'Learning Paths'!$X:$X,'Learning Paths'!AE:AE)","v":0},{"$f":"LOOKUP($A28,'Learning Paths'!$X:$X,'Learning Paths'!AF:AF)","v":0}]
["WWT-024",{"$f":"LOOKUP($A29,'Learning Paths'!$X:$X,'Learning Paths'!Y:Y)","v":"Belt Filter Presses"},{"$f":"LOOKUP($A29,'Learning Paths'!$X:$X,'Learning Paths'!Z:Z)","v":"24-06024-001"},{"$f":"LOOKUP($A29,'Learning Paths'!$X:$X,'Learning Paths'!AA:AA)","v":0.2},{"$f":"LOOKUP($A29,'Learning Paths'!$X:$X,'Learning Paths'!AA:AA)","v":0.2},{"$f":"LOOKUP($A29,'Learning Paths'!$X:$X,'Learning Paths'!AB:AB)","v":0.2},{"$f":"LOOKUP($A29,'Learning Paths'!$X:$X,'Learning Paths'!AC:AC)","v":0.2},{"$f":"LOOKUP($A29,'Learning Paths'!$X:$X,'Learning Paths'!AD:AD)","v":0.2},{"$f":"LOOKUP($A29,'Learning Paths'!$X:$X,'Learning Paths'!AE:AE)","v":0},{"$f":"LOOKUP($A29,'Learning Paths'!$X:$X,'Learning Paths'!AF:AF)","v":0}]
["WWT-025",{"$f":"LOOKUP($A30,'Learning Paths'!$X:$X,'Learning Paths'!Y:Y)","v":"Centrifuges"},{"$f":"LOOKUP($A30,'Learning Paths'!$X:$X,'Learning Paths'!Z:Z)","v":"24-06025-001"},{"$f":"LOOKUP($A30,'Learning Paths'!$X:$X,'Learning Paths'!AA:AA)","v":0.2},{"$f":"LOOKUP($A30,'Learning Paths'!$X:$X,'Learning Paths'!AA:AA)","v":0.2},{"$f":"LOOKUP($A30,'Learning Paths'!$X:$X,'Learning Paths'!AB:AB)","v":0.2},{"$f":"LOOKUP($A30,'Learning Paths'!$X:$X,'Learning Paths'!AC:AC)","v":0.2},{"$f":"LOOKUP($A30,'Learning Paths'!$X:$X,'Learning Paths'!AD:AD)","v":0.2},{"$f":"LOOKUP($A30,'Learning Paths'!$X:$X,'Learning Paths'!AE:AE)","v":0},{"$f":"LOOKUP($A30,'Learning Paths'!$X:$X,'Learning Paths'!AF:AF)","v":0}]
["WWT-030",{"$f":"LOOKUP($A31,'Learning Paths'!$X:$X,'Learning Paths'!Y:Y)","v":"MRT for Wastewater Treatment and Collection Systems"},{"$f":"LOOKUP($A31,'Learning Paths'!$X:$X,'Learning Paths'!Z:Z)","v":"24-06840-002"},{"$f":"LOOKUP($A31,'Learning Paths'!$X:$X,'Learning Paths'!AA:AA)","v":0.2},{"$f":"LOOKUP($A31,'Learning Paths'!$X:$X,'Learning Paths'!AA:AA)","v":0.2},{"$f":"LOOKUP($A31,'Learning Paths'!$X:$X,'Learning Paths'!AB:AB)","v":0},{"$f":"LOOKUP($A31,'Learning Paths'!$X:$X,'Learning Paths'!AC:AC)","v":0.2},{"$f":"LOOKUP($A31,'Learning Paths'!$X:$X,'Learning Paths'!AD:AD)","v":0.2},{"$f":"LOOKUP($A31,'Learning Paths'!$X:$X,'Learning Paths'!AE:AE)","v":0},{"$f":"LOOKUP($A31,'Learning Paths'!$X:$X,'Learning Paths'!AF:AF)","v":0.2}]
["WWT-031",{"$f":"LOOKUP($A32,'Learning Paths'!$X:$X,'Learning Paths'!Y:Y)","v":"Gravity and Dissolved Air Floatation Thickeners"},{"$f":"LOOKUP($A32,'Learning Paths'!$X:$X,'Learning Paths'!Z:Z)","v":"24-10671-001"},{"$f":"LOOKUP($A32,'Learning Paths'!$X:$X,'Learning Paths'!AA:AA)","v":0.2},{"$f":"LOOKUP($A32,'Learning Paths'!$X:$X,'Learning Paths'!AA:AA)","v":0.2},{"$f":"LOOKUP($A32,'Learning Paths'!$X:$X,'Learning Paths'!AB:AB)","v":0.05},{"$f":"LOOKUP($A32,'Learning Paths'!$X:$X,'Learning Paths'!AC:AC)","v":0.2},{"$f":"LOOKUP($A32,'Learning Paths'!$X:$X,'Learning Paths'!AD:AD)","v":0.2},{"$f":"LOOKUP($A32,'Learning Paths'!$X:$X,'Learning Paths'!AE:AE)","v":0.05},{"$f":"LOOKUP($A32,'Learning Paths'!$X:$X,'Learning Paths'!AF:AF)","v":0.05}]
[]
[]
[]
["Counts as 30-days of hands-on experience for operators",null,null,null,"MAX","W","WW","I","D","C"]
["taking the D or S level certification exams.",null,"TUs",null,{"$f":"SUM(E4:E32)","v":4.4500000000000011},2.0500000000000003,4.4500000000000011,4.4500000000000011,1.5000000000000002,1.5000000000000004]
[null,null,"Minutes",null,{"$f":"E37*10*60","v":2670.0000000000009},{"$f":"F37*10*60","v":1230.0000000000002},2670.0000000000009,2670.0000000000009,900.00000000000011,900.00000000000023]
[]
["All courses within the short school must be completed for this course to count for EITHER 30-days of hands-on entry level experience OR as a substitute for a high school diploma.  May not be used for both. Operators using education as a subsitute for a high school diploma must have 6 months hands on experience to sit for an entry level exam."]
["Training Units or CEUs are issued for each topic as it is completed."]
[]
[null,null,"Course Cost",null,550]

{"sheet":"Water Short School","index":4,"n_rows":36,"n_cols":11,"rows_kept":36,"cut":false,"hidden":false,"merged":[[32,1,32,9]]}
[null,"On-Line Drinking Water Short School"]
[]
[null,"Indigo ID Number","Topic","Existing Approval No.","Portal Topic Used for TUs Calculation","Max TUs","W","WW","I","D","C"]
[null,"ALL-001",{"$f":"LOOKUP(Table1[[#This Row],[Indigo ID Number]],'Learning Paths'!$X:$X,'Learning Paths'!Y:Y)","v":"Pumps"},{"$f":"LOOKUP(Table1[[#This Row],[Indigo ID Number]],'Learning Paths'!$X:$X,'Learning Paths'!Z:Z)","v":"24-06046-002"},{"$f":"LOOKUP(Table1[[#This Row],[Existing Approval No.]],'Learning Paths'!$X:$X,'Learning Paths'!AA:AA)","v":{"$error":"#N/A"}},{"$f":"LOOKUP(Table1[[#This Row],[Indigo ID Number]],'Learning Paths'!$X:$X,'Learning Paths'!AA:AA)","v":0.2},{"$f":"LOOKUP(Table1[[#This Row],[Indigo ID Number]],'Learning Paths'!$X:$X,'Learning Paths'!AB:AB)","v":0.2},{"$f":"LOOKUP(Table1[[#This Row],[Indigo ID Number]],'Learning Paths'!$X:$X,'Learning Paths'!AC:AC)","v":0.2},{"$f":"LOOKUP(Table1[[#This Row],[Indigo ID Number]],'Learning Paths'!$X:$X,'Learning Paths'!AD:AD)","v":0.2},{"$f":"LOOKUP(Table1[[#This Row],[Indigo ID Number]],'Learning Paths'!$X:$X,'Learning Paths'!AE:AE)","v":0.2},{"$f":"LOOKUP(Table1[[#This Row],[Indigo ID Number]],'Learning Paths'!$X:$X,'Learning Paths'!AF:AF)","v":0.2}]
[null,"ALL-002",{"$f":"LOOKUP(Table1[[#This Row],[Indigo ID Number]],'Learning Paths'!$X:$X,'Learning Paths'!Y:Y)","v":"Hydraulics Basics"},{"$f":"LOOKUP(Table1[[#This Row],[Indigo ID Number]],'Learning Paths'!$X:$X,'Learning Paths'!Z:Z)","v":"24-05990-001"},{"$f":"LOOKUP(Table1[[#This Row],[Existing Approval No.]],'Learning Paths'!$X:$X,'Learning Paths'!AA:AA)","v":{"$error":"#N/A"}},{"$f":"LOOKUP(Table1[[#This Row],[Indigo ID Number]],'Learning Paths'!$X:$X,'Learning Paths'!AA:AA)","v":0.15},{"$f":"LOOKUP(Table1[[#This Row],[Indigo ID Number]],'Learning Paths'!$X:$X,'Learning Paths'!AB:AB)","v":0.15},{"$f":"LOOKUP(Table1[[#This Row],[Indigo ID Number]],'Learning Paths'!$X:$X,'Learning Paths'!AC:AC)","v":0.15},{"$f":"LOOKUP(Table1[[#This Row],[Indigo ID Number]],'Learning Paths'!$X:$X,'Learning Paths'!AD:AD)","v":0.15},{"$f":"LOOKUP(Table1[[#This Row],[Indigo ID Number]],'Learning Paths'!$X:$X,'Learning Paths'!AE:AE)","v":0.15},{"$f":"LOOKUP(Table1[[#This Row],[Indigo ID Number]],'Learning Paths'!$X:$X,'Learning Paths'!AF:AF)","v":0.15}]
[null,"ALL-006",{"$f":"LOOKUP(Table1[[#This Row],[Indigo ID Number]],'Learning Paths'!$X:$X,'Learning Paths'!Y:Y)","v":"Maintenance"},{"$f":"LOOKUP(Table1[[#This Row],[Indigo ID Number]],'Learning Paths'!$X:$X,'Learning Paths'!Z:Z)","v":"24-05993-001"},{"$f":"LOOKUP(Table1[[#This Row],[Existing Approval No.]],'Learning Paths'!$X:$X,'Learning Paths'!AA:AA)","v":{"$error":"#N/A"}},{"$f":"LOOKUP(Table1[[#This Row],[Indigo ID Number]],'Learning Paths'!$X:$X,'Learning Paths'!AA:AA)","v":0.2},{"$f":"LOOKUP(Table1[[#This Row],[Indigo ID Number]],'Learning Paths'!$X:$X,'Learning Paths'!AB:AB)","v":0.2},{"$f":"LOOKUP(Table1[[#This Row],[Indigo ID Number]],'Learning Paths'!$X:$X,'Learning Paths'!AC:AC)","v":0.2},{"$f":"LOOKUP(Table1[[#This Row],[Indigo ID Number]],'Learning Paths'!$X:$X,'Learning Paths'!AD:AD)","v":0.2},{"$f":"LOOKUP(Table1[[#This Row],[Indigo ID Number]],'Learning Paths'!$X:$X,'Learning Paths'!AE:AE)","v":0.2},{"$f":"LOOKUP(Table1[[#This Row],[Indigo ID Number]],'Learning Paths'!$X:$X,'Learning Paths'!AF:AF)","v":0.2}]
[null,"ALL-007",{"$f":"LOOKUP(Table1[[#This Row],[Indigo ID Number]],'Learning Paths'!$X:$X,'Learning Paths'!Y:Y)","v":"Electrical Fundamentals"},{"$f":"LOOKUP(Table1[[#This Row],[Indigo ID Number]],'Learning Paths'!$X:$X,'Learning Paths'!Z:Z)","v":"24-05994-001"},{"$f":"LOOKUP(Table1[[#This Row],[Existing Approval No.]],'Learning Paths'!$X:$X,'Learning Paths'!AA:AA)","v":{"$error":"#N/A"}},{"$f":"LOOKUP(Table1[[#This Row],[Indigo ID Number]],'Learning Paths'!$X:$X,'Learning Paths'!AA:AA)","v":0.15},{"$f":"LOOKUP(Table1[[#This Row],[Indigo ID Number]],'Learning Paths'!$X:$X,'Learning Paths'!AB:AB)","v":0.15},{"$f":"LOOKUP(Table1[[#This Row],[Indigo ID Number]],'Learning Paths'!$X:$X,'Learning Paths'!AC:AC)","v":0.15},{"$f":"LOOKUP(Table1[[#This Row],[Indigo ID Number]],'Learning Paths'!$X:$X,'Learning Paths'!AD:AD)","v":0.15},{"$f":"LOOKUP(Table1[[#This Row],[Indigo ID Number]],'Learning Paths'!$X:$X,'Learning Paths'!AE:AE)","v":0.15},{"$f":"LOOKUP(Table1[[#This Row],[Indigo ID Number]],'Learning Paths'!$X:$X,'Learning Paths'!AF:AF)","v":0.15}]
[null,"ALL-009",{"$f":"LOOKUP(Table1[[#This Row],[Indigo ID Number]],'Learning Paths'!$X:$X,'Learning Paths'!Y:Y)","v":"Disinfection Byproducts"},{"$f":"LOOKUP(Table1[[#This Row],[Indigo ID Number]],'Learning Paths'!$X:$X,'Learning Paths'!Z:Z)","v":"24-05996-001"},{"$f":"LOOKUP(Table1[[#This Row],[Existing Approval No.]],'Learning Paths'!$X:$X,'Learning Paths'!AA:AA)","v":{"$error":"#N/A"}},{"$f":"LOOKUP(Table1[[#This Row],[Indigo ID Number]],'Learning Paths'!$X:$X,'Learning Paths'!AA:AA)","v":0.15},{"$f":"LOOKUP(Table1[[#This Row],[Indigo ID Number]],'Learning Paths'!$X:$X,'Learning Paths'!AB:AB)","v":0.15},{"$f":"LOOKUP(Table1[[#This Row],[Indigo ID Number]],'Learning Paths'!$X:$X,'Learning Paths'!AC:AC)","v":0.15},{"$f":"LOOKUP(Table1[[#This Row],[Indigo ID Number]],'Learning Paths'!$X:$X,'Learning Paths'!AD:AD)","v":0.15},{"$f":"LOOKUP(Table1[[#This Row],[Indigo ID Number]],'Learning Paths'!$X:$X,'Learning Paths'!AE:AE)","v":0.15},{"$f":"LOOKUP(Table1[[#This Row],[Indigo ID Number]],'Learning Paths'!$X:$X,'Learning Paths'!AF:AF)","v":0}]
[null,"ALL-011",{"$f":"LOOKUP(Table1[[#This Row],[Indigo ID Number]],'Learning Paths'!$X:$X,'Learning Paths'!Y:Y)","v":"Backflow Preventers"},{"$f":"LOOKUP(Table1[[#This Row],[Indigo ID Number]],'Learning Paths'!$X:$X,'Learning Paths'!Z:Z)","v":"24-08959-001"},{"$f":"LOOKUP(Table1[[#This Row],[Existing Approval No.]],'Learning Paths'!$X:$X,'Learning Paths'!AA:AA)","v":{"$error":"#N/A"}},{"$f":"LOOKUP(Table1[[#This Row],[Indigo ID Number]],'Learning Paths'!$X:$X,'Learning Paths'!AA:AA)","v":0.05},{"$f":"LOOKUP(Table1[[#This Row],[Indigo ID Number]],'Learning Paths'!$X:$X,'Learning Paths'!AB:AB)","v":0.05},{"$f":"LOOKUP(Table1[[#This Row],[Indigo ID Number]],'Learning Paths'!$X:$X,'Learning Paths'!AC:AC)","v":0.05},{"$f":"LOOKUP(Table1[[#This Row],[Indigo ID Number]],'Learning Paths'!$X:$X,'Learning Paths'!AD:AD)","v":0.05},{"$f":"LOOKUP(Table1[[#This Row],[Indigo ID Number]],'Learning Paths'!$X:$X,'Learning Paths'!AE:AE)","v":0.05},{"$f":"LOOKUP(Table1[[#This Row],[Indigo ID Number]],'Learning Paths'!$X:$X,'Learning Paths'!AF:AF)","v":0.05}]
[null,"LAB-002",{"$f":"LOOKUP(Table1[[#This Row],[Indigo ID Number]],'Learning Paths'!$X:$X,'Learning Paths'!Y:Y)","v":"Laboratory - pH, Alkalinity, and Hardness"},{"$f":"LOOKUP(Table1[[#This Row],[Indigo ID Number]],'Learning Paths'!$X:$X,'Learning Paths'!Z:Z)","v":"24-07704-001"},{"$f":"LOOKUP(Table1[[#This Row],[Existing Approval No.]],'Learning Paths'!$X:$X,'Learning Paths'!AA:AA)","v":{"$error":"#N/A"}},{"$f":"LOOKUP(Table1[[#This Row],[Indigo ID Number]],'Learning Paths'!$X:$X,'Learning Paths'!AA:AA)","v":0.2},{"$f":"LOOKUP(Table1[[#This Row],[Indigo ID Number]],'Learning Paths'!$X:$X,'Learning Paths'!AB:AB)","v":0.2},{"$f":"LOOKUP(Table1[[#This Row],[Indigo ID Number]],'Learning Paths'!$X:$X,'Learning Paths'!AC:AC)","v":0.2},{"$f":"LOOKUP(Table1[[#This Row],[Indigo ID Number]],'Learning Paths'!$X:$X,'Learning Paths'!AD:AD)","v":0.2},{"$f":"LOOKUP(Table1[[#This Row],[Indigo ID Number]],'Learning Paths'!$X:$X,'Learning Paths'!AE:AE)","v":0.05},{"$f":"LOOKUP(Table1[[#This Row],[Indigo ID Number]],'Learning Paths'!$X:$X,'Learning Paths'!AF:AF)","v":0.05}]
[null,"LAB-003",{"$f":"LOOKUP(Table1[[#This Row],[Indigo ID Number]],'Learning Paths'!$X:$X,'Learning Paths'!Y:Y)","v":"Laboratory - TDS, Conductivity, and Turbidity"},{"$f":"LOOKUP(Table1[[#This Row],[Indigo ID Number]],'Learning Paths'!$X:$X,'Learning Paths'!Z:Z)","v":"24-07745-001"},{"$f":"LOOKUP(Table1[[#This Row],[Existing Approval No.]],'Learning Paths'!$X:$X,'Learning Paths'!AA:AA)","v":{"$error":"#N/A"}},{"$f":"LOOKUP(Table1[[#This Row],[Indigo ID Number]],'Learning Paths'!$X:$X,'Learning Paths'!AA:AA)","v":0.2},{"$f":"LOOKUP(Table1[[#This Row],[Indigo ID Number]],'Learning Paths'!$X:$X,'Learning Paths'!AB:AB)","v":0.2},{"$f":"LOOKUP(Table1[[#This Row],[Indigo ID Number]],'Learning Paths'!$X:$X,'Learning Paths'!AC:AC)","v":0.2},{"$f":"LOOKUP(Table1[[#This Row],[Indigo ID Number]],'Learning Paths'!$X:$X,'Learning Paths'!AD:AD)","v":0.2},{"$f":"LOOKUP(Table1[[#This Row],[Indigo ID Number]],'Learning Paths'!$X:$X,'Learning Paths'!AE:AE)","v":0.1},{"$f":"LOOKUP(Table1[[#This Row],[Indigo ID Number]],'Learning Paths'!$X:$X,'Learning Paths'!AF:AF)","v":0.05}]
[null,"LAB-006",{"$f":"LOOKUP(Table1[[#This Row],[Indigo ID Number]],'Learning Paths'!$X:$X,'Learning Paths'!Y:Y)","v":"Laboratory - Chlorine Residual by DPD"},{"$f":"LOOKUP(Table1[[#This Row],[Indigo ID Number]],'Learning Paths'!$X:$X,'Learning Paths'!Z:Z)","v":"24-07709-001"},{"$f":"LOOKUP(Table1[[#This Row],[Existing Approval No.]],'Learning Paths'!$X:$X,'Learning Paths'!AA:AA)","v":{"$error":"#N/A"}},{"$f":"LOOKUP(Table1[[#This Row],[Indigo ID Number]],'Learning Paths'!$X:$X,'Learning Paths'!AA:AA)","v":0.05},{"$f":"LOOKUP(Table1[[#This Row],[Indigo ID Number]],'Learning Paths'!$X:$X,'Learning Paths'!AB:AB)","v":0.05},{"$f":"LOOKUP(Table1[[#This Row],[Indigo ID Number]],'Learning Paths'!$X:$X,'Learning Paths'!AC:AC)","v":0.05},{"$f":"LOOKUP(Table1[[#This Row],[Indigo ID Number]],'Learning Paths'!$X:$X,'Learning Paths'!AD:AD)","v":0.05},{"$f":"LOOKUP(Table1[[#This Row],[Indigo ID Number]],'Learning Paths'!$X:$X,'Learning Paths'!AE:AE)","v":0.05},{"$f":"LOOKUP(Table1[[#This Row],[Indigo ID Number]],'Learning Paths'!$X:$X,'Learning Paths'!AF:AF)","v":0}]
[null,"LAB-009",{"$f":"LOOKUP(Table1[[#This Row],[Indigo ID Number]],'Learning Paths'!$X:$X,'Learning Paths'!Y:Y)","v":"Laboratory - Jar Testing"},{"$f":"LOOKUP(Table1[[#This Row],[Indigo ID Number]],'Learning Paths'!$X:$X,'Learning Paths'!Z:Z)","v":"24-07639-001"},{"$f":"LOOKUP(Table1[[#This Row],[Existing Approval No.]],'Learning Paths'!$X:$X,'Learning Paths'!AA:AA)","v":{"$error":"#N/A"}},{"$f":"LOOKUP(Table1[[#This Row],[Indigo ID Number]],'Learning Paths'!$X:$X,'Learning Paths'!AA:AA)","v":0.1},{"$f":"LOOKUP(Table1[[#This Row],[Indigo ID Number]],'Learning Paths'!$X:$X,'Learning Paths'!AB:AB)","v":0.1},{"$f":"LOOKUP(Table1[[#This Row],[Indigo ID Number]],'Learning Paths'!$X:$X,'Learning Paths'!AC:AC)","v":0.1},{"$f":"LOOKUP(Table1[[#This Row],[Indigo ID Number]],'Learning Paths'!$X:$X,'Learning Paths'!AD:AD)","v":0.1},{"$f":"LOOKUP(Table1[[#This Row],[Indigo ID Number]],'Learning Paths'!$X:$X,'Learning Paths'!AE:AE)","v":0},{"$f":"LOOKUP(Table1[[#This Row],[Indigo ID Number]],'Learning Paths'!$X:$X,'Learning Paths'!AF:AF)","v":0}]
[null,"MATH-000",{"$f":"LOOKUP(Table1[[#This Row],[Indigo ID Number]],'Learning Paths'!$X:$X,'Learning Paths'!Y:Y)","v":"Math Strategies for Success"},{"$f":"LOOKUP(Table1[[#This Row],[Indigo ID Number]],'Learning Paths'!$X:$X,'Learning Paths'!Z:Z)","v":"24-05983-002"},{"$f":"LOOKUP(Table1[[#This Row],[Existing Approval No.]],'Learning Paths'!$X:$X,'Learning Paths'!AA:AA)","v":{"$error":"#N/A"}},{"$f":"LOOKUP(Table1[[#This Row],[Indigo ID Number]],'Learning Paths'!$X:$X,'Learning Paths'!AA:AA)","v":0.1},{"$f":"LOOKUP(Table1[[#This Row],[Indigo ID Number]],'Learning Paths'!$X:$X,'Learning Paths'!AB:AB)","v":0.1},{"$f":"LOOKUP(Table1[[#This Row],[Indigo ID Number]],'Learning Paths'!$X:$X,'Learning Paths'!AC:AC)","v":0.1},{"$f":"LOOKUP(Table1[[#This Row],[Indigo ID Number]],'Learning Paths'!$X:$X,'Learning Paths'!AD:AD)","v":0.1},{"$f":"LOOKUP(Table1[[#This Row],[Indigo ID Number]],'Learning Paths'!$X:$X,'Learning Paths'!AE:AE)","v":0.1},{"$f":"LOOKUP(Table1[[#This Row],[Indigo ID Number]],'Learning Paths'!$X:$X,'Learning Paths'!AF:AF)","v":0.1}]
[null,"MATH-001",{"$f":"LOOKUP(Table1[[#This Row],[Indigo ID Number]],'Learning Paths'!$X:$X,'Learning Paths'!Y:Y)","v":"Unit Conversions"},{"$f":"LOOKUP(Table1[[#This Row],[Indigo ID Number]],'Learning Paths'!$X:$X,'Learning Paths'!Z:Z)","v":"24-05984-002"},{"$f":"LOOKUP(Table1[[#This Row],[Existing Approval No.]],'Learning Paths'!$X:$X,'Learning Paths'!AA:AA)","v":{"$error":"#N/A"}},{"$f":"LOOKUP(Table1[[#This Row],[Indigo ID Number]],'Learning Paths'!$X:$X,'Learning Paths'!AA:AA)","v":0.05},{"$f":"LOOKUP(Table1[[#This Row],[Indigo ID Number]],'Learning Paths'!$X:$X,'Learning Paths'!AB:AB)","v":0.05},{"$f":"LOOKUP(Table1[[#This Row],[Indigo ID Number]],'Learning Paths'!$X:$X,'Learning Paths'!AC:AC)","v":0.05},{"$f":"LOOKUP(Table1[[#This Row],[Indigo ID Number]],'Learning Paths'!$X:$X,'Learning Paths'!AD:AD)","v":0.05},{"$f":"LOOKUP(Table1[[#This Row],[Indigo ID Number]],'Learning Paths'!$X:$X,'Learning Paths'!AE:AE)","v":0.05},{"$f":"LOOKUP(Table1[[#This Row],[Indigo ID Number]],'Learning Paths'!$X:$X,'Learning Paths'!AF:AF)","v":0.05}]
[null,"MATH-002",{"$f":"LOOKUP(Table1[[#This Row],[Indigo ID Number]],'Learning Paths'!$X:$X,'Learning Paths'!Y:Y)","v":"Geometry"},{"$f":"LOOKUP(Table1[[#This Row],[Indigo ID Number]],'Learning Paths'!$X:$X,'Learning Paths'!Z:Z)","v":"24-05985-002"},{"$f":"LOOKUP(Table1[[#This Row],[Existing Approval No.]],'Learning Paths'!$X:$X,'Learning Paths'!AA:AA)","v":{"$error":"#N/A"}},{"$f":"LOOKUP(Table1[[#This Row],[Indigo ID Number]],'Learning Paths'!$X:$X,'Learning Paths'!AA:AA)","v":0.05},{"$f":"LOOKUP(Table1[[#This Row],[Indigo ID Number]],'Learning Paths'!$X:$X,'Learning Paths'!AB:AB)","v":0.05},{"$f":"LOOKUP(Table1[[#This Row],[Indigo ID Number]],'Learning Paths'!$X:$X,'Learning Paths'!AC:AC)","v":0.05},{"$f":"LOOKUP(Table1[[#This Row],[Indigo ID Number]],'Learning Paths'!$X:$X,'Learning Paths'!AD:AD)","v":0.05},{"$f":"LOOKUP(Table1[[#This Row],[Indigo ID Number]],'Learning Paths'!$X:$X,'Learning Paths'!AE:AE)","v":0.05},{"$f":"LOOKUP(Table1[[#This Row],[Indigo ID Number]],'Learning Paths'!$X:$X,'Learning Paths'!AF:AF)","v":0.05}]
[null,"MATH-003",{"$f":"LOOKUP(Table1[[#This Row],[Indigo ID Number]],'Learning Paths'!$X:$X,'Learning Paths'!Y:Y)","v":"Chemical Dosing"},{"$f":"LOOKUP(Table1[[#This Row],[Indigo ID Number]],'Learning Paths'!$X:$X,'Learning Paths'!Z:Z)","v":"24-05986-002"},{"$f":"LOOKUP(Table1[[#This Row],[Existing Approval No.]],'Learning Paths'!$X:$X,'Learning Paths'!AA:AA)","v":{"$error":"#N/A"}},{"$f":"LOOKUP(Table1[[#This Row],[Indigo ID Number]],'Learning Paths'!$X:$X,'Learning Paths'!AA:AA)","v":0.05},{"$f":"LOOKUP(Table1[[#This Row],[Indigo ID Number]],'Learning Paths'!$X:$X,'Learning Paths'!AB:AB)","v":0.05},{"$f":"LOOKUP(Table1[[#This Row],[Indigo ID Number]],'Learning Paths'!$X:$X,'Learning Paths'!AC:AC)","v":0.05},{"$f":"LOOKUP(Table1[[#This Row],[Indigo ID Number]],'Learning Paths'!$X:$X,'Learning Paths'!AD:AD)","v":0.05},{"$f":"LOOKUP(Table1[[#This Row],[Indigo ID Number]],'Learning Paths'!$X:$X,'Learning Paths'!AE:AE)","v":0.05},{"$f":"LOOKUP(Table1[[#This Row],[Indigo ID Number]],'Learning Paths'!$X:$X,'Learning Paths'!AF:AF)","v":0.05}]
[null,"MATH-004",{"$f":"LOOKUP(Table1[[#This Row],[Indigo ID Number]],'Learning Paths'!$X:$X,'Learning Paths'!Y:Y)","v":"Velocity and Hydraulic Detention Time"},{"$f":"LOOKUP(Table1[[#This Row],[Indigo ID Number]],'Learning Paths'!$X:$X,'Learning Paths'!Z:Z)","v":"24-05987-001"},{"$f":"LOOKUP(Table1[[#This Row],[Existing Approval No.]],'Learning Paths'!$X:$X,'Learning Paths'!AA:AA)","v":{"$error":"#N/A"}},{"$f":"LOOKUP(Table1[[#This Row],[Indigo ID Number]],'Learning Paths'!$X:$X,'Learning Paths'!AA:AA)","v":0.1},{"$f":"LOOKUP(Table1[[#This Row],[Indigo ID Number]],'Learning Paths'!$X:$X,'Learning Paths'!AB:AB)","v":0.1},{"$f":"LOOKUP(Table1[[#This Row],[Indigo ID Number]],'Learning Paths'!$X:$X,'Learning Paths'!AC:AC)","v":0.1},{"$f":"LOOKUP(Table1[[#This Row],[Indigo ID Number]],'Learning Paths'!$X:$X,'Learning Paths'!AD:AD)","v":0.1},{"$f":"LOOKUP(Table1[[#This Row],[Indigo ID Number]],'Learning Paths'!$X:$X,'Learning Paths'!AE:AE)","v":0.1},{"$f":"LOOKUP(Table1[[#This Row],[Indigo ID Number]],'Learning Paths'!$X:$X,'Learning Paths'!AF:AF)","v":0.1}]
[null,"SAF-001",{"$f":"LOOKUP(Table1[[#This Row],[Indigo ID Number]],'Learning Paths'!$X:$X,'Learning Paths'!Y:Y)","v":"Trenching and Shoring"},{"$f":"LOOKUP(Table1[[#This Row],[Indigo ID Number]],'Learning Paths'!$X:$X,'Learning Paths'!Z:Z)","v":"24-05998-001"},{"$f":"LOOKUP(Table1[[#This Row],[Existing Approval No.]],'Learning Paths'!$X:$X,'Learning Paths'!AA:AA)","v":{"$error":"#N/A"}},{"$f":"LOOKUP(Table1[[#This Row],[Indigo ID Number]],'Learning Paths'!$X:$X,'Learning Paths'!AA:AA)","v":0.25},{"$f":"LOOKUP(Table1[[#This Row],[Indigo ID Number]],'Learning Paths'!$X:$X,'Learning Paths'!AB:AB)","v":0},{"$f":"LOOKUP(Table1[[#This Row],[Indigo ID Number]],'Learning Paths'!$X:$X,'Learning Paths'!AC:AC)","v":0},{"$f":"LOOKUP(Table1[[#This Row],[Indigo ID Number]],'Learning Paths'!$X:$X,'Learning Paths'!AD:AD)","v":0},{"$f":"LOOKUP(Table1[[#This Row],[Indigo ID Number]],'Learning Paths'!$X:$X,'Learning Paths'!AE:AE)","v":0.25},{"$f":"LOOKUP(Table1[[#This Row],[Indigo ID Number]],'Learning Paths'!$X:$X,'Learning Paths'!AF:AF)","v":0.25}]
[null,"SAF-002",{"$f":"LOOKUP(Table1[[#This Row],[Indigo ID Number]],'Learning Paths'!$X:$X,'Learning Paths'!Y:Y)","v":"Confined Space Entry"},{"$f":"LOOKUP(Table1[[#This Row],[Indigo ID Number]],'Learning Paths'!$X:$X,'Learning Paths'!Z:Z)","v":"24-05999-001"},{"$f":"LOOKUP(Table1[[#This Row],[Existing Approval No.]],'Learning Paths'!$X:$X,'Learning Paths'!AA:AA)","v":{"$error":"#N/A"}},{"$f":"LOOKUP(Table1[[#This Row],[Indigo ID Number]],'Learning Paths'!$X:$X,'Learning Paths'!AA:AA)","v":0.15},{"$f":"LOOKUP(Table1[[#This Row],[Indigo ID Number]],'Learning Paths'!$X:$X,'Learning Paths'!AB:AB)","v":0},{"$f":"LOOKUP(Table1[[#This Row],[Indigo ID Number]],'Learning Paths'!$X:$X,'Learning Paths'!AC:AC)","v":0},{"$f":"LOOKUP(Table1[[#This Row],[Indigo ID Number]],'Learning Paths'!$X:$X,'Learning Paths'!AD:AD)","v":0},{"$f":"LOOKUP(Table1[[#This Row],[Indigo ID Number]],'Learning Paths'!$X:$X,'Learning Paths'!AE:AE)","v":0},{"$f":"LOOKUP(Table1[[#This Row],[Indigo ID Number]],'Learning Paths'!$X:$X,'Learning Paths'!AF:AF)","v":0}]
[null,"WATER-001",{"$f":"LOOKUP(Table1[[#This Row],[Indigo ID Number]],'Learning Paths'!$X:$X,'Learning Paths'!Y:Y)","v":"Introduction to Small Water Systems"},{"$f":"LOOKUP(Table1[[#This Row],[Indigo ID Number]],'Learning Paths'!$X:$X,'Learning Paths'!Z:Z)","v":"24-06034-002"},{"$f":"LOOKUP(Table1[[#This Row],[Existing Approval No.]],'Learning Paths'!$X:$X,'Learning Paths'!AA:AA)","v":{"$error":"#N/A"}},{"$f":"LOOKUP(Table1[[#This Row],[Indigo ID Number]],'Learning Paths'!$X:$X,'Learning Paths'!AA:AA)","v":0.15},{"$f":"LOOKUP(Table1[[#This Row],[Indigo ID Number]],'Learning Paths'!$X:$X,'Learning Paths'!AB:AB)","v":0.15},{"$f":"LOOKUP(Table1[[#This Row],[Indigo ID Number]],'Learning Paths'!$X:$X,'Learning Paths'!AC:AC)","v":0},{"$f":"LOOKUP(Table1[[#This Row],[Indigo ID Number]],'Learning Paths'!$X:$X,'Learning Paths'!AD:AD)","v":0},{"$f":"LOOKUP(Table1[[#This Row],[Indigo ID Number]],'Learning Paths'!$X:$X,'Learning Paths'!AE:AE)","v":0.15},{"$f":"LOOKUP(Table1[[#This Row],[Indigo ID Number]],'Learning Paths'!$X:$X,'Learning Paths'!AF:AF)","v":0}]
[null,"WATER-002",{"$f":"LOOKUP(Table1[[#This Row],[Indigo ID Number]],'Learning Paths'!$X:$X,'Learning Paths'!Y:Y)","v":"Water Sources Part 1"},{"$f":"LOOKUP(Table1[[#This Row],[Indigo ID Number]],'Learning Paths'!$X:$X,'Learning Paths'!Z:Z)","v":"24-06035-001"},{"$f":"LOOKUP(Table1[[#This Row],[Existing Approval No.]],'Learning Paths'!$X:$X,'Learning Paths'!AA:AA)","v":{"$error":"#N/A"}},{"$f":"LOOKUP(Table1[[#This Row],[Indigo ID Number]],'Learning Paths'!$X:$X,'Learning Paths'!AA:AA)","v":0.15},{"$f":"LOOKUP(Table1[[#This Row],[Indigo ID Number]],'Learning Paths'!$X:$X,'Learning Paths'!AB:AB)","v":0.15},{"$f":"LOOKUP(Table1[[#This Row],[Indigo ID Number]],'Learning Paths'!$X:$X,'Learning Paths'!AC:AC)","v":0.1},{"$f":"LOOKUP(Table1[[#This Row],[Indigo ID Number]],'Learning Paths'!$X:$X,'Learning Paths'!AD:AD)","v":0.1},{"$f":"LOOKUP(Table1[[#This Row],[Indigo ID Number]],'Learning Paths'!$X:$X,'Learning Paths'!AE:AE)","v":0.1},{"$f":"LOOKUP(Table1[[#This Row],[Indigo ID Number]],'Learning Paths'!$X:$X,'Learning Paths'!AF:AF)","v":0.05}]
[null,"WATER-003",{"$f":"LOOKUP(Table1[[#This Row],[Indigo ID Number]],'Learning Paths'!$X:$X,'Learning Paths'!Y:Y)","v":"Water Sources Part 2"},{"$f":"LOOKUP(Table1[[#This Row],[Indigo ID Number]],'Learning Paths'!$X:$X,'Learning Paths'!Z:Z)","v":"24-06036-001"},{"$f":"LOOKUP(Table1[[#This Row],[Existing Approval No.]],'Learning Paths'!$X:$X,'Learning Paths'!AA:AA)","v":{"$error":"#N/A"}},{"$f":"LOOKUP(Table1[[#This Row],[Indigo ID Number]],'Learning Paths'!$X:$X,'Learning Paths'!AA:AA)","v":0.1},{"$f":"LOOKUP(Table1[[#This Row],[Indigo ID Number]],'Learning Paths'!$X:$X,'Learning Paths'!AB:AB)","v":0.1},{"$f":"LOOKUP(Table1[[#This Row],[Indigo ID Number]],'Learning Paths'!$X:$X,'Learning Paths'!AC:AC)","v":0},{"$f":"LOOKUP(Table1[[#This Row],[Indigo ID Number]],'Learning Paths'!$X:$X,'Learning Paths'!AD:AD)","v":0.1},{"$f":"LOOKUP(Table1[[#This Row],[Indigo ID Number]],'Learning Paths'!$X:$X,'Learning Paths'!AE:AE)","v":0.1},{"$f":"LOOKUP(Table1[[#This Row],[Indigo ID Number]],'Learning Paths'!$X:$X,'Learning Paths'!AF:AF)","v":0}]
[null,"WATER-004",{"$f":"LOOKUP(Table1[[#This Row],[Indigo ID Number]],'Learning Paths'!$X:$X,'Learning Paths'!Y:Y)","v":"Drinking Water Treatment Part 1"},{"$f":"LOOKUP(Table1[[#This Row],[Indigo ID Number]],'Learning Paths'!$X:$X,'Learning Paths'!Z:Z)","v":"24-06037-001"},{"$f":"LOOKUP(Table1[[#This Row],[Existing Approval No.]],'Learning Paths'!$X:$X,'Learning Paths'!AA:AA)","v":{"$error":"#N/A"}},{"$f":"LOOKUP(Table1[[#This Row],[Indigo ID Number]],'Learning Paths'!$X:$X,'Learning Paths'!AA:AA)","v":0.25},{"$f":"LOOKUP(Table1[[#This Row],[Indigo ID Number]],'Learning Paths'!$X:$X,'Learning Paths'!AB:AB)","v":0.25},{"$f":"LOOKUP(Table1[[#This Row],[Indigo ID Number]],'Learning Paths'!$X:$X,'Learning Paths'!AC:AC)","v":0},{"$f":"LOOKUP(Table1[[#This Row],[Indigo ID Number]],'Learning Paths'!$X:$X,'Learning Paths'!AD:AD)","v":0},{"$f":"LOOKUP(Table1[[#This Row],[Indigo ID Number]],'Learning Paths'!$X:$X,'Learning Paths'!AE:AE)","v":0},{"$f":"LOOKUP(Table1[[#This Row],[Indigo ID Number]],'Learning Paths'!$X:$X,'Learning Paths'!AF:AF)","v":0}]
[null,"WATER-005",{"$f":"LOOKUP(Table1[[#This Row],[Indigo ID Number]],'Learning Paths'!$X:$X,'Learning Paths'!Y:Y)","v":"Water Treatment Part 2 (Disinfection, Water Focus)"},{"$f":"LOOKUP(Table1[[#This Row],[Indigo ID Number]],'Learning Paths'!$X:$X,'Learning Paths'!Z:Z)","v":"24-06038-001"},{"$f":"LOOKUP(Table1[[#This Row],[Existing Approval No.]],'Learning Paths'!$X:$X,'Learning Paths'!AA:AA)","v":{"$error":"#N/A"}},{"$f":"LOOKUP(Table1[[#This Row],[Indigo ID Number]],'Learning Paths'!$X:$X,'Learning Paths'!AA:AA)","v":0.25},{"$f":"LOOKUP(Table1[[#This Row],[Indigo ID Number]],'Learning Paths'!$X:$X,'Learning Paths'!AB:AB)","v":0.25},{"$f":"LOOKUP(Table1[[#This Row],[Indigo ID Number]],'Learning Paths'!$X:$X,'Learning Paths'!AC:AC)","v":0.25},{"$f":"LOOKUP(Table1[[#This Row],[Indigo ID Number]],'Learning Paths'!$X:$X,'Learning Paths'!AD:AD)","v":0.25},{"$f":"LOOKUP(Table1[[#This Row],[Indigo ID Number]],'Learning Paths'!$X:$X,'Learning Paths'!AE:AE)","v":0.25},{"$f":"LOOKUP(Table1[[#This Row],[Indigo ID Number]],'Learning Paths'!$X:$X,'Learning Paths'!AF:AF)","v":0}]
[null,"WATER-006",{"$f":"LOOKUP(Table1[[#This Row],[Indigo ID Number]],'Learning Paths'!$X:$X,'Learning Paths'!Y:Y)","v":"Intro to Distribution Systems"},{"$f":"LOOKUP(Table1[[#This Row],[Indigo ID Number]],'Learning Paths'!$X:$X,'Learning Paths'!Z:Z)","v":"24-06696-001"},{"$f":"LOOKUP(Table1[[#This Row],[Existing Approval No.]],'Learning Paths'!$X:$X,'Learning Paths'!AA:AA)","v":{"$error":"#N/A"}},{"$f":"LOOKUP(Table1[[#This Row],[Indigo ID Number]],'Learning Paths'!$X:$X,'Learning Paths'!AA:AA)","v":0.15},{"$f":"LOOKUP(Table1[[#This Row],[Indigo ID Number]],'Learning Paths'!$X:$X,'Learning Paths'!AB:AB)","v":0.1},{"$f":"LOOKUP(Table1[[#This Row],[Indigo ID Number]],'Learning Paths'!$X:$X,'Learning Paths'!AC:AC)","v":0.1},{"$f":"LOOKUP(Table1[[#This Row],[Indigo ID Number]],'Learning Paths'!$X:$X,'Learning Paths'!AD:AD)","v":0.1},{"$f":"LOOKUP(Table1[[#This Row],[Indigo ID Number]],'Learning Paths'!$X:$X,'Learning Paths'!AE:AE)","v":0.15},{"$f":"LOOKUP(Table1[[#This Row],[Indigo ID Number]],'Learning Paths'!$X:$X,'Learning Paths'!AF:AF)","v":0.1}]
[null,"WATER-007",{"$f":"LOOKUP(Table1[[#This Row],[Indigo ID Number]],'Learning Paths'!$X:$X,'Learning Paths'!Y:Y)","v":"MRT Drinking Water Regulatory Course"},{"$f":"LOOKUP(Table1[[#This Row],[Indigo ID Number]],'Learning Paths'!$X:$X,'Learning Paths'!Z:Z)","v":"24-06743-002"},{"$f":"LOOKUP(Table1[[#This Row],[Existing Approval No.]],'Learning Paths'!$X:$X,'Learning Paths'!AA:AA)","v":{"$error":"#N/A"}},{"$f":"LOOKUP(Table1[[#This Row],[Indigo ID Number]],'Learning Paths'!$X:$X,'Learning Paths'!AA:AA)","v":0.3},{"$f":"LOOKUP(Table1[[#This Row],[Indigo ID Number]],'Learning Paths'!$X:$X,'Learning Paths'!AB:AB)","v":0.3},{"$f":"LOOKUP(Table1[[#This Row],[Indigo ID Number]],'Learning Paths'!$X:$X,'Learning Paths'!AC:AC)","v":0},{"$f":"LOOKUP(Table1[[#This Row],[Indigo ID Number]],'Learning Paths'!$X:$X,'Learning Paths'!AD:AD)","v":0},{"$f":"LOOKUP(Table1[[#This Row],[Indigo ID Number]],'Learning Paths'!$X:$X,'Learning Paths'!AE:AE)","v":0.3},{"$f":"LOOKUP(Table1[[#This Row],[Indigo ID Number]],'Learning Paths'!$X:$X,'Learning Paths'!AF:AF)","v":0}]
[]
[null,"Counts as 30-days of hands-on experience for operators",null,null,null,"MAX","W","WW","I","D","C"]
[null,"taking the D or S level certification exams.",null,"TUs",null,{"$f":"SUM(F4:F27)","v":3.5500000000000003},3.1000000000000005,2.2500000000000004,2.3500000000000005,2.7500000000000004,1.6000000000000005]
[null,null,null,"Minutes",null,{"$f":"F30*10*60","v":2130},1860.0000000000005,1350.0000000000002,1410.0000000000005,1650.0000000000002,960.00000000000045]
[]
[null,"All courses within the short school must be completed for this course to count for EITHER 30-days of hands-on entry level experience OR as a substitute for a high school diploma."]
[null,"Training Units or CEUs are issued for each topic as it is completed."]
[]
[null,null,null,"Course Cost",null,550]

{"sheet":"Exam Cram","index":5,"n_rows":98,"n_cols":20,"rows_kept":98,"cut":false,"hidden":false,"merged":[]}
["Wastewater Exam Cram"]
[]
["Topic","Start","End","Time",null,null,"W","WW","I","D","C",null,"# Slides"]
["Registration","07:45:00","08:00:00",{"$f":"C4-B4","v":"00:15:00"}]
["Pumps","08:00:00","10:00:00",{"$f":"C5-B5","v":"02:00:00"},null,null,0.2,0.2,0.2,0.2,0.2,null,131]
["Break","10:00:00","10:15:00","00:15:00"]
["Basic Math","10:15:00","11:45:00","01:30:00",null,null,0.15,0.15,0.15,0.15,0.15]
["Lunch","11:45:00","12:30:00","00:45:00",null,null,null,null,null,null,null,null,81,"Biological Treatment Basics"]
["Lagoons and Fixed Film","12:30:00","14:30:00","02:00:00",null,null,0.1,0.2,0.2,null,null,null,56,"Lagoons"]
["Break","14:30:00","14:45:00","00:15:00",null,null,null,null,null,null,null,null,78,"Fixed Film"]
["Chlorine Disinfection","14:45:00","16:45:00","02:00:00",null,null,0.2,0.2,0.2,0.2,null,null,99]
["Total TUs for Day 1",null,null,{"$f":"SUM(D5,D7,D9,D11)","v":"07:30:00"},null,null,{"$f":"SUM(G4:G11)","v":0.64999999999999991},{"$f":"SUM(H4:H11)","v":0.75},0.75,0.55000000000000004,0.35,null,{"$f":"SUM(M4:M11)","v":445},"Total"]
[]
["Wastewater Exam Cram - Day 2"]
[]
["Topic","Start","End","Time",null,null,"W","WW","I","D","C"]
["Registration","07:45:00","08:00:00",{"$f":"C17-B17","v":"00:15:00"}]
["Activated Sludge - Part 1","08:00:00","10:00:00",{"$f":"C18-B18","v":"02:00:00"},null,null,null,0.2,0.2,null,null,null,148]
["Break","10:00:00","10:15:00","00:15:00"]
["Activated Sludge - Part 2","10:15:00","11:15:00","01:00:00",null,null,null,0.1,0.1,null,null,null,74]
["Lunch","11:15:00","12:00:00","00:45:00"]
["Advanced Math","12:00:00","14:00:00","02:00:00",null,null,0.2,0.2,0.2,0.2,0.2]
["Break","14:00:00","14:15:00","00:15:00"]
["Nitrogen Removal","14:15:00","15:45:00","01:30:00",null,null,0.15,0.15,0.15,null,null,null,{"$f":"143-25","v":118}]
["Phosphorus Removal","15:45:00","17:00:00","01:15:00",null,null,null,0.1,0.1,null,null,null,54]
["Total TUs for Day 2",null,null,{"$f":"SUM(D18,D20,D22,D24,D25)","v":"07:45:00"},null,null,{"$f":"SUM(G17:G25)","v":0.35},{"$f":"SUM(H17:H25)","v":0.75},0.75,0.2,0.2,null,{"$f":"SUM(M17:M25)","v":394},"Total"]
[]
["Wastewater Exam Cram - Day 3"]
[]
["Topic","Start","End","Time",null,null,"W","WW","I","D","C"]
["Registration","07:45:00","08:00:00",{"$f":"C31-B31","v":"00:15:00"}]
["Solids Digestion - Part 1","08:00:00","10:00:00",{"$f":"C32-B32","v":"02:00:00"},null,null,null,0.2,0.2,null,null,null,119]
["Break","10:00:00","10:15:00","00:15:00"]
["Solids Digestion - Part 2","10:15:00","10:45:00","00:30:00",null,null,null,0.05,0.05]
["Dewatering - Part 1 (Centrifuges)","10:45:00","11:15:00","00:30:00",null,null,0.05,0.05,0.05,null,null,null,59]
["Lunch","11:15:00","12:00:00","00:45:00"]
["Dewatering - Part 2 (BFPs)","12:00:00","13:00:00","01:00:00",null,null,0.1,0.1,0.1,null,null,null,71]
["Applied Biosolids Math","13:00:00","14:00:00","01:00:00",null,null,0.1,0.1,null,0.1,0.1]
["Break","14:00:00","14:15:00","00:15:00"]
["Lift Stations","14:15:00","15:15:00","01:00:00",null,null,0.1,0.1,0.1,0.1,null,null,72]
["Backflow Preventers",{"$f":"C40","v":"15:15:00"},"15:45:00",{"$f":"C41-B41","v":"00:30:00"},null,null,0.05,0.05,0.05,0.05,null,null,36]
["Laboratory",{"$f":"C41","v":"15:45:00"},"17:00:00","01:15:00",null,null,0.1,0.1,0.1,0.1,null,null,60]
["Total TUs for Day 3",null,null,{"$f":"SUM(D31:D42)-D31-D33-D36-D39","v":"07:45:00"},null,null,{"$f":"SUM(G31:G42)","v":0.5},{"$f":"SUM(H31:H42)","v":0.75},0.7,0.35,0.1,null,{"$f":"SUM(M32:M42)","v":417},"Total"]
[]
["Total TUs Attainable"]
["Topic","Start","End","Time",null,null,"W","WW","I","D","C"]
["Day 1","08:00:00","17:00:00",{"$f":"D12","v":"07:30:00"},null,null,{"$f":"G12","v":0.64999999999999991},0.75,0.75,0.55000000000000004,0.35]
["Day 2","08:00:00","17:00:00",{"$f":"D26","v":"07:45:00"},null,null,{"$f":"G26","v":0.35},0.75,0.75,0.2,0.2]
["Day 3","08:00:00","17:00:00",{"$f":"D43","v":"07:45:00"},null,null,{"$f":"G43","v":0.5},0.75,0.7,0.35,0.1]
[null,null,null,null,null,null,{"$f":"SUM(G47:G49)","v":1.5},{"$f":"SUM(H47:H49)","v":2.25},2.2000000000000002,1.1000000000000001,0.65]
[]
["Brochure:"]
["https://www.indigowatergroup.com/wp-content/uploads/2021/04/2021-Exam-Cram-Brochure.pdf"]
[]
[]
["Day 1 Topics","Start","End","Time","Slides","Max","W","WW","I","D","C"]
["Pumps","08:00:00",{"$f":"B57+D57","v":"09:30:00"},"01:30:00",133,0.15,0.15,0.15,0.15,0.15,0.15]
["Lift Stations",{"$f":"C57","v":"09:30:00"},{"$f":"B58+D58","v":"11:00:00"},"01:30:00",89,0.15,0,0.15,0.15,0,0.15]
["Lunch",{"$f":"C58","v":"11:00:00"},"11:45:00","00:45:00"]
["Basic Math","11:45:00","12:45:00","01:00:00",null,0.1,0.1,0.1,0.1,0.1,0.1]
["Preliminary / Primary Treatment","12:45:00","15:15:00","02:30:00",162,0.25,0,0.25,0.25,0,0]
["Backflow Preventers","15:15:00","15:45:00","00:30:00",30,0.05,0.05,0.05,0.05,0.05,0.05]
["Gimkit Review",{"$f":"C62","v":"15:45:00"},{"$f":"B63+D63","v":"16:15:00"},"00:30:00",null,0.05,0,0.05,0.05,0,0]
["Day 1 Total",null,null,null,null,{"$f":"SUM(F57:F63)","v":0.75000000000000011},{"$f":"SUM(G57:G63)","v":0.3},0.75000000000000011,0.75000000000000011,0.3,0.45]
[]
["Day 2 Topics","Start","End","Time","Slides","Max","W","WW","I","D","C"]
["Lagoons","08:00:00",{"$f":"B67+D67","v":"09:30:00"},"01:30:00",75,0.15,"00:00:00",0.15,0.15,0,0]
["Fixed Film",{"$f":"C67","v":"09:30:00"},{"$f":"B68+D68","v":"11:00:00"},"01:30:00",78,0.15,0.15,0.15,0.15,0,0]
["Lunch",{"$f":"C68","v":"11:00:00"},"11:45:00","00:45:00",null,0.2,0.2,0.2,0.2,0.2,0]
["Disinfection","11:45:00","13:45:00","02:00:00",96]
["Intro to Activated Sludge","13:45:00","14:45:00","01:00:00",46,0.1,0,0.1,0.1,0,0]
["Aerobic Digestion","14:45:00","15:15:00","00:30:00",21,0.05,0,0.05,0.05,0,0]
["Laboratory Testing - pH, alkalinity, and BOD","15:15:00","15:45:00","00:30:00",{"$f":"30+46+39","v":115},0.05,0,0.05,0.05,0,0,null,{"$f":"SUM(E67:E73)","v":431},{"$f":"(M73/4)/2","v":53.875},"7 mm"]
["Laboratory Testing - Total Suspended Solids",{"$f":"C73","v":"15:45:00"},{"$f":"B74+D74","v":"16:15:00"},"00:30:00",0.05,0.05,0.05,0.05,0.05,0,0]
["Day 2 Total",null,null,null,null,{"$f":"SUM(F67:F74)","v":0.75000000000000011},{"$f":"SUM(G67:G74)","v":0.39999999999999997},0.75000000000000011,0.75000000000000011,0.2,0]
[]
["Day 3 Topics","Start","End","Time","Slides","Max","W","WW","I","D","C"]
["Biological Treatment Basics","08:00:00",{"$f":"B78+D78","v":"09:00:00"},"01:00:00",81,0.1,0,0.1,0.1,0,0,null,null,null,null,null,null,"08:00:00","09:00:00","1. Biological Treatment Basics"]
["Activated Sludge Process Control",{"$f":"C78","v":"09:00:00"},{"$f":"B79+D79","v":"11:00:00"},"02:00:00",125,0.2,0,0.2,0.2,0,0,null,null,null,null,null,null,"09:00:00","11:00:00","2. Activated Sludge Process Control"]
["Activated Sludge Microbiology",{"$f":"C79","v":"11:00:00"},"12:00:00","01:00:00",74,0.1,0,0.1,0.1,0,0,null,null,null,null,null,null,"11:00:00","12:00:00","3. Activated Sludge Microbiology"]
["Lunch","12:00:00","12:45:00","00:45:00",null,null,null,null,null,null,null,null,null,null,null,null,null,"12:00:00","13:30:00","Lunch"]
["Activated Sludge Math","12:45:00","13:45:00","01:00:00",null,0.1,0.1,0.1,0.1,0.1,0.1,null,null,null,null,null,null,"13:30:00","15:30:00","4. Nitrogen Removal"]
["Nitrogen Removal","13:45:00","15:15:00","01:30:00",143,0.15,0.15,0.15,0.15,0,0,null,null,null,null,null,null,"15:30:00","16:30:00","5. Phosphorus Removal"]
["Phosphorus Removal","15:15:00","16:15:00","01:00:00",82,0.1,0,0.1,0.1,0,0,null,{"$f":"SUM(E78:E84)","v":505},{"$f":"(M84/4)/2","v":63.125},"9 mm"]
["Day 3 Total",null,null,null,null,{"$f":"SUM(F77:F84)","v":0.75},{"$f":"SUM(G77:G84)","v":0.25},{"$f":"SUM(H77:H84)","v":0.75},{"$f":"SUM(I77:I84)","v":0.75},{"$f":"SUM(J77:J84)","v":0.1},{"$f":"SUM(K77:K84)","v":0.1}]
[]
[]
["Day 4 Topics","Start","End","Time","Slides","Max","W","WW","I","D","C"]
["Anaerobic Digestion","08:00:00",{"$f":"B89+D89","v":"10:30:00"},"02:30:00",127,0.25,0,0.25,0.25,0,0]
["Thickening",{"$f":"C89","v":"10:30:00"},{"$f":"B90+D90","v":"11:30:00"},"01:00:00",null,0.1,0.1,0.1,0.1,0,0]
["Lunch",{"$f":"C90","v":"11:30:00"},"12:15:00","00:45:00"]
["Solids Handling Math","12:15:00","13:15:00","01:00:00",null,0.1,0.1,0.1,0.1,0.1,0.1]
["Dewatering - Centrifuges","13:15:00","14:15:00","01:00:00",null,0.1,0.1,0.1,0.1,0.1,0.1]
["Dewatering - Belt Filter Presses","14:15:00","15:45:00","01:30:00",null,0.15,0.15,0.15,0.15,0.15,0.15]
["Odor Control",{"$f":"C94","v":"15:45:00"},{"$f":"B95+D95","v":"16:15:00"},"00:30:00",null,0.05,0.05,0.05,0.05,0,0.05,null,{"$f":"SUM(E89:E94)","v":127},{"$f":"(M95/4+20)/2","v":25.875},"7 mm"]
["Day 4 Total",null,null,null,null,{"$f":"SUM(F88:F95)","v":0.75},{"$f":"SUM(G88:G95)","v":0.50000000000000011},{"$f":"SUM(H88:H95)","v":0.75},{"$f":"SUM(I88:I95)","v":0.75},{"$f":"SUM(J88:J95)","v":0.35},{"$f":"SUM(K88:K95)","v":0.39999999999999997}]
[]
["Total",null,null,null,null,{"$f":"F64+F75+F85+F96","v":3},{"$f":"G64+G75+G85+G96","v":1.4500000000000002},3,3,0.95,0.95]